Workbook
Name mattone: #REF!
Name PIETRAoSASSO: #REF!
Name Reticolato: #REF!

Sheet RETICOLA 
D1: TAVOLA 05-07 | E1: =_xlfn.CONCAT("Sistema Reticola Trefolo ",C4, " mm, ", "maglia ",B4) -> Sistema Reticola Trefolo 3 mm, maglia 30x30 cm
A3: Tipologia di supporto | B3: Maglia | C3: Diametro Trefolo (mm) | D3: Sp. muro (cm) | I3: Cella di appoggio | J3: Testo (1) | K3: Articolo Trefolo | L3: Consumo Trefolo/m | M3: €/m trefolo | N3: Connettore A | O3: Qtà Connettore A | P3: € u Connettore A | Q3: Connettore B | R3: Qtà Connettore B | S3: € u Connettore B | T3: L connettore (m) | U3: Angolare | V3: Qtà Angolare | W3: € u Angolare | X3: Morsetto | Y3: Qtà morsetto | Z3: € u Morsetto | AA3: Consumo Vinyl | AB3: Consumo TOT Vinyl | AC3: € kg Vinyl | AD3: Nome Malta | AE3: Descrizione Malta | AF3: Rck (Mpa) | AG3: Consumo Malta | AH3: € u Malta | AI3: Scarifica giunti | AJ3: Realizzazione perfori | AK3: applicazione trefoli e connettori | AL3: ristilatura giunti | AM3: Testo (2) | AN3: Testo (3)
A4: pietrame | B4: 30x30 cm | C4: 3 | D4: 60 | I4: {=_xlfn.UNIQUE(_xlfn._xlws.FILTER('DATI reticola'!B2:B1800,'DATI reticola'!A2:A1800='RETICOLA '!A4))} -> 30x30 cm | J4: =IFERROR(IF(VLOOKUP(A4,'DATI reticola'!A:C,3,0)=0,"",VLOOKUP(A4,'DATI reticola'!A:C,3,0)),"") -> per il rinforzo diffuso | K4: =VLOOKUP(C4,'DATI reticola'!D:G,2,0) -> FBRT-03-I49 | L4: =VLOOKUP(B4,'DATI reticola'!B:G,5,0) -> 7.8 | M4: =VLOOKUP(K4,'DATI reticola'!E:G,3,0) -> 1.8 | N4: =VLOOKUP(D4,'DATI reticola'!H:O,2,0) -> FBRC-400-08-IN | O4: =VLOOKUP(D4,'DATI reticola'!H:O,3,0) -> 3 | P4: =VLOOKUP(D4,'DATI reticola'!H:O,4,0) -> 7.75 | Q4: =VLOOKUP(D4,'DATI reticola'!H:O,5,0) -> FBRC-400-08-INFR | R4: =VLOOKUP(D4,'DATI reticola'!H:O,6,0) -> 2 | S4: =VLOOKUP(D4,'DATI reticola'!H:O,7,0) -> 5.6 | T4: =VLOOKUP(D4,'DATI reticola'!H:O,8,0) -> 0.4 | U4: =VLOOKUP(A4,'DATI reticola'!A:R,16,0) -> FBR-ANG-130X30 | V4: =VLOOKUP(A4,'DATI reticola'!A:R,17,0) -> 1 | W4: =VLOOKUP(U4,'DATI reticola'!P:R,3,0) -> 3.15 | X4: =VLOOKUP(C4,'DATI reticola'!D:U,16,0) -> FBR-MOR-3I | Y4: =VLOOKUP(C4,'DATI reticola'!D:U,17,0) -> 2 | Z4: =VLOOKUP(C4,'DATI reticola'!D:U,18,0) -> 0.65 | AA4: 0.166 | AB4: =VLOOKUP(D4,'DATI reticola'!H:Y,17,0) -> 0.332 | AC4: =VLOOKUP(D4,'DATI reticola'!H:Y,18,0) -> 33.25 | AD4: =VLOOKUP(A7,'DATI reticola'!V:Z,5,0) -> EPOCA CALCE NHL 115 | AE4: =VLOOKUP(A7,'DATI reticola'!V:AD,6,0) -> malta a base calce nhl per interventi di restauro e rinforzo strutturale di elementi in muratura | AF4: =VLOOKUP(A7,'DATI reticola'!V:AD,7,0) -> ≥ 15 | AG4: =VLOOKUP(A7,'DATI reticola'!V:AD,8,0) -> 17 | AH4: =VLOOKUP(A7,'DATI reticola'!V:AD,9,0) -> 0.604 | AI4: 0.2 | AJ4: 0.2 | AK4: 0.25 | AL4: 0.2 | AM4: =VLOOKUP(A4,'DATI reticola'!A:AJ,35,0) -> a formare una maglia di | AN4: =VLOOKUP(A4,'DATI reticola'!A:AJ,36,0) -> di piccola o media pezzatura
I5: 40x40 cm | AD5: 0
A6: Tipologia Malta
A7: CNHL115
A9: VOCE DI CAPITOLATO
A10: =_xlfn.CONCAT( "Consolidamento o rinforzo di pareti in ", A4, IF(AN4=0,""," "&AN4), ", in presenza o meno di listatura, del tipo faccia a vista su una faccia, mediante la tecnica della ristilatura armata dai giunti con sistema RETICOLA di Fibre Net, o equivalente, con applicazione di armatura sottofuga. Tale tecnica prevede: " ) -> Consolidamento o rinforzo di pareti in pietrame di piccola o media pezzatura, in presenza o meno di listatura, del tipo faccia a vista su una faccia, mediante la tecnica della ristilatura armata dai giunti con sistema RETICOLA di Fibre Net, o equivalente, con applicazione di armatura sottofuga. Tale tecnica prevede:
A11: =_xlfn.CONCAT("1. L’applicazione, sulla facciata da mantenere a vista, di trefolo metallico in acciaio inox AISI 316 a 49 fili, diametro ",C4, " mm, da annegare nella malta di ristilatura seguendo i giunti precedentemente individuati e debitamente scarificati e ripuliti, ",AM4,"",B4," ",J4,"secondo la tecnica ""Reticolatus"";",) -> 1. L’applicazione, sulla facciata da mantenere a vista, di trefolo metallico in acciaio inox AISI 316 a 49 fili, diametro 3 mm, da annegare nella malta di ristilatura seguendo i giunti precedentemente individuati e debitamente scarificati e ripuliti, a formare una maglia di 30x30 cm per il rinforzo diffuso secondo la tecnica "Reticolatus"; | AD11: 0
A12: =_xlfn.CONCAT("2. L’inserimento in perfori non passanti iniettati con ancorante VINYL-400 di Fibre Net, o equivalente, o idonee miscele leganti da eseguire in numero di ", ,O4+R4, "/mq, di idonei connettori costituiti da barra in acciaio inox diametro 8 mm, e lunghezza opportuna, da inserire nella muratura fino a raggiungimento di 2/3 dello spessore murario, completi di sistema di aggancio ai trefoli;") -> 2. L’inserimento in perfori non passanti iniettati con ancorante VINYL-400 di Fibre Net, o equivalente, o idonee miscele leganti da eseguire in numero di 5/mq, di idonei connettori costituiti da barra in acciaio inox diametro 8 mm, e lunghezza opportuna, da inserire nella muratura fino a raggiungimento di 2/3 dello spessore murario, completi di sistema di aggancio ai trefoli;
A13: =_xlfn.CONCAT("3. La stilatura della faccia a vista della muratura con malta ",A7, " con resistenza a compressione ",AD4, " MPa, da eseguirsi con idonei strumenti metallici secondo le indicazioni della D.L.") -> 3. La stilatura della faccia a vista della muratura con malta CNHL115 con resistenza a compressione EPOCA CALCE NHL 115 MPa, da eseguirsi con idonei strumenti metallici secondo le indicazioni della D.L.
A14: INCLUSO NEL PREZZO: La fornitura e posa in opera del materiale sopra indicato e quanto altro occorre per dare il lavoro finito. ESCLUSO DAL PREZZO: Quant'altro non espressamente specificato
A15: =_xlfn.CONCAT("PREZZO PER M² ",UPPER(E1),", SPESSORI MURO FINO A ",D4," CM") -> PREZZO PER M² SISTEMA RETICOLA TREFOLO 3 MM, MAGLIA 30X30 CM, SPESSORI MURO FINO A 60 CM | F15: €/m² | G15: =G56 -> 156.15793
A17: Elementi Analisi | C17: u.m. | D17: Qtà | E17: Prezzo € | F17: Parziali €/m² | G17: €/m²
A19: RU - RISORSE UMANE
A20: Scarifica dei giunti di malta
A21: M01002a - operaio edile specializzato | C21: h/m² | D21: =AI4 -> 0.2 | E21: 32.16 | F21: =D21*E21 -> 6.432
A22: M01004a - operaio edile comune | C22: h/m² | D22: =AI4 -> 0.2 | E22: 26.72 | F22: =D22*E22 -> 5.344
A23: =_xlfn.CONCAT("Realizzazione di perfori ",(O4+R4), "/m²") -> Realizzazione di perfori 5/m²
A24: M01002a - operaio edile specializzato | C24: h/m² | D24: =AJ4 -> 0.2 | E24: 32.16 | F24: =D24*E24 -> 6.432
A25: M01004a - operaio edile comune | C25: h/m² | D25: =AJ4 -> 0.2 | E25: 26.72 | F25: =D25*E25 -> 5.344
A26: Applicazione trefoli e connettori
A27: M01002a - operaio edile specializzato | C27: h/m² | D27: =AK4 -> 0.25 | E27: 32.16 | F27: =D27*E27 -> 8.04
A28: M01004a - operaio edile comune | C28: h/m² | D28: =AK4 -> 0.25 | E28: 26.72 | F28: =D28*E28 -> 6.68
A29: Ristilatura giunti
A30: M01002a - operaio edile specializzato | C30: h/m² | D30: =AL4 -> 0.2 | E30: 32.16 | F30: =D30*E30 -> 6.432
A31: M01004a - operaio edile comune | C31: h/m² | D31: =AL4 -> 0.2 | E31: 26.72 | F31: =D31*E31 -> 5.344
F32: totale risorse umane RU | G32: =SUM(F21:F31) -> 50.048
A34: PR - PRODOTTI DA COSTRUZIONE
A35: =_xlfn.CONCAT( "Trefolo ",K4,) -> Trefolo FBRT-03-I49 | C35: m | D35: =L4 -> 7.8 | E35: =M4 -> 1.8 | F35: =D35*E35 -> 14.04
A36: =_xlfn.CONCAT("Connettore ",N4,) -> Connettore FBRC-400-08-IN | C36: pz | D36: =O4 -> 3 | E36: =P4 -> 7.75 | F36: =D36*E36 -> 23.25
A37: =_xlfn.CONCAT("Connettore ",Q4,) -> Connettore FBRC-400-08-INFR | C37: pz | D37: =R4 -> 2 | E37: =S4 -> 5.6 | F37: =D37*E37 -> 11.2
A38: =_xlfn.CONCAT("Angolare ",U4,) -> Angolare FBR-ANG-130X30 | C38: pz | D38: =V4 -> 1 | E38: =W4 -> 3.15 | F38: =D38*E38 -> 3.15
A39: =_xlfn.CONCAT("Morsetto ",X4,) -> Morsetto FBR-MOR-3I | C39: pz | F39: =D39*E39 -> 0
A40: Ancorante chimico vinilestere INTEGRA FIXA VINYL15-400 | C40: kg | D40: =AB4 -> 0.332 | E40: =AC4 -> 33.25 | F40: =D40*E40 -> 11.039
A41: Sistema RETICOLA composto da trefolo, connettori, angolari, manicotti, ancorante chimico ed accessori di completamento del sistema | C41: m² | D41: 1 | E41: =SUM(F35:F40) -> 62.679 | F41: =D41*E41 -> 62.679
A42: =_xlfn.CONCAT(,AD4, ", ",AE4,) -> EPOCA CALCE NHL 115, malta a base calce nhl per interventi di restauro e rinforzo strutturale di elementi in muratura | C42: kg | D42: =AG4 -> 17 | E42: =AH4 -> 0.604 | F42: =D42*E42 -> 10.268
F43: totale prodotti da costruzione PR | G43: =SUM(F41:F42) -> 72.947
A45: NT - NOLI E TRASPORTI
A46: Trasporto | C46: m² | D46: 1 | E46: 0.45 | F46: =D46*E46 -> 0.45
F47: totale noli e trasporti NT | G47: =F46 -> 0.45
A49: A) TOALE PARZIALI | F49: sommano RU + PR + NT | G49: =G32+G43+G47 -> 123.445
A51: B) SPESE GENERALI 13-17% | C51: % | D51: 15 | E51: =G49 -> 123.445 | F51: =D51/100*E51 -> 18.51675 | G51: =F51 -> 18.51675
F52: di cui oneri per la sicurezza afferenti all'impresa | G52: =0.02*G56 -> 3.1231585
A54: C) UTILE DELL'APPALTATORE 10% di A + B | C54: % | D54: 10 | E54: =G49+G51 -> 141.96175 | F54: =D54/100*E54 -> 14.196175 | G54: =F54 -> 14.196175
A56: TOTALE LAVORAZIONI A + B + C | C56: €/m² | G56: =G49+G51+G54 -> 156.15793
A57: INCIDENZA MANODOPERA (% INC. M.O.) | G57: =G43/G56 -> 0.46713607

Sheet DATI reticola
A1: Supporto | B1: Maglia | C1: Testo (1) | D1: Diametro Trefolo (mm) | E1: Articolo Trefolo | F1: Consumo Trefolo/m | G1: €/m trefolo | H1: Sp. muro (cm) | I1: Connettore A | J1: Qtà Connettore A | K1: € u Connettore A | L1: Connettore B | M1: Qtà Connettore B | N1: € u Connettore B | O1: L connettore (m) | P1: Angolare | Q1: Qtà Angolare | R1: € u Angolare | S1: Morsetto | T1: Qtà morsetto | U1: € u Morsetto | V1: Cod. Malta | W1: Consumo Vinyl | X1: Consumo TOT Vinyl | Y1: € kg Vinyl | Z1: Nome Malta | AA1: Descrizione Malta | AB1: Rck (Mpa) | AC1: Consumo Malta | AD1: € u Malta | AE1: Scarifica giunti | AF1: Realizzazione perfori | AG1: applicazione trefoli e connettori | AH1: ristilatura giunti | AI1: Testo (2) | AJ1: Testo (3)
A2: mattoni | B2: orizzontale | D2: 3 | E2: FBRT-03-I49 | F2: 5.2 | G2: 1.8 | H2: 30 | I2: FBRC-200-08-IN | J2: 3 | K2: 4.8 | L2: FBRC-200-08-INFR | M2: 2 | N2: 3.9 | O2: 0.2 | P2: FBR-ANG-190X9 | Q2: 1 | R2: 1.95 | S2: FBR-MOR-3I | T2: 2 | U2: 0.65 | V2: CNHL110 | W2: 0.166 | X2: =W2*O2*(J2+M2) -> 0.166 | Y2: 33.25 | Z2: EPOCA CALCE NHL 110 | AA2: malta a base calce nhl per interventi di restauro e rinforzo strutturale di elementi in muratura | AB2: ≥ 10 | AC2: 17 | AD2: 0.572 | AE2: 0.2 | AF2: 0.2 | AG2: 0.25 | AH2: 0.2 | AI2: disposti orizzontalmente ogni circa tre / quattro ricorsi di malta
A3: mattoni | B3: orizzontale | D3: 3 | E3: FBRT-03-I49 | F3: 5.2 | G3: 1.8 | H3: 30 | I3: FBRC-200-08-IN | J3: 3 | K3: 4.8 | L3: FBRC-200-08-INFR | M3: 2 | N3: 3.9 | O3: 0.2 | P3: FBR-ANG-190X9 | Q3: 1 | R3: 1.95 | S3: FBR-MOR-3I | T3: 2 | U3: 0.65 | V3: CNHL115 | W3: 0.166 | X3: =W3*O3*(J3+M3) -> 0.166 | Y3: 33.25 | Z3: EPOCA CALCE NHL 115 | AA3: malta a base calce nhl per interventi di restauro e rinforzo strutturale di elementi in muratura | AB3: ≥ 15 | AC3: 17 | AD3: 0.604 | AE3: 0.2 | AF3: 0.2 | AG3: 0.25 | AH3: 0.2 | AI3: disposti orizzontalmente ogni circa tre / quattro ricorsi di malta
A4: mattoni | B4: orizzontale | D4: 3 | E4: FBRT-03-I49 | F4: 5.2 | G4: 1.8 | H4: 30 | I4: FBRC-200-08-IN | J4: 3 | K4: 4.8 | L4: FBRC-200-08-INFR | M4: 2 | N4: 3.9 | O4: 0.2 | P4: FBR-ANG-190X9 | Q4: 1 | R4: 1.95 | S4: FBR-MOR-3I | T4: 2 | U4: 0.65 | V4: SNHL110 | W4: 0.166 | X4: =W4*O4*(J4+M4) -> 0.166 | Y4: 33.25 | Z4: EPOCA STORICA NHL 110 | AA4: malta di purissima calce idraulica naturale per interventi di restauro e rinforzo strutturale di elementi in muratura | AB4: ≥ 12 | AC4: 18 | AD4: 0.848 | AE4: 0.2 | AF4: 0.2 | AG4: 0.25 | AH4: 0.2 | AI4: disposti orizzontalmente ogni circa tre / quattro ricorsi di malta
A5: mattoni | B5: orizzontale | D5: 3 | E5: FBRT-03-I49 | F5: 5.2 | G5: 1.8 | H5: 30 | I5: FBRC-200-08-IN | J5: 3 | K5: 4.8 | L5: FBRC-200-08-INFR | M5: 2 | N5: 3.9 | O5: 0.2 | P5: FBR-ANG-190X9 | Q5: 1 | R5: 1.95 | S5: FBR-MOR-3I | T5: 2 | U5: 0.65 | V5: SNHL115 | W5: 0.166 | X5: =W5*O5*(J5+M5) -> 0.166 | Y5: 33.25 | Z5: EPOCA STORICA NHL 115 | AA5: malta di purissima calce idraulica naturale per interventi di restauro e rinforzo strutturale di elementi in muratura | AB5: ≥ 16 | AC5: 18 | AD5: 0.853 | AE5: 0.2 | AF5: 0.2 | AG5: 0.25 | AH5: 0.2 | AI5: disposti orizzontalmente ogni circa tre / quattro ricorsi di malta
A6: mattoni | B6: orizzontale | D6: 5 | E6: FBRT-05-I49 | F6: 5.2 | G6: 3.5 | H6: 30 | I6: FBRC-200-08-IN | J6: 3 | K6: 4.8 | L6: FBRC-200-08-INFR | M6: 2 | N6: 3.9 | O6: 0.2 | P6: FBR-ANG-190X9 | Q6: 1 | R6: 1.95 | S6: FBR-MOR-5I | T6: 2 | U6: 0.75 | V6: CNHL110 | W6: 0.166 | X6: =W6*O6*(J6+M6) -> 0.166 | Y6: 33.25 | Z6: EPOCA CALCE NHL 110 | AA6: malta a base calce nhl per interventi di restauro e rinforzo strutturale di elementi in muratura | AB6: ≥ 10 | AC6: 17 | AD6: 0.572 | AE6: 0.2 | AF6: 0.2 | AG6: 0.25 | AH6: 0.2 | AI6: disposti orizzontalmente ogni circa tre / quattro ricorsi di malta
A7: mattoni | B7: orizzontale | D7: 5 | E7: FBRT-05-I49 | F7: 5.2 | G7: 3.5 | H7: 30 | I7: FBRC-200-08-IN | J7: 3 | K7: 4.8 | L7: FBRC-200-08-INFR | M7: 2 | N7: 3.9 | O7: 0.2 | P7: FBR-ANG-190X9 | Q7: 1 | R7: 1.95 | S7: FBR-MOR-5I | T7: 2 | U7: 0.75 | V7: CNHL115 | W7: 0.166 | X7: =W7*O7*(J7+M7) -> 0.166 | Y7: 33.25 | Z7: EPOCA CALCE NHL 115 | AA7: malta a base calce nhl per interventi di restauro e rinforzo strutturale di elementi in muratura | AB7: ≥ 15 | AC7: 17 | AD7: 0.604 | AE7: 0.2 | AF7: 0.2 | AG7: 0.25 | AH7: 0.2 | AI7: disposti orizzontalmente ogni circa tre / quattro ricorsi di malta
A8: mattoni | B8: orizzontale | D8: 5 | E8: FBRT-05-I49 | F8: 5.2 | G8: 3.5 | H8: 30 | I8: FBRC-200-08-IN | J8: 3 | K8: 4.8 | L8: FBRC-200-08-INFR | M8: 2 | N8: 3.9 | O8: 0.2 | P8: FBR-ANG-190X9 | Q8: 1 | R8: 1.95 | S8: FBR-MOR-5I | T8: 2 | U8: 0.75 | V8: SNHL110 | W8: 0.166 | X8: =W8*O8*(J8+M8) -> 0.166 | Y8: 33.25 | Z8: EPOCA STORICA NHL 110 | AA8: malta di purissima calce idraulica naturale per interventi di restauro e rinforzo strutturale di elementi in muratura | AB8: ≥ 12 | AC8: 18 | AD8: 0.848 | AE8: 0.2 | AF8: 0.2 | AG8: 0.25 | AH8: 0.2 | AI8: disposti orizzontalmente ogni circa tre / quattro ricorsi di malta
A9: mattoni | B9: orizzontale | D9: 5 | E9: FBRT-05-I49 | F9: 5.2 | G9: 3.5 | H9: 30 | I9: FBRC-200-08-IN | J9: 3 | K9: 4.8 | L9: FBRC-200-08-INFR | M9: 2 | N9: 3.9 | O9: 0.2 | P9: FBR-ANG-190X9 | Q9: 1 | R9: 1.95 | S9: FBR-MOR-5I | T9: 2 | U9: 0.75 | V9: SNHL115 | W9: 0.166 | X9: =W9*O9*(J9+M9) -> 0.166 | Y9: 33.25 | Z9: EPOCA STORICA NHL 115 | AA9: malta di purissima calce idraulica naturale per interventi di restauro e rinforzo strutturale di elementi in muratura | AB9: ≥ 16 | AC9: 18 | AD9: 0.853 | AE9: 0.2 | AF9: 0.2 | AG9: 0.25 | AH9: 0.2 | AI9: disposti orizzontalmente ogni circa tre / quattro ricorsi di malta
A10: pietrame | B10: 30x30 cm | C10: per il rinforzo diffuso | D10: 3 | E10: FBRT-03-I49 | F10: 7.8 | G10: 1.8 | H10: 30 | I10: FBRC-200-08-IN | J10: 3 | K10: 4.8 | L10: FBRC-200-08-INFR | M10: 2 | N10: 3.9 | O10: 0.2 | P10: FBR-ANG-130X30 | Q10: 1 | R10: 3.15 | S10: FBR-MOR-3I | T10: 2 | U10: 0.65 | V10: CNHL110 | W10: 0.166 | X10: =W10*O10*(J10+M10) -> 0.166 | Y10: 33.25 | Z10: EPOCA CALCE NHL 110 | AA10: malta a base calce nhl per interventi di restauro e rinforzo strutturale di elementi in muratura | AB10: ≥ 10 | AC10: 17 | AD10: 0.572 | AE10: 0.2 | AF10: 0.2 | AG10: 0.25 | AH10: 0.2 | AI10: a formare una maglia di | AJ10: di piccola o media pezzatura
A11: pietrame | B11: 30x30 cm | C11: per il rinforzo diffuso | D11: 3 | E11: FBRT-03-I49 | F11: 7.8 | G11: 1.8 | H11: 30 | I11: FBRC-200-08-IN | J11: 3 | K11: 4.8 | L11: FBRC-200-08-INFR | M11: 2 | N11: 3.9 | O11: 0.2 | P11: FBR-ANG-130X30 | Q11: 1 | R11: 3.15 | S11: FBR-MOR-3I | T11: 2 | U11: 0.65 | V11: CNHL115 | W11: 0.166 | X11: =W11*O11*(J11+M11) -> 0.166 | Y11: 33.25 | Z11: EPOCA CALCE NHL 115 | AA11: malta a base calce nhl per interventi di restauro e rinforzo strutturale di elementi in muratura | AB11: ≥ 15 | AC11: 17 | AD11: 0.604 | AE11: 0.2 | AF11: 0.2 | AG11: 0.25 | AH11: 0.2 | AI11: a formare una maglia di | AJ11: di piccola o media pezzatura
A12: pietrame | B12: 30x30 cm | C12: per il rinforzo diffuso | D12: 3 | E12: FBRT-03-I49 | F12: 7.8 | G12: 1.8 | H12: 30 | I12: FBRC-200-08-IN | J12: 3 | K12: 4.8 | L12: FBRC-200-08-INFR | M12: 2 | N12: 3.9 | O12: 0.2 | P12: FBR-ANG-130X30 | Q12: 1 | R12: 3.15 | S12: FBR-MOR-3I | T12: 2 | U12: 0.65 | V12: SNHL110 | W12: 0.166 | X12: =W12*O12*(J12+M12) -> 0.166 | Y12: 33.25 | Z12: EPOCA STORICA NHL 110 | AA12: malta di purissima calce idraulica naturale per interventi di restauro e rinforzo strutturale di elementi in muratura | AB12: ≥ 12 | AC12: 18 | AD12: 0.848 | AE12: 0.2 | AF12: 0.2 | AG12: 0.25 | AH12: 0.2 | AI12: a formare una maglia di | AJ12: di piccola o media pezzatura
A13: pietrame | B13: 30x30 cm | C13: per il rinforzo diffuso | D13: 3 | E13: FBRT-03-I49 | F13: 7.8 | G13: 1.8 | H13: 30 | I13: FBRC-200-08-IN | J13: 3 | K13: 4.8 | L13: FBRC-200-08-INFR | M13: 2 | N13: 3.9 | O13: 0.2 | P13: FBR-ANG-130X30 | Q13: 1 | R13: 3.15 | S13: FBR-MOR-3I | T13: 2 | U13: 0.65 | V13: SNHL115 | W13: 0.166 | X13: =W13*O13*(J13+M13) -> 0.166 | Y13: 33.25 | Z13: EPOCA STORICA NHL 115 | AA13: malta di purissima calce idraulica naturale per interventi di restauro e rinforzo strutturale di elementi in muratura | AB13: ≥ 16 | AC13: 18 | AD13: 0.853 | AE13: 0.2 | AF13: 0.2 | AG13: 0.25 | AH13: 0.2 | AI13: a formare una maglia di | AJ13: di piccola o media pezzatura
A14: pietrame | B14: 30x30 cm | C14: per il rinforzo diffuso | D14: 5 | E14: FBRT-05-I49 | F14: 7.8 | G14: 1.8 | H14: 30 | I14: FBRC-200-08-IN | J14: 3 | K14: 4.8 | L14: FBRC-200-08-INFR | M14: 2 | N14: 3.9 | O14: 0.2 | P14: FBR-ANG-130X30 | Q14: 1 | R14: 3.15 | S14: FBR-MOR-5I | T14: 2 | U14: 0.75 | V14: CNHL110 | W14: 0.166 | X14: =W14*O14*(J14+M14) -> 0.166 | Y14: 33.25 | Z14: EPOCA CALCE NHL 110 | AA14: malta a base calce nhl per interventi di restauro e rinforzo strutturale di elementi in muratura | AB14: ≥ 10 | AC14: 17 | AD14: 0.572 | AE14: 0.2 | AF14: 0.2 | AG14: 0.25 | AH14: 0.2 | AI14: a formare una maglia di | AJ14: di piccola o media pezzatura
A15: pietrame | B15: 30x30 cm | C15: per il rinforzo diffuso | D15: 5 | E15: FBRT-05-I49 | F15: 7.8 | G15: 1.8 | H15: 30 | I15: FBRC-200-08-IN | J15: 3 | K15: 4.8 | L15: FBRC-200-08-INFR | M15: 2 | N15: 3.9 | O15: 0.2 | P15: FBR-ANG-130X30 | Q15: 1 | R15: 3.15 | S15: FBR-MOR-5I | T15: 2 | U15: 0.75 | V15: CNHL115 | W15: 0.166 | X15: =W15*O15*(J15+M15) -> 0.166 | Y15: 33.25 | Z15: EPOCA CALCE NHL 115 | AA15: malta a base calce nhl per interventi di restauro e rinforzo strutturale di elementi in muratura | AB15: ≥ 15 | AC15: 17 | AD15: 0.604 | AE15: 0.2 | AF15: 0.2 | AG15: 0.25 | AH15: 0.2 | AI15: a formare una maglia di | AJ15: di piccola o media pezzatura
A16: pietrame | B16: 30x30 cm | C16: per il rinforzo diffuso | D16: 5 | E16: FBRT-05-I49 | F16: 7.8 | G16: 1.8 | H16: 30 | I16: FBRC-200-08-IN | J16: 3 | K16: 4.8 | L16: FBRC-200-08-INFR | M16: 2 | N16: 3.9 | O16: 0.2 | P16: FBR-ANG-130X30 | Q16: 1 | R16: 3.15 | S16: FBR-MOR-5I | T16: 2 | U16: 0.75 | V16: SNHL110 | W16: 0.166 | X16: =W16*O16*(J16+M16) -> 0.166 | Y16: 33.25 | Z16: EPOCA STORICA NHL 110 | AA16: malta di purissima calce idraulica naturale per interventi di restauro e rinforzo strutturale di elementi in muratura | AB16: ≥ 12 | AC16: 18 | AD16: 0.848 | AE16: 0.2 | AF16: 0.2 | AG16: 0.25 | AH16: 0.2 | AI16: a formare una maglia di | AJ16: di piccola o media pezzatura
A17: pietrame | B17: 30x30 cm | C17: per il rinforzo diffuso | D17: 5 | E17: FBRT-05-I49 | F17: 7.8 | G17: 1.8 | H17: 30 | I17: FBRC-200-08-IN | J17: 3 | K17: 4.8 | L17: FBRC-200-08-INFR | M17: 2 | N17: 3.9 | O17: 0.2 | P17: FBR-ANG-130X30 | Q17: 1 | R17: 3.15 | S17: FBR-MOR-5I | T17: 2 | U17: 0.75 | V17: SNHL115 | W17: 0.166 | X17: =W17*O17*(J17+M17) -> 0.166 | Y17: 33.25 | Z17: EPOCA STORICA NHL 115 | AA17: malta di purissima calce idraulica naturale per interventi di restauro e rinforzo strutturale di elementi in muratura | AB17: ≥ 16 | AC17: 18 | AD17: 0.853 | AE17: 0.2 | AF17: 0.2 | AG17: 0.25 | AH17: 0.2 | AI17: a formare una maglia di | AJ17: di piccola o media pezzatura
A18: pietrame | B18: 40x40 cm | C18: per il rinforzo diffuso | D18: 3 | E18: FBRT-03-I49 | F18: 6.5 | G18: 1.8 | H18: 30 | I18: FBRC-200-08-IN | J18: 3 | K18: 4.8 | L18: FBRC-200-08-INFR | M18: 2 | N18: 3.9 | O18: 0.2 | P18: FBR-ANG-130X30 | Q18: 1 | R18: 3.15 | S18: FBR-MOR-3I | T18: 2 | U18: 0.65 | V18: CNHL110 | W18: 0.166 | X18: =W18*O18*(J18+M18) -> 0.166 | Y18: 33.25 | Z18: EPOCA CALCE NHL 110 | AA18: malta a base calce nhl per interventi di restauro e rinforzo strutturale di elementi in muratura | AB18: ≥ 10 | AC18: 17 | AD18: 0.572 | AE18: 0.2 | AF18: 0.2 | AG18: 0.25 | AH18: 0.2 | AI18: a formare una maglia di | AJ18: di piccola o media pezzatura
A19: pietrame | B19: 40x40 cm | C19: per il rinforzo diffuso | D19: 3 | E19: FBRT-03-I49 | F19: 6.5 | G19: 1.8 | H19: 30 | I19: FBRC-200-08-IN | J19: 3 | K19: 4.8 | L19: FBRC-200-08-INFR | M19: 2 | N19: 3.9 | O19: 0.2 | P19: FBR-ANG-130X30 | Q19: 1 | R19: 3.15 | S19: FBR-MOR-3I | T19: 2 | U19: 0.65 | V19: CNHL115 | W19: 0.166 | X19: =W19*O19*(J19+M19) -> 0.166 | Y19: 33.25 | Z19: EPOCA CALCE NHL 115 | AA19: malta a base calce nhl per interventi di restauro e rinforzo strutturale di elementi in muratura | AB19: ≥ 15 | AC19: 17 | AD19: 0.604 | AE19: 0.2 | AF19: 0.2 | AG19: 0.25 | AH19: 0.2 | AI19: a formare una maglia di | AJ19: di piccola o media pezzatura
A20: pietrame | B20: 40x40 cm | C20: per il rinforzo diffuso | D20: 3 | E20: FBRT-03-I49 | F20: 6.5 | G20: 1.8 | H20: 30 | I20: FBRC-200-08-IN | J20: 3 | K20: 4.8 | L20: FBRC-200-08-INFR | M20: 2 | N20: 3.9 | O20: 0.2 | P20: FBR-ANG-130X30 | Q20: 1 | R20: 3.15 | S20: FBR-MOR-3I | T20: 2 | U20: 0.65 | V20: SNHL110 | W20: 0.166 | X20: =W20*O20*(J20+M20) -> 0.166 | Y20: 33.25 | Z20: EPOCA STORICA NHL 110 | AA20: malta di purissima calce idraulica naturale per interventi di restauro e rinforzo strutturale di elementi in muratura | AB20: ≥ 12 | AC20: 18 | AD20: 0.848 | AE20: 0.2 | AF20: 0.2 | AG20: 0.25 | AH20: 0.2 | AI20: a formare una maglia di | AJ20: di piccola o media pezzatura
A21: pietrame | B21: 40x40 cm | C21: per il rinforzo diffuso | D21: 3 | E21: FBRT-03-I49 | F21: 6.5 | G21: 1.8 | H21: 30 | I21: FBRC-200-08-IN | J21: 3 | K21: 4.8 | L21: FBRC-200-08-INFR | M21: 2 | N21: 3.9 | O21: 0.2 | P21: FBR-ANG-130X30 | Q21: 1 | R21: 3.15 | S21: FBR-MOR-3I | T21: 2 | U21: 0.65 | V21: SNHL115 | W21: 0.166 | X21: =W21*O21*(J21+M21) -> 0.166 | Y21: 33.25 | Z21: EPOCA STORICA NHL 115 | AA21: malta di purissima calce idraulica naturale per interventi di restauro e rinforzo strutturale di elementi in muratura | AB21: ≥ 16 | AC21: 18 | AD21: 0.853 | AE21: 0.2 | AF21: 0.2 | AG21: 0.25 | AH21: 0.2 | AI21: a formare una maglia di | AJ21: di piccola o media pezzatura
... A26: pietrame | B26: 40x40 cm | C26: per il rinforzo diffuso | D26: 5 | E26: FBRT-05-I49 | F26: 6.5 | G26: 1.8 | H26: 30 | I26: FBRC-400-08-IN | J26: 3 | K26: 7.75 | L26: FBRC-400-08-INFR | M26: 2 | N26: 5.6 | O26: 0.4 | P26: FBR-ANG-130X30 | Q26: 1 | R26: 3.15 | S26: FBR-MOR-5I | T26: 2 | U26: 0.75 | V26: SNHL115 | W26: 0.166 | X26: =W26*O26*(J26+M26) -> 0.332 | Y26: 33.25 | Z26: EPOCA STORICA NHL 115 | AA26: malta di purissima calce idraulica naturale per interventi di restauro e rinforzo strutturale di elementi in muratura | AB26: ≥ 16 | AC26: 18 | AD26: 0.853 | AE26: 0.2 | AF26: 0.2 | AG26: 0.25 | AH26: 0.2 | AI26: a formare una maglia di | AJ26: di piccola o media pezzatura
A27: mattoni | B27: orizzontale | D27: 3 | E27: FBRT-03-I49 | F27: 5.2 | G27: 1.8 | H27: 50 | I27: FBRC-400-08-IN | J27: 3 | K27: 7.75 | L27: FBRC-400-08-INFR | M27: 2 | N27: 5.6 | O27: 0.4 | P27: FBR-ANG-190X9 | Q27: 1 | R27: 1.95 | S27: FBR-MOR-3I | T27: 2 | U27: 0.65 | V27: CNHL110 | W27: 0.166 | X27: =W27*O27*(J27+M27) -> 0.332 | Y27: 33.25 | Z27: EPOCA CALCE NHL 110 | AA27: malta a base calce nhl per interventi di restauro e rinforzo strutturale di elementi in muratura | AB27: ≥ 10 | AC27: 17 | AD27: 0.572 | AE27: 0.2 | AF27: 0.2 | AG27: 0.25 | AH27: 0.2 | AI27: disposti orizzontalmente ogni circa tre / quattro ricorsi di malta
A28: mattoni | B28: orizzontale | D28: 3 | E28: FBRT-03-I49 | F28: 5.2 | G28: 1.8 | H28: 50 | I28: FBRC-400-08-IN | J28: 3 | K28: 7.75 | L28: FBRC-400-08-INFR | M28: 2 | N28: 5.6 | O28: 0.4 | P28: FBR-ANG-190X9 | Q28: 1 | R28: 1.95 | S28: FBR-MOR-3I | T28: 2 | U28: 0.65 | V28: CNHL115 | W28: 0.166 | X28: =W28*O28*(J28+M28) -> 0.332 | Y28: 33.25 | Z28: EPOCA CALCE NHL 115 | AA28: malta a base calce nhl per interventi di restauro e rinforzo strutturale di elementi in muratura | AB28: ≥ 15 | AC28: 17 | AD28: 0.604 | AE28: 0.2 | AF28: 0.2 | AG28: 0.25 | AH28: 0.2 | AI28: disposti orizzontalmente ogni circa tre / quattro ricorsi di malta
A29: mattoni | B29: orizzontale | D29: 3 | E29: FBRT-03-I49 | F29: 5.2 | G29: 1.8 | H29: 50 | I29: FBRC-400-08-IN | J29: 3 | K29: 7.75 | L29: FBRC-400-08-INFR | M29: 2 | N29: 5.6 | O29: 0.4 | P29: FBR-ANG-190X9 | Q29: 1 | R29: 1.95 | S29: FBR-MOR-3I | T29: 2 | U29: 0.65 | V29: SNHL110 | W29: 0.166 | X29: =W29*O29*(J29+M29) -> 0.332 | Y29: 33.25 | Z29: EPOCA STORICA NHL 110 | AA29: malta di purissima calce idraulica naturale per interventi di restauro e rinforzo strutturale di elementi in muratura | AB29: ≥ 12 | AC29: 18 | AD29: 0.848 | AE29: 0.2 | AF29: 0.2 | AG29: 0.25 | AH29: 0.2 | AI29: disposti orizzontalmente ogni circa tre / quattro ricorsi di malta
A30: mattoni | B30: orizzontale | D30: 3 | E30: FBRT-03-I49 | F30: 5.2 | G30: 1.8 | H30: 50 | I30: FBRC-400-08-IN | J30: 3 | K30: 7.75 | L30: FBRC-400-08-INFR | M30: 2 | N30: 5.6 | O30: 0.4 | P30: FBR-ANG-190X9 | Q30: 1 | R30: 1.95 | S30: FBR-MOR-3I | T30: 2 | U30: 0.65 | V30: SNHL115 | W30: 0.166 | X30: =W30*O30*(J30+M30) -> 0.332 | Y30: 33.25 | Z30: EPOCA STORICA NHL 115 | AA30: malta di purissima calce idraulica naturale per interventi di restauro e rinforzo strutturale di elementi in muratura | AB30: ≥ 16 | AC30: 18 | AD30: 0.853 | AE30: 0.2 | AF30: 0.2 | AG30: 0.25 | AH30: 0.2 | AI30: disposti orizzontalmente ogni circa tre / quattro ricorsi di malta
A31: mattoni | B31: orizzontale | D31: 5 | E31: FBRT-05-I49 | F31: 5.2 | G31: 3.5 | H31: 50 | I31: FBRC-400-08-IN | J31: 3 | K31: 7.75 | L31: FBRC-400-08-INFR | M31: 2 | N31: 5.6 | O31: 0.4 | P31: FBR-ANG-190X9 | Q31: 1 | R31: 1.95 | S31: FBR-MOR-5I | T31: 2 | U31: 0.75 | V31: CNHL110 | W31: 0.166 | X31: =W31*O31*(J31+M31) -> 0.332 | Y31: 33.25 | Z31: EPOCA CALCE NHL 110 | AA31: malta a base calce nhl per interventi di restauro e rinforzo strutturale di elementi in muratura | AB31: ≥ 10 | AC31: 17 | AD31: 0.572 | AE31: 0.2 | AF31: 0.2 | AG31: 0.25 | AH31: 0.2 | AI31: disposti orizzontalmente ogni circa tre / quattro ricorsi di malta
A32: mattoni | B32: orizzontale | D32: 5 | E32: FBRT-05-I49 | F32: 5.2 | G32: 3.5 | H32: 50 | I32: FBRC-400-08-IN | J32: 3 | K32: 7.75 | L32: FBRC-400-08-INFR | M32: 2 | N32: 5.6 | O32: 0.4 | P32: FBR-ANG-190X9 | Q32: 1 | R32: 1.95 | S32: FBR-MOR-5I | T32: 2 | U32: 0.75 | V32: CNHL115 | W32: 0.166 | X32: =W32*O32*(J32+M32) -> 0.332 | Y32: 33.25 | Z32: EPOCA CALCE NHL 115 | AA32: malta a base calce nhl per interventi di restauro e rinforzo strutturale di elementi in muratura | AB32: ≥ 15 | AC32: 17 | AD32: 0.604 | AE32: 0.2 | AF32: 0.2 | AG32: 0.25 | AH32: 0.2 | AI32: disposti orizzontalmente ogni circa tre / quattro ricorsi di malta
A33: mattoni | B33: orizzontale | D33: 5 | E33: FBRT-05-I49 | F33: 5.2 | G33: 3.5 | H33: 50 | I33: FBRC-400-08-IN | J33: 3 | K33: 7.75 | L33: FBRC-400-08-INFR | M33: 2 | N33: 5.6 | O33: 0.4 | P33: FBR-ANG-190X9 | Q33: 1 | R33: 1.95 | S33: FBR-MOR-5I | T33: 2 | U33: 0.75 | V33: SNHL110 | W33: 0.166 | X33: =W33*O33*(J33+M33) -> 0.332 | Y33: 33.25 | Z33: EPOCA STORICA NHL 110 | AA33: malta di purissima calce idraulica naturale per interventi di restauro e rinforzo strutturale di elementi in muratura | AB33: ≥ 12 | AC33: 18 | AD33: 0.848 | AE33: 0.2 | AF33: 0.2 | AG33: 0.25 | AH33: 0.2 | AI33: disposti orizzontalmente ogni circa tre / quattro ricorsi di malta
A34: mattoni | B34: orizzontale | D34: 5 | E34: FBRT-05-I49 | F34: 5.2 | G34: 3.5 | H34: 50 | I34: FBRC-400-08-IN | J34: 3 | K34: 7.75 | L34: FBRC-400-08-INFR | M34: 2 | N34: 5.6 | O34: 0.4 | P34: FBR-ANG-190X9 | Q34: 1 | R34: 1.95 | S34: FBR-MOR-5I | T34: 2 | U34: 0.75 | V34: SNHL115 | W34: 0.166 | X34: =W34*O34*(J34+M34) -> 0.332 | Y34: 33.25 | Z34: EPOCA STORICA NHL 115 | AA34: malta di purissima calce idraulica naturale per interventi di restauro e rinforzo strutturale di elementi in muratura | AB34: ≥ 16 | AC34: 18 | AD34: 0.853 | AE34: 0.2 | AF34: 0.2 | AG34: 0.25 | AH34: 0.2 | AI34: disposti orizzontalmente ogni circa tre / quattro ricorsi di malta
A35: pietrame | B35: 30x30 cm | C35: per il rinforzo diffuso | D35: 3 | E35: FBRT-03-I49 | F35: 7.8 | G35: 1.8 | H35: 50 | I35: FBRC-400-08-IN | J35: 3 | K35: 7.75 | L35: FBRC-400-08-INFR | M35: 2 | N35: 5.6 | O35: 0.4 | P35: FBR-ANG-130X30 | Q35: 1 | R35: 3.15 | S35: FBR-MOR-3I | T35: 2 | U35: 0.65 | V35: CNHL110 | W35: 0.166 | X35: =W35*O35*(J35+M35) -> 0.332 | Y35: 33.25 | Z35: EPOCA CALCE NHL 110 | AA35: malta a base calce nhl per interventi di restauro e rinforzo strutturale di elementi in muratura | AB35: ≥ 10 | AC35: 17 | AD35: 0.572 | AE35: 0.2 | AF35: 0.2 | AG35: 0.25 | AH35: 0.2 | AI35: a formare una maglia di | AJ35: di piccola o media pezzatura
A36: pietrame | B36: 30x30 cm | C36: per il rinforzo diffuso | D36: 3 | E36: FBRT-03-I49 | F36: 7.8 | G36: 1.8 | H36: 50 | I36: FBRC-400-08-IN | J36: 3 | K36: 7.75 | L36: FBRC-400-08-INFR | M36: 2 | N36: 5.6 | O36: 0.4 | P36: FBR-ANG-130X30 | Q36: 1 | R36: 3.15 | S36: FBR-MOR-3I | T36: 2 | U36: 0.65 | V36: CNHL115 | W36: 0.166 | X36: =W36*O36*(J36+M36) -> 0.332 | Y36: 33.25 | Z36: EPOCA CALCE NHL 115 | AA36: malta a base calce nhl per interventi di restauro e rinforzo strutturale di elementi in muratura | AB36: ≥ 15 | AC36: 17 | AD36: 0.604 | AE36: 0.2 | AF36: 0.2 | AG36: 0.25 | AH36: 0.2 | AI36: a formare una maglia di | AJ36: di piccola o media pezzatura
A37: pietrame | B37: 30x30 cm | C37: per il rinforzo diffuso | D37: 3 | E37: FBRT-03-I49 | F37: 7.8 | G37: 1.8 | H37: 50 | I37: FBRC-400-08-IN | J37: 3 | K37: 7.75 | L37: FBRC-400-08-INFR | M37: 2 | N37: 5.6 | O37: 0.4 | P37: FBR-ANG-130X30 | Q37: 1 | R37: 3.15 | S37: FBR-MOR-3I | T37: 2 | U37: 0.65 | V37: SNHL110 | W37: 0.166 | X37: =W37*O37*(J37+M37) -> 0.332 | Y37: 33.25 | Z37: EPOCA STORICA NHL 110 | AA37: malta di purissima calce idraulica naturale per interventi di restauro e rinforzo strutturale di elementi in muratura | AB37: ≥ 12 | AC37: 18 | AD37: 0.848 | AE37: 0.2 | AF37: 0.2 | AG37: 0.25 | AH37: 0.2 | AI37: a formare una maglia di | AJ37: di piccola o media pezzatura
A38: pietrame | B38: 30x30 cm | C38: per il rinforzo diffuso | D38: 3 | E38: FBRT-03-I49 | F38: 7.8 | G38: 1.8 | H38: 50 | I38: FBRC-400-08-IN | J38: 3 | K38: 7.75 | L38: FBRC-400-08-INFR | M38: 2 | N38: 5.6 | O38: 0.4 | P38: FBR-ANG-130X30 | Q38: 1 | R38: 3.15 | S38: FBR-MOR-3I | T38: 2 | U38: 0.65 | V38: SNHL115 | W38: 0.166 | X38: =W38*O38*(J38+M38) -> 0.332 | Y38: 33.25 | Z38: EPOCA STORICA NHL 115 | AA38: malta di purissima calce idraulica naturale per interventi di restauro e rinforzo strutturale di elementi in muratura | AB38: ≥ 16 | AC38: 18 | AD38: 0.853 | AE38: 0.2 | AF38: 0.2 | AG38: 0.25 | AH38: 0.2 | AI38: a formare una maglia di | AJ38: di piccola o media pezzatura
A39: pietrame | B39: 30x30 cm | C39: per il rinforzo diffuso | D39: 5 | E39: FBRT-05-I49 | F39: 7.8 | G39: 1.8 | H39: 50 | I39: FBRC-400-08-IN | J39: 3 | K39: 7.75 | L39: FBRC-400-08-INFR | M39: 2 | N39: 5.6 | O39: 0.4 | P39: FBR-ANG-130X30 | Q39: 1 | R39: 3.15 | S39: FBR-MOR-5I | T39: 2 | U39: 0.75 | V39: CNHL110 | W39: 0.166 | X39: =W39*O39*(J39+M39) -> 0.332 | Y39: 33.25 | Z39: EPOCA CALCE NHL 110 | AA39: malta a base calce nhl per interventi di restauro e rinforzo strutturale di elementi in muratura | AB39: ≥ 10 | AC39: 17 | AD39: 0.572 | AE39: 0.2 | AF39: 0.2 | AG39: 0.25 | AH39: 0.2 | AI39: a formare una maglia di | AJ39: di piccola o media pezzatura
A40: pietrame | B40: 30x30 cm | C40: per il rinforzo diffuso | D40: 5 | E40: FBRT-05-I49 | F40: 7.8 | G40: 1.8 | H40: 50 | I40: FBRC-400-08-IN | J40: 3 | K40: 7.75 | L40: FBRC-400-08-INFR | M40: 2 | N40: 5.6 | O40: 0.4 | P40: FBR-ANG-130X30 | Q40: 1 | R40: 3.15 | S40: FBR-MOR-5I | T40: 2 | U40: 0.75 | V40: CNHL115 | W40: 0.166 | X40: =W40*O40*(J40+M40) -> 0.332 | Y40: 33.25 | Z40: EPOCA CALCE NHL 115 | AA40: malta a base calce nhl per interventi di restauro e rinforzo strutturale di elementi in muratura | AB40: ≥ 15 | AC40: 17 | AD40: 0.604 | AE40: 0.2 | AF40: 0.2 | AG40: 0.25 | AH40: 0.2 | AI40: a formare una maglia di | AJ40: di piccola o media pezzatura
A41: pietrame | B41: 30x30 cm | C41: per il rinforzo diffuso | D41: 5 | E41: FBRT-05-I49 | F41: 7.8 | G41: 1.8 | H41: 50 | I41: FBRC-400-08-IN | J41: 3 | K41: 7.75 | L41: FBRC-400-08-INFR | M41: 2 | N41: 5.6 | O41: 0.4 | P41: FBR-ANG-130X30 | Q41: 1 | R41: 3.15 | S41: FBR-MOR-5I | T41: 2 | U41: 0.75 | V41: SNHL110 | W41: 0.166 | X41: =W41*O41*(J41+M41) -> 0.332 | Y41: 33.25 | Z41: EPOCA STORICA NHL 110 | AA41: malta di purissima calce idraulica naturale per interventi di restauro e rinforzo strutturale di elementi in muratura | AB41: ≥ 12 | AC41: 18 | AD41: 0.848 | AE41: 0.2 | AF41: 0.2 | AG41: 0.25 | AH41: 0.2 | AI41: a formare una maglia di | AJ41: di piccola o media pezzatura
A42: pietrame | B42: 30x30 cm | C42: per il rinforzo diffuso | D42: 5 | E42: FBRT-05-I49 | F42: 7.8 | G42: 1.8 | H42: 50 | I42: FBRC-400-08-IN | J42: 3 | K42: 7.75 | L42: FBRC-400-08-INFR | M42: 2 | N42: 5.6 | O42: 0.4 | P42: FBR-ANG-130X30 | Q42: 1 | R42: 3.15 | S42: FBR-MOR-5I | T42: 2 | U42: 0.75 | V42: SNHL115 | W42: 0.166 | X42: =W42*O42*(J42+M42) -> 0.332 | Y42: 33.25 | Z42: EPOCA STORICA NHL 115 | AA42: malta di purissima calce idraulica naturale per interventi di restauro e rinforzo strutturale di elementi in muratura | AB42: ≥ 16 | AC42: 18 | AD42: 0.853 | AE42: 0.2 | AF42: 0.2 | AG42: 0.25 | AH42: 0.2 | AI42: a formare una maglia di | AJ42: di piccola o media pezzatura
A43: pietrame | B43: 40x40 cm | C43: per il rinforzo diffuso | D43: 3 | E43: FBRT-03-I49 | F43: 6.5 | G43: 1.8 | H43: 50 | I43: FBRC-400-08-IN | J43: 3 | K43: 7.75 | L43: FBRC-400-08-INFR | M43: 2 | N43: 5.6 | O43: 0.4 | P43: FBR-ANG-130X30 | Q43: 1 | R43: 3.15 | S43: FBR-MOR-3I | T43: 2 | U43: 0.65 | V43: CNHL110 | W43: 0.166 | X43: =W43*O43*(J43+M43) -> 0.332 | Y43: 33.25 | Z43: EPOCA CALCE NHL 110 | AA43: malta a base calce nhl per interventi di restauro e rinforzo strutturale di elementi in muratura | AB43: ≥ 10 | AC43: 17 | AD43: 0.572 | AE43: 0.2 | AF43: 0.2 | AG43: 0.25 | AH43: 0.2 | AI43: a formare una maglia di | AJ43: di piccola o media pezzatura
A44: pietrame | B44: 40x40 cm | C44: per il rinforzo diffuso | D44: 3 | E44: FBRT-03-I49 | F44: 6.5 | G44: 1.8 | H44: 50 | I44: FBRC-400-08-IN | J44: 3 | K44: 7.75 | L44: FBRC-400-08-INFR | M44: 2 | N44: 5.6 | O44: 0.4 | P44: FBR-ANG-130X30 | Q44: 1 | R44: 3.15 | S44: FBR-MOR-3I | T44: 2 | U44: 0.65 | V44: CNHL115 | W44: 0.166 | X44: =W44*O44*(J44+M44) -> 0.332 | Y44: 33.25 | Z44: EPOCA CALCE NHL 115 | AA44: malta a base calce nhl per interventi di restauro e rinforzo strutturale di elementi in muratura | AB44: ≥ 15 | AC44: 17 | AD44: 0.604 | AE44: 0.2 | AF44: 0.2 | AG44: 0.25 | AH44: 0.2 | AI44: a formare una maglia di | AJ44: di piccola o media pezzatura
A45: pietrame | B45: 40x40 cm | C45: per il rinforzo diffuso | D45: 3 | E45: FBRT-03-I49 | F45: 6.5 | G45: 1.8 | H45: 50 | I45: FBRC-400-08-IN | J45: 3 | K45: 7.75 | L45: FBRC-400-08-INFR | M45: 2 | N45: 5.6 | O45: 0.4 | P45: FBR-ANG-130X30 | Q45: 1 | R45: 3.15 | S45: FBR-MOR-3I | T45: 2 | U45: 0.65 | V45: SNHL110 | W45: 0.166 | X45: =W45*O45*(J45+M45) -> 0.332 | Y45: 33.25 | Z45: EPOCA STORICA NHL 110 | AA45: malta di purissima calce idraulica naturale per interventi di restauro e rinforzo strutturale di elementi in muratura | AB45: ≥ 12 | AC45: 18 | AD45: 0.848 | AE45: 0.2 | AF45: 0.2 | AG45: 0.25 | AH45: 0.2 | AI45: a formare una maglia di | AJ45: di piccola o media pezzatura
A46: pietrame | B46: 40x40 cm | C46: per il rinforzo diffuso | D46: 3 | E46: FBRT-03-I49 | F46: 6.5 | G46: 1.8 | H46: 50 | I46: FBRC-400-08-IN | J46: 3 | K46: 7.75 | L46: FBRC-400-08-INFR | M46: 2 | N46: 5.6 | O46: 0.4 | P46: FBR-ANG-130X30 | Q46: 1 | R46: 3.15 | S46: FBR-MOR-3I | T46: 2 | U46: 0.65 | V46: SNHL115 | W46: 0.166 | X46: =W46*O46*(J46+M46) -> 0.332 | Y46: 33.25 | Z46: EPOCA STORICA NHL 115 | AA46: malta di purissima calce idraulica naturale per interventi di restauro e rinforzo strutturale di elementi in muratura | AB46: ≥ 16 | AC46: 18 | AD46: 0.853 | AE46: 0.2 | AF46: 0.2 | AG46: 0.25 | AH46: 0.2 | AI46: a formare una maglia di | AJ46: di piccola o media pezzatura
... A49: pietrame | B49: 40x40 cm | C49: per il rinforzo diffuso | D49: 5 | E49: FBRT-05-I49 | F49: 6.5 | G49: 1.8 | H49: 50 | I49: FBRC-400-08-IN | J49: 3 | K49: 7.75 | L49: FBRC-400-08-INFR | M49: 2 | N49: 5.6 | O49: 0.4 | P49: FBR-ANG-130X30 | Q49: 1 | R49: 3.15 | S49: FBR-MOR-5I | T49: 2 | U49: 0.75 | V49: SNHL110 | W49: 0.166 | X49: =W49*O49*(J49+M49) -> 0.332 | Y49: 33.25 | Z49: EPOCA STORICA NHL 110 | AA49: malta di purissima calce idraulica naturale per interventi di restauro e rinforzo strutturale di elementi in muratura | AB49: ≥ 12 | AC49: 18 | AD49: 0.848 | AE49: 0.2 | AF49: 0.2 | AG49: 0.25 | AH49: 0.2 | AI49: a formare una maglia di | AJ49: di piccola o media pezzatura
A50: mattoni | B50: orizzontale | D50: 3 | E50: FBRT-03-I49 | F50: 5.2 | G50: 1.8 | H50: 60 | I50: FBRC-400-08-IN | J50: 3 | K50: 7.75 | L50: FBRC-400-08-INFR | M50: 2 | N50: 5.6 | O50: 0.4 | P50: FBR-ANG-190X9 | Q50: 1 | R50: 1.95 | S50: FBR-MOR-3I | T50: 2 | U50: 0.65 | V50: CNHL110 | W50: 0.166 | X50: =W50*O50*(J50+M50) -> 0.332 | Y50: 33.25 | Z50: EPOCA CALCE NHL 110 | AA50: malta a base calce nhl per interventi di restauro e rinforzo strutturale di elementi in muratura | AB50: ≥ 10 | AC50: 17 | AD50: 0.572 | AE50: 0.2 | AF50: 0.2 | AG50: 0.25 | AH50: 0.2 | AI50: disposti orizzontalmente ogni circa tre / quattro ricorsi di malta
A51: mattoni | B51: orizzontale | D51: 3 | E51: FBRT-03-I49 | F51: 5.2 | G51: 1.8 | H51: 60 | I51: FBRC-400-08-IN | J51: 3 | K51: 7.75 | L51: FBRC-400-08-INFR | M51: 2 | N51: 5.6 | O51: 0.4 | P51: FBR-ANG-190X9 | Q51: 1 | R51: 1.95 | S51: FBR-MOR-3I | T51: 2 | U51: 0.65 | V51: CNHL115 | W51: 0.166 | X51: =W51*O51*(J51+M51) -> 0.332 | Y51: 33.25 | Z51: EPOCA CALCE NHL 115 | AA51: malta a base calce nhl per interventi di restauro e rinforzo strutturale di elementi in muratura | AB51: ≥ 15 | AC51: 17 | AD51: 0.604 | AE51: 0.2 | AF51: 0.2 | AG51: 0.25 | AH51: 0.2 | AI51: disposti orizzontalmente ogni circa tre / quattro ricorsi di malta
A52: mattoni | B52: orizzontale | D52: 3 | E52: FBRT-03-I49 | F52: 5.2 | G52: 1.8 | H52: 60 | I52: FBRC-400-08-IN | J52: 3 | K52: 7.75 | L52: FBRC-400-08-INFR | M52: 2 | N52: 5.6 | O52: 0.4 | P52: FBR-ANG-190X9 | Q52: 1 | R52: 1.95 | S52: FBR-MOR-3I | T52: 2 | U52: 0.65 | V52: SNHL110 | W52: 0.166 | X52: =W52*O52*(J52+M52) -> 0.332 | Y52: 33.25 | Z52: EPOCA STORICA NHL 110 | AA52: malta di purissima calce idraulica naturale per interventi di restauro e rinforzo strutturale di elementi in muratura | AB52: ≥ 12 | AC52: 18 | AD52: 0.848 | AE52: 0.2 | AF52: 0.2 | AG52: 0.25 | AH52: 0.2 | AI52: disposti orizzontalmente ogni circa tre / quattro ricorsi di malta
A53: mattoni | B53: orizzontale | D53: 3 | E53: FBRT-03-I49 | F53: 5.2 | G53: 1.8 | H53: 60 | I53: FBRC-400-08-IN | J53: 3 | K53: 7.75 | L53: FBRC-400-08-INFR | M53: 2 | N53: 5.6 | O53: 0.4 | P53: FBR-ANG-190X9 | Q53: 1 | R53: 1.95 | S53: FBR-MOR-3I | T53: 2 | U53: 0.65 | V53: SNHL115 | W53: 0.166 | X53: =W53*O53*(J53+M53) -> 0.332 | Y53: 33.25 | Z53: EPOCA STORICA NHL 115 | AA53: malta di purissima calce idraulica naturale per interventi di restauro e rinforzo strutturale di elementi in muratura | AB53: ≥ 16 | AC53: 18 | AD53: 0.853 | AE53: 0.2 | AF53: 0.2 | AG53: 0.25 | AH53: 0.2 | AI53: disposti orizzontalmente ogni circa tre / quattro ricorsi di malta
A54: mattoni | B54: orizzontale | D54: 5 | E54: FBRT-05-I49 | F54: 5.2 | G54: 3.5 | H54: 60 | I54: FBRC-400-08-IN | J54: 3 | K54: 7.75 | L54: FBRC-400-08-INFR | M54: 2 | N54: 5.6 | O54: 0.4 | P54: FBR-ANG-190X9 | Q54: 1 | R54: 1.95 | S54: FBR-MOR-5I | T54: 2 | U54: 0.75 | V54: CNHL110 | W54: 0.166 | X54: =W54*O54*(J54+M54) -> 0.332 | Y54: 33.25 | Z54: EPOCA CALCE NHL 110 | AA54: malta a base calce nhl per interventi di restauro e rinforzo strutturale di elementi in muratura | AB54: ≥ 10 | AC54: 17 | AD54: 0.572 | AE54: 0.2 | AF54: 0.2 | AG54: 0.25 | AH54: 0.2 | AI54: disposti orizzontalmente ogni circa tre / quattro ricorsi di malta
A55: mattoni | B55: orizzontale | D55: 5 | E55: FBRT-05-I49 | F55: 5.2 | G55: 3.5 | H55: 60 | I55: FBRC-400-08-IN | J55: 3 | K55: 7.75 | L55: FBRC-400-08-INFR | M55: 2 | N55: 5.6 | O55: 0.4 | P55: FBR-ANG-190X9 | Q55: 1 | R55: 1.95 | S55: FBR-MOR-5I | T55: 2 | U55: 0.75 | V55: CNHL115 | W55: 0.166 | X55: =W55*O55*(J55+M55) -> 0.332 | Y55: 33.25 | Z55: EPOCA CALCE NHL 115 | AA55: malta a base calce nhl per interventi di restauro e rinforzo strutturale di elementi in muratura | AB55: ≥ 15 | AC55: 17 | AD55: 0.604 | AE55: 0.2 | AF55: 0.2 | AG55: 0.25 | AH55: 0.2 | AI55: disposti orizzontalmente ogni circa tre / quattro ricorsi di malta
A56: mattoni | B56: orizzontale | D56: 5 | E56: FBRT-05-I49 | F56: 5.2 | G56: 3.5 | H56: 60 | I56: FBRC-400-08-IN | J56: 3 | K56: 7.75 | L56: FBRC-400-08-INFR | M56: 2 | N56: 5.6 | O56: 0.4 | P56: FBR-ANG-190X9 | Q56: 1 | R56: 1.95 | S56: FBR-MOR-5I | T56: 2 | U56: 0.75 | V56: SNHL110 | W56: 0.166 | X56: =W56*O56*(J56+M56) -> 0.332 | Y56: 33.25 | Z56: EPOCA STORICA NHL 110 | AA56: malta di purissima calce idraulica naturale per interventi di restauro e rinforzo strutturale di elementi in muratura | AB56: ≥ 12 | AC56: 18 | AD56: 0.848 | AE56: 0.2 | AF56: 0.2 | AG56: 0.25 | AH56: 0.2 | AI56: disposti orizzontalmente ogni circa tre / quattro ricorsi di malta
A57: mattoni | B57: orizzontale | D57: 5 | E57: FBRT-05-I49 | F57: 5.2 | G57: 3.5 | H57: 60 | I57: FBRC-400-08-IN | J57: 3 | K57: 7.75 | L57: FBRC-400-08-INFR | M57: 2 | N57: 5.6 | O57: 0.4 | P57: FBR-ANG-190X9 | Q57: 1 | R57: 1.95 | S57: FBR-MOR-5I | T57: 2 | U57: 0.75 | V57: SNHL115 | W57: 0.166 | X57: =W57*O57*(J57+M57) -> 0.332 | Y57: 33.25 | Z57: EPOCA STORICA NHL 115 | AA57: malta di purissima calce idraulica naturale per interventi di restauro e rinforzo strutturale di elementi in muratura | AB57: ≥ 16 | AC57: 18 | AD57: 0.853 | AE57: 0.2 | AF57: 0.2 | AG57: 0.25 | AH57: 0.2 | AI57: disposti orizzontalmente ogni circa tre / quattro ricorsi di malta
A58: pietrame | B58: 30x30 cm | C58: per il rinforzo diffuso | D58: 3 | E58: FBRT-03-I49 | F58: 7.8 | G58: 1.8 | H58: 60 | I58: FBRC-400-08-IN | J58: 3 | K58: 7.75 | L58: FBRC-400-08-INFR | M58: 2 | N58: 5.6 | O58: 0.4 | P58: FBR-ANG-130X30 | Q58: 1 | R58: 3.15 | S58: FBR-MOR-3I | T58: 2 | U58: 0.65 | V58: CNHL110 | W58: 0.166 | X58: =W58*O58*(J58+M58) -> 0.332 | Y58: 33.25 | Z58: EPOCA CALCE NHL 110 | AA58: malta a base calce nhl per interventi di restauro e rinforzo strutturale di elementi in muratura | AB58: ≥ 10 | AC58: 17 | AD58: 0.572 | AE58: 0.2 | AF58: 0.2 | AG58: 0.25 | AH58: 0.2 | AI58: a formare una maglia di | AJ58: di piccola o media pezzatura
A59: pietrame | B59: 30x30 cm | C59: per il rinforzo diffuso | D59: 3 | E59: FBRT-03-I49 | F59: 7.8 | G59: 1.8 | H59: 60 | I59: FBRC-400-08-IN | J59: 3 | K59: 7.75 | L59: FBRC-400-08-INFR | M59: 2 | N59: 5.6 | O59: 0.4 | P59: FBR-ANG-130X30 | Q59: 1 | R59: 3.15 | S59: FBR-MOR-3I | T59: 2 | U59: 0.65 | V59: CNHL115 | W59: 0.166 | X59: =W59*O59*(J59+M59) -> 0.332 | Y59: 33.25 | Z59: EPOCA CALCE NHL 115 | AA59: malta a base calce nhl per interventi di restauro e rinforzo strutturale di elementi in muratura | AB59: ≥ 15 | AC59: 17 | AD59: 0.604 | AE59: 0.2 | AF59: 0.2 | AG59: 0.25 | AH59: 0.2 | AI59: a formare una maglia di | AJ59: di piccola o media pezzatura
A60: pietrame | B60: 30x30 cm | C60: per il rinforzo diffuso | D60: 3 | E60: FBRT-03-I49 | F60: 7.8 | G60: 1.8 | H60: 60 | I60: FBRC-400-08-IN | J60: 3 | K60: 7.75 | L60: FBRC-400-08-INFR | M60: 2 | N60: 5.6 | O60: 0.4 | P60: FBR-ANG-130X30 | Q60: 1 | R60: 3.15 | S60: FBR-MOR-3I | T60: 2 | U60: 0.65 | V60: SNHL110 | W60: 0.166 | X60: =W60*O60*(J60+M60) -> 0.332 | Y60: 33.25 | Z60: EPOCA STORICA NHL 110 | AA60: malta di purissima calce idraulica naturale per interventi di restauro e rinforzo strutturale di elementi in muratura | AB60: ≥ 12 | AC60: 18 | AD60: 0.848 | AE60: 0.2 | AF60: 0.2 | AG60: 0.25 | AH60: 0.2 | AI60: a formare una maglia di | AJ60: di piccola o media pezzatura
A61: pietrame | B61: 30x30 cm | C61: per il rinforzo diffuso | D61: 3 | E61: FBRT-03-I49 | F61: 7.8 | G61: 1.8 | H61: 60 | I61: FBRC-400-08-IN | J61: 3 | K61: 7.75 | L61: FBRC-400-08-INFR | M61: 2 | N61: 5.6 | O61: 0.4 | P61: FBR-ANG-130X30 | Q61: 1 | R61: 3.15 | S61: FBR-MOR-3I | T61: 2 | U61: 0.65 | V61: SNHL115 | W61: 0.166 | X61: =W61*O61*(J61+M61) -> 0.332 | Y61: 33.25 | Z61: EPOCA STORICA NHL 115 | AA61: malta di purissima calce idraulica naturale per interventi di restauro e rinforzo strutturale di elementi in muratura | AB61: ≥ 16 | AC61: 18 | AD61: 0.853 | AE61: 0.2 | AF61: 0.2 | AG61: 0.25 | AH61: 0.2 | AI61: a formare una maglia di | AJ61: di piccola o media pezzatura
A62: pietrame | B62: 30x30 cm | C62: per il rinforzo diffuso | D62: 5 | E62: FBRT-05-I49 | F62: 7.8 | G62: 1.8 | H62: 60 | I62: FBRC-400-08-IN | J62: 3 | K62: 7.75 | L62: FBRC-400-08-INFR | M62: 2 | N62: 5.6 | O62: 0.4 | P62: FBR-ANG-130X30 | Q62: 1 | R62: 3.15 | S62: FBR-MOR-5I | T62: 2 | U62: 0.75 | V62: CNHL110 | W62: 0.166 | X62: =W62*O62*(J62+M62) -> 0.332 | Y62: 33.25 | Z62: EPOCA CALCE NHL 110 | AA62: malta a base calce nhl per interventi di restauro e rinforzo strutturale di elementi in muratura | AB62: ≥ 10 | AC62: 17 | AD62: 0.572 | AE62: 0.2 | AF62: 0.2 | AG62: 0.25 | AH62: 0.2 | AI62: a formare una maglia di | AJ62: di piccola o media pezzatura
A63: pietrame | B63: 30x30 cm | C63: per il rinforzo diffuso | D63: 5 | E63: FBRT-05-I49 | F63: 7.8 | G63: 1.8 | H63: 60 | I63: FBRC-400-08-IN | J63: 3 | K63: 7.75 | L63: FBRC-400-08-INFR | M63: 2 | N63: 5.6 | O63: 0.4 | P63: FBR-ANG-130X30 | Q63: 1 | R63: 3.15 | S63: FBR-MOR-5I | T63: 2 | U63: 0.75 | V63: CNHL115 | W63: 0.166 | X63: =W63*O63*(J63+M63) -> 0.332 | Y63: 33.25 | Z63: EPOCA CALCE NHL 115 | AA63: malta a base calce nhl per interventi di restauro e rinforzo strutturale di elementi in muratura | AB63: ≥ 15 | AC63: 17 | AD63: 0.604 | AE63: 0.2 | AF63: 0.2 | AG63: 0.25 | AH63: 0.2 | AI63: a formare una maglia di | AJ63: di piccola o media pezzatura
A64: pietrame | B64: 30x30 cm | C64: per il rinforzo diffuso | D64: 5 | E64: FBRT-05-I49 | F64: 7.8 | G64: 1.8 | H64: 60 | I64: FBRC-400-08-IN | J64: 3 | K64: 7.75 | L64: FBRC-400-08-INFR | M64: 2 | N64: 5.6 | O64: 0.4 | P64: FBR-ANG-130X30 | Q64: 1 | R64: 3.15 | S64: FBR-MOR-5I | T64: 2 | U64: 0.75 | V64: SNHL110 | W64: 0.166 | X64: =W64*O64*(J64+M64) -> 0.332 | Y64: 33.25 | Z64: EPOCA STORICA NHL 110 | AA64: malta di purissima calce idraulica naturale per interventi di restauro e rinforzo strutturale di elementi in muratura | AB64: ≥ 12 | AC64: 18 | AD64: 0.848 | AE64: 0.2 | AF64: 0.2 | AG64: 0.25 | AH64: 0.2 | AI64: a formare una maglia di | AJ64: di piccola o media pezzatura
A65: pietrame | B65: 30x30 cm | C65: per il rinforzo diffuso | D65: 5 | E65: FBRT-05-I49 | F65: 7.8 | G65: 1.8 | H65: 60 | I65: FBRC-400-08-IN | J65: 3 | K65: 7.75 | L65: FBRC-400-08-INFR | M65: 2 | N65: 5.6 | O65: 0.4 | P65: FBR-ANG-130X30 | Q65: 1 | R65: 3.15 | S65: FBR-MOR-5I | T65: 2 | U65: 0.75 | V65: SNHL115 | W65: 0.166 | X65: =W65*O65*(J65+M65) -> 0.332 | Y65: 33.25 | Z65: EPOCA STORICA NHL 115 | AA65: malta di purissima calce idraulica naturale per interventi di restauro e rinforzo strutturale di elementi in muratura | AB65: ≥ 16 | AC65: 18 | AD65: 0.853 | AE65: 0.2 | AF65: 0.2 | AG65: 0.25 | AH65: 0.2 | AI65: a formare una maglia di | AJ65: di piccola o media pezzatura
A66: pietrame | B66: 40x40 cm | C66: per il rinforzo diffuso | D66: 3 | E66: FBRT-03-I49 | F66: 6.5 | G66: 1.8 | H66: 60 | I66: FBRC-400-08-IN | J66: 3 | K66: 7.75 | L66: FBRC-400-08-INFR | M66: 2 | N66: 5.6 | O66: 0.4 | P66: FBR-ANG-130X30 | Q66: 1 | R66: 3.15 | S66: FBR-MOR-3I | T66: 2 | U66: 0.65 | V66: CNHL110 | W66: 0.166 | X66: =W66*O66*(J66+M66) -> 0.332 | Y66: 33.25 | Z66: EPOCA CALCE NHL 110 | AA66: malta a base calce nhl per interventi di restauro e rinforzo strutturale di elementi in muratura | AB66: ≥ 10 | AC66: 17 | AD66: 0.572 | AE66: 0.2 | AF66: 0.2 | AG66: 0.25 | AH66: 0.2 | AI66: a formare una maglia di | AJ66: di piccola o media pezzatura
A67: pietrame | B67: 40x40 cm | C67: per il rinforzo diffuso | D67: 3 | E67: FBRT-03-I49 | F67: 6.5 | G67: 1.8 | H67: 60 | I67: FBRC-400-08-IN | J67: 3 | K67: 7.75 | L67: FBRC-400-08-INFR | M67: 2 | N67: 5.6 | O67: 0.4 | P67: FBR-ANG-130X30 | Q67: 1 | R67: 3.15 | S67: FBR-MOR-3I | T67: 2 | U67: 0.65 | V67: CNHL115 | W67: 0.166 | X67: =W67*O67*(J67+M67) -> 0.332 | Y67: 33.25 | Z67: EPOCA CALCE NHL 115 | AA67: malta a base calce nhl per interventi di restauro e rinforzo strutturale di elementi in muratura | AB67: ≥ 15 | AC67: 17 | AD67: 0.604 | AE67: 0.2 | AF67: 0.2 | AG67: 0.25 | AH67: 0.2 | AI67: a formare una maglia di | AJ67: di piccola o media pezzatura
A68: pietrame | B68: 40x40 cm | C68: per il rinforzo diffuso | D68: 3 | E68: FBRT-03-I49 | F68: 6.5 | G68: 1.8 | H68: 60 | I68: FBRC-400-08-IN | J68: 3 | K68: 7.75 | L68: FBRC-400-08-INFR | M68: 2 | N68: 5.6 | O68: 0.4 | P68: FBR-ANG-130X30 | Q68: 1 | R68: 3.15 | S68: FBR-MOR-3I | T68: 2 | U68: 0.65 | V68: SNHL110 | W68: 0.166 | X68: =W68*O68*(J68+M68) -> 0.332 | Y68: 33.25 | Z68: EPOCA STORICA NHL 110 | AA68: malta di purissima calce idraulica naturale per interventi di restauro e rinforzo strutturale di elementi in muratura | AB68: ≥ 12 | AC68: 18 | AD68: 0.848 | AE68: 0.2 | AF68: 0.2 | AG68: 0.25 | AH68: 0.2 | AI68: a formare una maglia di | AJ68: di piccola o media pezzatura
A69: pietrame | B69: 40x40 cm | C69: per il rinforzo diffuso | D69: 3 | E69: FBRT-03-I49 | F69: 6.5 | G69: 1.8 | H69: 60 | I69: FBRC-400-08-IN | J69: 3 | K69: 7.75 | L69: FBRC-400-08-INFR | M69: 2 | N69: 5.6 | O69: 0.4 | P69: FBR-ANG-130X30 | Q69: 1 | R69: 3.15 | S69: FBR-MOR-3I | T69: 2 | U69: 0.65 | V69: SNHL115 | W69: 0.166 | X69: =W69*O69*(J69+M69) -> 0.332 | Y69: 33.25 | Z69: EPOCA STORICA NHL 115 | AA69: malta di purissima calce idraulica naturale per interventi di restauro e rinforzo strutturale di elementi in muratura | AB69: ≥ 16 | AC69: 18 | AD69: 0.853 | AE69: 0.2 | AF69: 0.2 | AG69: 0.25 | AH69: 0.2 | AI69: a formare una maglia di | AJ69: di piccola o media pezzatura
... A73: pietrame | B73: 40x40 cm | C73: per il rinforzo diffuso | D73: 5 | E73: FBRT-05-I49 | F73: 6.5 | G73: 1.8 | H73: 60 | I73: FBRC-400-08-IN | J73: 3 | K73: 7.75 | L73: FBRC-400-08-INFR | M73: 2 | N73: 5.6 | O73: 0.4 | P73: FBR-ANG-130X30 | Q73: 1 | R73: 3.15 | S73: FBR-MOR-5I | T73: 2 | U73: 0.75 | V73: SNHL115 | W73: 0.166 | X73: =W73*O73*(J73+M73) -> 0.332 | Y73: 33.25 | Z73: EPOCA STORICA NHL 115 | AA73: malta di purissima calce idraulica naturale per interventi di restauro e rinforzo strutturale di elementi in muratura | AB73: ≥ 16 | AC73: 18 | AD73: 0.853 | AE73: 0.2 | AF73: 0.2 | AG73: 0.25 | AH73: 0.2 | AI73: a formare una maglia di | AJ73: di piccola o media pezzatura
A74: mattoni | B74: orizzontale | D74: 3 | E74: FBRT-03-I49 | F74: 5.2 | G74: 1.8 | H74: 90 | I74: FBRC-600-08-IN | J74: 3 | K74: 10.5 | L74: FBRC-600-08-INFR | M74: 2 | N74: 7.35 | O74: 0.6 | P74: FBR-ANG-190X9 | Q74: 1 | R74: 1.95 | S74: FBR-MOR-3I | T74: 2 | U74: 0.65 | V74: CNHL110 | W74: 0.166 | X74: =W74*O74*(J74+M74) -> 0.498 | Y74: 33.25 | Z74: EPOCA CALCE NHL 110 | AA74: malta a base calce nhl per interventi di restauro e rinforzo strutturale di elementi in muratura | AB74: ≥ 10 | AC74: 17 | AD74: 0.572 | AE74: 0.2 | AF74: 0.2 | AG74: 0.25 | AH74: 0.2 | AI74: disposti orizzontalmente ogni circa tre / quattro ricorsi di malta
A75: mattoni | B75: orizzontale | D75: 3 | E75: FBRT-03-I49 | F75: 5.2 | G75: 1.8 | H75: 90 | I75: FBRC-600-08-IN | J75: 3 | K75: 10.5 | L75: FBRC-600-08-INFR | M75: 2 | N75: 7.35 | O75: 0.6 | P75: FBR-ANG-190X9 | Q75: 1 | R75: 1.95 | S75: FBR-MOR-3I | T75: 2 | U75: 0.65 | V75: CNHL115 | W75: 0.166 | X75: =W75*O75*(J75+M75) -> 0.498 | Y75: 33.25 | Z75: EPOCA CALCE NHL 115 | AA75: malta a base calce nhl per interventi di restauro e rinforzo strutturale di elementi in muratura | AB75: ≥ 15 | AC75: 17 | AD75: 0.604 | AE75: 0.2 | AF75: 0.2 | AG75: 0.25 | AH75: 0.2 | AI75: disposti orizzontalmente ogni circa tre / quattro ricorsi di malta
A76: mattoni | B76: orizzontale | D76: 3 | E76: FBRT-03-I49 | F76: 5.2 | G76: 1.8 | H76: 90 | I76: FBRC-600-08-IN | J76: 3 | K76: 10.5 | L76: FBRC-600-08-INFR | M76: 2 | N76: 7.35 | O76: 0.6 | P76: FBR-ANG-190X9 | Q76: 1 | R76: 1.95 | S76: FBR-MOR-3I | T76: 2 | U76: 0.65 | V76: SNHL110 | W76: 0.166 | X76: =W76*O76*(J76+M76) -> 0.498 | Y76: 33.25 | Z76: EPOCA STORICA NHL 110 | AA76: malta di purissima calce idraulica naturale per interventi di restauro e rinforzo strutturale di elementi in muratura | AB76: ≥ 12 | AC76: 18 | AD76: 0.848 | AE76: 0.2 | AF76: 0.2 | AG76: 0.25 | AH76: 0.2 | AI76: disposti orizzontalmente ogni circa tre / quattro ricorsi di malta
A77: mattoni | B77: orizzontale | D77: 3 | E77: FBRT-03-I49 | F77: 5.2 | G77: 1.8 | H77: 90 | I77: FBRC-600-08-IN | J77: 3 | K77: 10.5 | L77: FBRC-600-08-INFR | M77: 2 | N77: 7.35 | O77: 0.6 | P77: FBR-ANG-190X9 | Q77: 1 | R77: 1.95 | S77: FBR-MOR-3I | T77: 2 | U77: 0.65 | V77: SNHL115 | W77: 0.166 | X77: =W77*O77*(J77+M77) -> 0.498 | Y77: 33.25 | Z77: EPOCA STORICA NHL 115 | AA77: malta di purissima calce idraulica naturale per interventi di restauro e rinforzo strutturale di elementi in muratura | AB77: ≥ 16 | AC77: 18 | AD77: 0.853 | AE77: 0.2 | AF77: 0.2 | AG77: 0.25 | AH77: 0.2 | AI77: disposti orizzontalmente ogni circa tre / quattro ricorsi di malta
A78: mattoni | B78: orizzontale | D78: 5 | E78: FBRT-05-I49 | F78: 5.2 | G78: 3.5 | H78: 90 | I78: FBRC-600-08-IN | J78: 3 | K78: 10.5 | L78: FBRC-600-08-INFR | M78: 2 | N78: 7.35 | O78: 0.6 | P78: FBR-ANG-190X9 | Q78: 1 | R78: 1.95 | S78: FBR-MOR-5I | T78: 2 | U78: 0.75 | V78: CNHL110 | W78: 0.166 | X78: =W78*O78*(J78+M78) -> 0.498 | Y78: 33.25 | Z78: EPOCA CALCE NHL 110 | AA78: malta a base calce nhl per interventi di restauro e rinforzo strutturale di elementi in muratura | AB78: ≥ 10 | AC78: 17 | AD78: 0.572 | AE78: 0.2 | AF78: 0.2 | AG78: 0.25 | AH78: 0.2 | AI78: disposti orizzontalmente ogni circa tre / quattro ricorsi di malta
A79: mattoni | B79: orizzontale | D79: 5 | E79: FBRT-05-I49 | F79: 5.2 | G79: 3.5 | H79: 90 | I79: FBRC-600-08-IN | J79: 3 | K79: 10.5 | L79: FBRC-600-08-INFR | M79: 2 | N79: 7.35 | O79: 0.6 | P79: FBR-ANG-190X9 | Q79: 1 | R79: 1.95 | S79: FBR-MOR-5I | T79: 2 | U79: 0.75 | V79: CNHL115 | W79: 0.166 | X79: =W79*O79*(J79+M79) -> 0.498 | Y79: 33.25 | Z79: EPOCA CALCE NHL 115 | AA79: malta a base calce nhl per interventi di restauro e rinforzo strutturale di elementi in muratura | AB79: ≥ 15 | AC79: 17 | AD79: 0.604 | AE79: 0.2 | AF79: 0.2 | AG79: 0.25 | AH79: 0.2 | AI79: disposti orizzontalmente ogni circa tre / quattro ricorsi di malta
A80: mattoni | B80: orizzontale | D80: 5 | E80: FBRT-05-I49 | F80: 5.2 | G80: 3.5 | H80: 90 | I80: FBRC-600-08-IN | J80: 3 | K80: 10.5 | L80: FBRC-600-08-INFR | M80: 2 | N80: 7.35 | O80: 0.6 | P80: FBR-ANG-190X9 | Q80: 1 | R80: 1.95 | S80: FBR-MOR-5I | T80: 2 | U80: 0.75 | V80: SNHL110 | W80: 0.166 | X80: =W80*O80*(J80+M80) -> 0.498 | Y80: 33.25 | Z80: EPOCA STORICA NHL 110 | AA80: malta di purissima calce idraulica naturale per interventi di restauro e rinforzo strutturale di elementi in muratura | AB80: ≥ 12 | AC80: 18 | AD80: 0.848 | AE80: 0.2 | AF80: 0.2 | AG80: 0.25 | AH80: 0.2 | AI80: disposti orizzontalmente ogni circa tre / quattro ricorsi di malta
A81: mattoni | B81: orizzontale | D81: 5 | E81: FBRT-05-I49 | F81: 5.2 | G81: 3.5 | H81: 90 | I81: FBRC-600-08-IN | J81: 3 | K81: 10.5 | L81: FBRC-600-08-INFR | M81: 2 | N81: 7.35 | O81: 0.6 | P81: FBR-ANG-190X9 | Q81: 1 | R81: 1.95 | S81: FBR-MOR-5I | T81: 2 | U81: 0.75 | V81: SNHL115 | W81: 0.166 | X81: =W81*O81*(J81+M81) -> 0.498 | Y81: 33.25 | Z81: EPOCA STORICA NHL 115 | AA81: malta di purissima calce idraulica naturale per interventi di restauro e rinforzo strutturale di elementi in muratura | AB81: ≥ 16 | AC81: 18 | AD81: 0.853 | AE81: 0.2 | AF81: 0.2 | AG81: 0.25 | AH81: 0.2 | AI81: disposti orizzontalmente ogni circa tre / quattro ricorsi di malta
A82: pietrame | B82: 30x30 cm | C82: per il rinforzo diffuso | D82: 3 | E82: FBRT-03-I49 | F82: 7.8 | G82: 1.8 | H82: 90 | I82: FBRC-600-08-IN | J82: 3 | K82: 10.5 | L82: FBRC-600-08-INFR | M82: 2 | N82: 7.35 | O82: 0.6 | P82: FBR-ANG-130X30 | Q82: 1 | R82: 3.15 | S82: FBR-MOR-3I | T82: 2 | U82: 0.65 | V82: CNHL110 | W82: 0.166 | X82: =W82*O82*(J82+M82) -> 0.498 | Y82: 33.25 | Z82: EPOCA CALCE NHL 110 | AA82: malta a base calce nhl per interventi di restauro e rinforzo strutturale di elementi in muratura | AB82: ≥ 10 | AC82: 17 | AD82: 0.572 | AE82: 0.2 | AF82: 0.2 | AG82: 0.25 | AH82: 0.2 | AI82: a formare una maglia di | AJ82: di piccola o media pezzatura
A83: pietrame | B83: 30x30 cm | C83: per il rinforzo diffuso | D83: 3 | E83: FBRT-03-I49 | F83: 7.8 | G83: 1.8 | H83: 90 | I83: FBRC-600-08-IN | J83: 3 | K83: 10.5 | L83: FBRC-600-08-INFR | M83: 2 | N83: 7.35 | O83: 0.6 | P83: FBR-ANG-130X30 | Q83: 1 | R83: 3.15 | S83: FBR-MOR-3I | T83: 2 | U83: 0.65 | V83: CNHL115 | W83: 0.166 | X83: =W83*O83*(J83+M83) -> 0.498 | Y83: 33.25 | Z83: EPOCA CALCE NHL 115 | AA83: malta a base calce nhl per interventi di restauro e rinforzo strutturale di elementi in muratura | AB83: ≥ 15 | AC83: 17 | AD83: 0.604 | AE83: 0.2 | AF83: 0.2 | AG83: 0.25 | AH83: 0.2 | AI83: a formare una maglia di | AJ83: di piccola o media pezzatura
A84: pietrame | B84: 30x30 cm | C84: per il rinforzo diffuso | D84: 3 | E84: FBRT-03-I49 | F84: 7.8 | G84: 1.8 | H84: 90 | I84: FBRC-600-08-IN | J84: 3 | K84: 10.5 | L84: FBRC-600-08-INFR | M84: 2 | N84: 7.35 | O84: 0.6 | P84: FBR-ANG-130X30 | Q84: 1 | R84: 3.15 | S84: FBR-MOR-3I | T84: 2 | U84: 0.65 | V84: SNHL110 | W84: 0.166 | X84: =W84*O84*(J84+M84) -> 0.498 | Y84: 33.25 | Z84: EPOCA STORICA NHL 110 | AA84: malta di purissima calce idraulica naturale per interventi di restauro e rinforzo strutturale di elementi in muratura | AB84: ≥ 12 | AC84: 18 | AD84: 0.848 | AE84: 0.2 | AF84: 0.2 | AG84: 0.25 | AH84: 0.2 | AI84: a formare una maglia di | AJ84: di piccola o media pezzatura
A85: pietrame | B85: 30x30 cm | C85: per il rinforzo diffuso | D85: 3 | E85: FBRT-03-I49 | F85: 7.8 | G85: 1.8 | H85: 90 | I85: FBRC-600-08-IN | J85: 3 | K85: 10.5 | L85: FBRC-600-08-INFR | M85: 2 | N85: 7.35 | O85: 0.6 | P85: FBR-ANG-130X30 | Q85: 1 | R85: 3.15 | S85: FBR-MOR-3I | T85: 2 | U85: 0.65 | V85: SNHL115 | W85: 0.166 | X85: =W85*O85*(J85+M85) -> 0.498 | Y85: 33.25 | Z85: EPOCA STORICA NHL 115 | AA85: malta di purissima calce idraulica naturale per interventi di restauro e rinforzo strutturale di elementi in muratura | AB85: ≥ 16 | AC85: 18 | AD85: 0.853 | AE85: 0.2 | AF85: 0.2 | AG85: 0.25 | AH85: 0.2 | AI85: a formare una maglia di | AJ85: di piccola o media pezzatura
A86: pietrame | B86: 30x30 cm | C86: per il rinforzo diffuso | D86: 5 | E86: FBRT-05-I49 | F86: 7.8 | G86: 1.8 | H86: 90 | I86: FBRC-600-08-IN | J86: 3 | K86: 10.5 | L86: FBRC-600-08-INFR | M86: 2 | N86: 7.35 | O86: 0.6 | P86: FBR-ANG-130X30 | Q86: 1 | R86: 3.15 | S86: FBR-MOR-5I | T86: 2 | U86: 0.75 | V86: CNHL110 | W86: 0.166 | X86: =W86*O86*(J86+M86) -> 0.498 | Y86: 33.25 | Z86: EPOCA CALCE NHL 110 | AA86: malta a base calce nhl per interventi di restauro e rinforzo strutturale di elementi in muratura | AB86: ≥ 10 | AC86: 17 | AD86: 0.572 | AE86: 0.2 | AF86: 0.2 | AG86: 0.25 | AH86: 0.2 | AI86: a formare una maglia di | AJ86: di piccola o media pezzatura
A87: pietrame | B87: 30x30 cm | C87: per il rinforzo diffuso | D87: 5 | E87: FBRT-05-I49 | F87: 7.8 | G87: 1.8 | H87: 90 | I87: FBRC-600-08-IN | J87: 3 | K87: 10.5 | L87: FBRC-600-08-INFR | M87: 2 | N87: 7.35 | O87: 0.6 | P87: FBR-ANG-130X30 | Q87: 1 | R87: 3.15 | S87: FBR-MOR-5I | T87: 2 | U87: 0.75 | V87: CNHL115 | W87: 0.166 | X87: =W87*O87*(J87+M87) -> 0.498 | Y87: 33.25 | Z87: EPOCA CALCE NHL 115 | AA87: malta a base calce nhl per interventi di restauro e rinforzo strutturale di elementi in muratura | AB87: ≥ 15 | AC87: 17 | AD87: 0.604 | AE87: 0.2 | AF87: 0.2 | AG87: 0.25 | AH87: 0.2 | AI87: a formare una maglia di | AJ87: di piccola o media pezzatura
A88: pietrame | B88: 30x30 cm | C88: per il rinforzo diffuso | D88: 5 | E88: FBRT-05-I49 | F88: 7.8 | G88: 1.8 | H88: 90 | I88: FBRC-600-08-IN | J88: 3 | K88: 10.5 | L88: FBRC-600-08-INFR | M88: 2 | N88: 7.35 | O88: 0.6 | P88: FBR-ANG-130X30 | Q88: 1 | R88: 3.15 | S88: FBR-MOR-5I | T88: 2 | U88: 0.75 | V88: SNHL110 | W88: 0.166 | X88: =W88*O88*(J88+M88) -> 0.498 | Y88: 33.25 | Z88: EPOCA STORICA NHL 110 | AA88: malta di purissima calce idraulica naturale per interventi di restauro e rinforzo strutturale di elementi in muratura | AB88: ≥ 12 | AC88: 18 | AD88: 0.848 | AE88: 0.2 | AF88: 0.2 | AG88: 0.25 | AH88: 0.2 | AI88: a formare una maglia di | AJ88: di piccola o media pezzatura
A89: pietrame | B89: 30x30 cm | C89: per il rinforzo diffuso | D89: 5 | E89: FBRT-05-I49 | F89: 7.8 | G89: 1.8 | H89: 90 | I89: FBRC-600-08-IN | J89: 3 | K89: 10.5 | L89: FBRC-600-08-INFR | M89: 2 | N89: 7.35 | O89: 0.6 | P89: FBR-ANG-130X30 | Q89: 1 | R89: 3.15 | S89: FBR-MOR-5I | T89: 2 | U89: 0.75 | V89: SNHL115 | W89: 0.166 | X89: =W89*O89*(J89+M89) -> 0.498 | Y89: 33.25 | Z89: EPOCA STORICA NHL 115 | AA89: malta di purissima calce idraulica naturale per interventi di restauro e rinforzo strutturale di elementi in muratura | AB89: ≥ 16 | AC89: 18 | AD89: 0.853 | AE89: 0.2 | AF89: 0.2 | AG89: 0.25 | AH89: 0.2 | AI89: a formare una maglia di | AJ89: di piccola o media pezzatura
A90: pietrame | B90: 40x40 cm | C90: per il rinforzo diffuso | D90: 3 | E90: FBRT-03-I49 | F90: 6.5 | G90: 1.8 | H90: 90 | I90: FBRC-600-08-IN | J90: 3 | K90: 10.5 | L90: FBRC-600-08-INFR | M90: 2 | N90: 7.35 | O90: 0.6 | P90: FBR-ANG-130X30 | Q90: 1 | R90: 3.15 | S90: FBR-MOR-3I | T90: 2 | U90: 0.65 | V90: CNHL110 | W90: 0.166 | X90: =W90*O90*(J90+M90) -> 0.498 | Y90: 33.25 | Z90: EPOCA CALCE NHL 110 | AA90: malta a base calce nhl per interventi di restauro e rinforzo strutturale di elementi in muratura | AB90: ≥ 10 | AC90: 17 | AD90: 0.572 | AE90: 0.2 | AF90: 0.2 | AG90: 0.25 | AH90: 0.2 | AI90: a formare una maglia di | AJ90: di piccola o media pezzatura
A91: pietrame | B91: 40x40 cm | C91: per il rinforzo diffuso | D91: 3 | E91: FBRT-03-I49 | F91: 6.5 | G91: 1.8 | H91: 90 | I91: FBRC-600-08-IN | J91: 3 | K91: 10.5 | L91: FBRC-600-08-INFR | M91: 2 | N91: 7.35 | O91: 0.6 | P91: FBR-ANG-130X30 | Q91: 1 | R91: 3.15 | S91: FBR-MOR-3I | T91: 2 | U91: 0.65 | V91: CNHL115 | W91: 0.166 | X91: =W91*O91*(J91+M91) -> 0.498 | Y91: 33.25 | Z91: EPOCA CALCE NHL 115 | AA91: malta a base calce nhl per interventi di restauro e rinforzo strutturale di elementi in muratura | AB91: ≥ 15 | AC91: 17 | AD91: 0.604 | AE91: 0.2 | AF91: 0.2 | AG91: 0.25 | AH91: 0.2 | AI91: a formare una maglia di | AJ91: di piccola o media pezzatura
A92: pietrame | B92: 40x40 cm | C92: per il rinforzo diffuso | D92: 3 | E92: FBRT-03-I49 | F92: 6.5 | G92: 1.8 | H92: 90 | I92: FBRC-600-08-IN | J92: 3 | K92: 10.5 | L92: FBRC-600-08-INFR | M92: 2 | N92: 7.35 | O92: 0.6 | P92: FBR-ANG-130X30 | Q92: 1 | R92: 3.15 | S92: FBR-MOR-3I | T92: 2 | U92: 0.65 | V92: SNHL110 | W92: 0.166 | X92: =W92*O92*(J92+M92) -> 0.498 | Y92: 33.25 | Z92: EPOCA STORICA NHL 110 | AA92: malta di purissima calce idraulica naturale per interventi di restauro e rinforzo strutturale di elementi in muratura | AB92: ≥ 12 | AC92: 18 | AD92: 0.848 | AE92: 0.2 | AF92: 0.2 | AG92: 0.25 | AH92: 0.2 | AI92: a formare una maglia di | AJ92: di piccola o media pezzatura
A93: pietrame | B93: 40x40 cm | C93: per il rinforzo diffuso | D93: 3 | E93: FBRT-03-I49 | F93: 6.5 | G93: 1.8 | H93: 90 | I93: FBRC-600-08-IN | J93: 3 | K93: 10.5 | L93: FBRC-600-08-INFR | M93: 2 | N93: 7.35 | O93: 0.6 | P93: FBR-ANG-130X30 | Q93: 1 | R93: 3.15 | S93: FBR-MOR-3I | T93: 2 | U93: 0.65 | V93: SNHL115 | W93: 0.166 | X93: =W93*O93*(J93+M93) -> 0.498 | Y93: 33.25 | Z93: EPOCA STORICA NHL 115 | AA93: malta di purissima calce idraulica naturale per interventi di restauro e rinforzo strutturale di elementi in muratura | AB93: ≥ 16 | AC93: 18 | AD93: 0.853 | AE93: 0.2 | AF93: 0.2 | AG93: 0.25 | AH93: 0.2 | AI93: a formare una maglia di | AJ93: di piccola o media pezzatura
... A97: pietrame | B97: 40x40 cm | C97: per il rinforzo diffuso | D97: 5 | E97: FBRT-05-I49 | F97: 6.5 | G97: 1.8 | H97: 90 | I97: FBRC-600-08-IN | J97: 3 | K97: 10.5 | L97: FBRC-600-08-INFR | M97: 2 | N97: 7.35 | O97: 0.6 | P97: FBR-ANG-130X30 | Q97: 1 | R97: 3.15 | S97: FBR-MOR-5I | T97: 2 | U97: 0.75 | V97: SNHL115 | W97: 0.166 | X97: =W97*O97*(J97+M97) -> 0.498 | Y97: 33.25 | Z97: EPOCA STORICA NHL 115 | AA97: malta di purissima calce idraulica naturale per interventi di restauro e rinforzo strutturale di elementi in muratura | AB97: ≥ 16 | AC97: 18 | AD97: 0.853 | AE97: 0.2 | AF97: 0.2 | AG97: 0.25 | AH97: 0.2 | AI97: a formare una maglia di | AJ97: di piccola o media pezzatura

Sheet Foglio1
A1: 3 | B1: FBR-MOR-3I | C1: 0.65
A2: 5 | B2: FBR-MOR-5I | C2: 0.75

Sheet DATI reticola (2)
A1: Supporto | B1: Maglia | C1: Extra | D1: Diam Trefolo (mm) | E1: Trefolo | F1: Consumo Trefolo/m | G1: €/m trefolo | H1: Sp. muro (cm) | I1: Connettore A | J1: Qtà Connettore A | K1: € u Connettore A | L1: Connettore B | M1: Qtà Connettore B | N1: € u Connettore B | O1: L connettore (m) | P1: Angolare | Q1: Qtà Angolare | R1: € u Angolare | S1: Morsetto | T1: Qtà morsetto | U1: € u Morsetto | V1: Cod. Malta | W1: Consumo Vinyl | X1: Consumo TOT Vinyl | Y1: € kg Vinyl | Z1: Nome Malta | AA1: Descrizione Malta | AB1: Rck (Mpa) | AC1: Consumo Malta | AD1: € u Malta | AE1: Scarifica giunti | AF1: Realizzazione perfori | AG1: applicazione trefoli e connettori | AH1: ristilatura giunti | AI1: Testo
A2: Mattoni | B2: orizzontale | D2: 3 | E2: FBRT-03-I49 | F2: 5.2 | G2: 1.8 | H2: 30 | I2: FBRC-200-08-IN | J2: 3 | K2: 4.8 | L2: FBRC-200-08-INFR | M2: 2 | N2: 3.9 | O2: 0.2 | P2: FBR-ANG-190X9 | Q2: 1 | R2: 1.95 | S2: FBR-MOR-3I | T2: 2 | U2: 0.65 | V2: CNHL110 | W2: 0.166 | X2: =W2*O2*(J2+M2) -> 0.166 | Y2: 33.25 | Z2: EPOCA CALCE NHL 110 | AA2: malta a base calce nhl per interventi di restauro e rinforzo strutturale di elementi in muratura | AB2: ≥ 10 | AC2: 17 | AD2: 0.572 | AE2: 0.2 | AF2: 0.2 | AG2: 0.25 | AH2: 0.2 | AI2: disposti orizzontalmente ogni circa tre / quattro ricorsi di malta
A3: Mattoni | B3: orizzontale | D3: 3 | E3: FBRT-03-I49 | F3: 5.2 | G3: 1.8 | H3: 60 | I3: FBRC-400-08-IN | J3: 3 | K3: 7.75 | L3: FBRC-400-08-INFR | M3: 2 | N3: 5.6 | O3: 0.4 | P3: FBR-ANG-190X9 | Q3: 1 | R3: 1.95 | S3: FBR-MOR-3I | T3: 2 | U3: 0.65 | V3: CNHL110 | W3: 0.166 | X3: =W3*O3*(J3+M3) -> 0.332 | Y3: 33.25 | Z3: EPOCA CALCE NHL 110 | AA3: malta a base calce nhl per interventi di restauro e rinforzo strutturale di elementi in muratura | AB3: ≥ 10 | AC3: 17 | AD3: 0.572 | AE3: 0.2 | AF3: 0.2 | AG3: 0.25 | AH3: 0.2 | AI3: disposti orizzontalmente ogni circa tre / quattro ricorsi di malta
A4: Mattoni | B4: orizzontale | D4: 3 | E4: FBRT-03-I49 | F4: 5.2 | G4: 1.8 | H4: 90 | I4: FBRC-600-08-IN | J4: 3 | K4: 10.5 | L4: FBRC-600-08-INFR | M4: 2 | N4: 7.35 | O4: 0.6 | P4: FBR-ANG-190X9 | Q4: 1 | R4: 1.95 | S4: FBR-MOR-3I | T4: 2 | U4: 0.65 | V4: CNHL110 | W4: 0.166 | X4: =W4*O4*(J4+M4) -> 0.498 | Y4: 33.25 | Z4: EPOCA CALCE NHL 110 | AA4: malta a base calce nhl per interventi di restauro e rinforzo strutturale di elementi in muratura | AB4: ≥ 10 | AC4: 17 | AD4: 0.572 | AE4: 0.2 | AF4: 0.2 | AG4: 0.25 | AH4: 0.2 | AI4: disposti orizzontalmente ogni circa tre / quattro ricorsi di malta
A5: Mattoni | B5: orizzontale | D5: 3 | E5: FBRT-03-I49 | F5: 5.2 | G5: 1.8 | H5: 30 | I5: FBRC-200-08-IN | J5: 3 | K5: 4.8 | L5: FBRC-200-08-INFR | M5: 2 | N5: 3.9 | O5: 0.2 | P5: FBR-ANG-190X9 | Q5: 1 | R5: 1.95 | S5: FBR-MOR-3I | T5: 2 | U5: 0.65 | V5: CNHL115 | W5: 0.166 | X5: =W5*O5*(J5+M5) -> 0.166 | Y5: 33.25 | Z5: EPOCA CALCE NHL 115 | AA5: malta a base calce nhl per interventi di restauro e rinforzo strutturale di elementi in muratura | AB5: ≥ 15 | AC5: 17 | AD5: 0.604 | AE5: 0.2 | AF5: 0.2 | AG5: 0.25 | AH5: 0.2 | AI5: disposti orizzontalmente ogni circa tre / quattro ricorsi di malta
A6: Mattoni | B6: orizzontale | D6: 3 | E6: FBRT-03-I49 | F6: 5.2 | G6: 1.8 | H6: 60 | I6: FBRC-400-08-IN | J6: 3 | K6: 7.75 | L6: FBRC-400-08-INFR | M6: 2 | N6: 5.6 | O6: 0.4 | P6: FBR-ANG-190X9 | Q6: 1 | R6: 1.95 | S6: FBR-MOR-3I | T6: 2 | U6: 0.65 | V6: CNHL115 | W6: 0.166 | X6: =W6*O6*(J6+M6) -> 0.332 | Y6: 33.25 | Z6: EPOCA CALCE NHL 115 | AA6: malta a base calce nhl per interventi di restauro e rinforzo strutturale di elementi in muratura | AB6: ≥ 15 | AC6: 17 | AD6: 0.604 | AE6: 0.2 | AF6: 0.2 | AG6: 0.25 | AH6: 0.2 | AI6: disposti orizzontalmente ogni circa tre / quattro ricorsi di malta
A7: Mattoni | B7: orizzontale | D7: 3 | E7: FBRT-03-I49 | F7: 5.2 | G7: 1.8 | H7: 90 | I7: FBRC-600-08-IN | J7: 3 | K7: 10.5 | L7: FBRC-600-08-INFR | M7: 2 | N7: 7.35 | O7: 0.6 | P7: FBR-ANG-190X9 | Q7: 1 | R7: 1.95 | S7: FBR-MOR-3I | T7: 2 | U7: 0.65 | V7: CNHL115 | W7: 0.166 | X7: =W7*O7*(J7+M7) -> 0.498 | Y7: 33.25 | Z7: EPOCA CALCE NHL 115 | AA7: malta a base calce nhl per interventi di restauro e rinforzo strutturale di elementi in muratura | AB7: ≥ 15 | AC7: 17 | AD7: 0.604 | AE7: 0.2 | AF7: 0.2 | AG7: 0.25 | AH7: 0.2 | AI7: disposti orizzontalmente ogni circa tre / quattro ricorsi di malta
A8: Mattoni | B8: orizzontale | D8: 3 | E8: FBRT-03-I49 | F8: 5.2 | G8: 1.8 | H8: 30 | I8: FBRC-200-08-IN | J8: 3 | K8: 4.8 | L8: FBRC-200-08-INFR | M8: 2 | N8: 3.9 | O8: 0.2 | P8: FBR-ANG-190X9 | Q8: 1 | R8: 1.95 | S8: FBR-MOR-3I | T8: 2 | U8: 0.65 | V8: SNHL110 | W8: 0.166 | X8: =W8*O8*(J8+M8) -> 0.166 | Y8: 33.25 | Z8: EPOCA STORICA NHL 110 - | AA8: malta di purissima calce idraulica naturale per interventi di restauro e rinforzo strutturale di elementi in muratura | AB8: ≥ 12 | AC8: 18 | AD8: 0.848 | AE8: 0.2 | AF8: 0.2 | AG8: 0.25 | AH8: 0.2 | AI8: disposti orizzontalmente ogni circa tre / quattro ricorsi di malta
A9: Mattoni | B9: orizzontale | D9: 3 | E9: FBRT-03-I49 | F9: 5.2 | G9: 1.8 | H9: 60 | I9: FBRC-400-08-IN | J9: 3 | K9: 7.75 | L9: FBRC-400-08-INFR | M9: 2 | N9: 5.6 | O9: 0.4 | P9: FBR-ANG-190X9 | Q9: 1 | R9: 1.95 | S9: FBR-MOR-3I | T9: 2 | U9: 0.65 | V9: SNHL110 | W9: 0.166 | X9: =W9*O9*(J9+M9) -> 0.332 | Y9: 33.25 | Z9: EPOCA STORICA NHL 110 - | AA9: malta di purissima calce idraulica naturale per interventi di restauro e rinforzo strutturale di elementi in muratura | AB9: ≥ 12 | AC9: 18 | AD9: 0.848 | AE9: 0.2 | AF9: 0.2 | AG9: 0.25 | AH9: 0.2 | AI9: disposti orizzontalmente ogni circa tre / quattro ricorsi di malta
A10: Mattoni | B10: orizzontale | D10: 3 | E10: FBRT-03-I49 | F10: 5.2 | G10: 1.8 | H10: 90 | I10: FBRC-600-08-IN | J10: 3 | K10: 10.5 | L10: FBRC-600-08-INFR | M10: 2 | N10: 7.35 | O10: 0.6 | P10: FBR-ANG-190X9 | Q10: 1 | R10: 1.95 | S10: FBR-MOR-3I | T10: 2 | U10: 0.65 | V10: SNHL110 | W10: 0.166 | X10: =W10*O10*(J10+M10) -> 0.498 | Y10: 33.25 | Z10: EPOCA STORICA NHL 110 - | AA10: malta di purissima calce idraulica naturale per interventi di restauro e rinforzo strutturale di elementi in muratura | AB10: ≥ 12 | AC10: 18 | AD10: 0.848 | AE10: 0.2 | AF10: 0.2 | AG10: 0.25 | AH10: 0.2 | AI10: disposti orizzontalmente ogni circa tre / quattro ricorsi di malta
A11: Mattoni | B11: orizzontale | D11: 3 | E11: FBRT-03-I49 | F11: 5.2 | G11: 1.8 | H11: 30 | I11: FBRC-200-08-IN | J11: 3 | K11: 4.8 | L11: FBRC-200-08-INFR | M11: 2 | N11: 3.9 | O11: 0.2 | P11: FBR-ANG-190X9 | Q11: 1 | R11: 1.95 | S11: FBR-MOR-3I | T11: 2 | U11: 0.65 | V11: SNHL115 | W11: 0.166 | X11: =W11*O11*(J11+M11) -> 0.166 | Y11: 33.25 | Z11: EPOCA STORICA NHL 115 | AA11: malta di purissima calce idraulica naturale per interventi di restauro e rinforzo strutturale di elementi in muratura | AB11: ≥ 16 | AC11: 18 | AD11: 0.853 | AE11: 0.2 | AF11: 0.2 | AG11: 0.25 | AH11: 0.2 | AI11: disposti orizzontalmente ogni circa tre / quattro ricorsi di malta
A12: Mattoni | B12: orizzontale | D12: 3 | E12: FBRT-03-I49 | F12: 5.2 | G12: 1.8 | H12: 60 | I12: FBRC-400-08-IN | J12: 3 | K12: 7.75 | L12: FBRC-400-08-INFR | M12: 2 | N12: 5.6 | O12: 0.4 | P12: FBR-ANG-190X9 | Q12: 1 | R12: 1.95 | S12: FBR-MOR-3I | T12: 2 | U12: 0.65 | V12: SNHL115 | W12: 0.166 | X12: =W12*O12*(J12+M12) -> 0.332 | Y12: 33.25 | Z12: EPOCA STORICA NHL 115 | AA12: malta di purissima calce idraulica naturale per interventi di restauro e rinforzo strutturale di elementi in muratura | AB12: ≥ 16 | AC12: 18 | AD12: 0.853 | AE12: 0.2 | AF12: 0.2 | AG12: 0.25 | AH12: 0.2 | AI12: disposti orizzontalmente ogni circa tre / quattro ricorsi di malta
A13: Mattoni | B13: orizzontale | D13: 3 | E13: FBRT-03-I49 | F13: 5.2 | G13: 1.8 | H13: 90 | I13: FBRC-600-08-IN | J13: 3 | K13: 10.5 | L13: FBRC-600-08-INFR | M13: 2 | N13: 7.35 | O13: 0.6 | P13: FBR-ANG-190X9 | Q13: 1 | R13: 1.95 | S13: FBR-MOR-3I | T13: 2 | U13: 0.65 | V13: SNHL115 | W13: 0.166 | X13: =W13*O13*(J13+M13) -> 0.498 | Y13: 33.25 | Z13: EPOCA STORICA NHL 115 | AA13: malta di purissima calce idraulica naturale per interventi di restauro e rinforzo strutturale di elementi in muratura | AB13: ≥ 16 | AC13: 18 | AD13: 0.853 | AE13: 0.2 | AF13: 0.2 | AG13: 0.25 | AH13: 0.2 | AI13: disposti orizzontalmente ogni circa tre / quattro ricorsi di malta
... A25: Mattoni | B25: orizzontale | D25: 5 | E25: FBRT-05-I49 | F25: 5.2 | G25: 3.5 | H25: 90 | I25: FBRC-600-08-IN | J25: 3 | K25: 10.5 | L25: FBRC-600-08-INFR | M25: 2 | N25: 7.35 | O25: 0.6 | P25: FBR-ANG-190X9 | Q25: 1 | R25: 1.95 | S25: FBR-MOR-3I | T25: 2 | U25: 0.65 | V25: SNHL115 | W25: 0.166 | X25: =W25*O25*(J25+M25) -> 0.498 | Y25: 33.25 | Z25: EPOCA STORICA NHL 115 | AA25: malta di purissima calce idraulica naturale per interventi di restauro e rinforzo strutturale di elementi in muratura | AB25: ≥ 16 | AC25: 18 | AD25: 0.853 | AE25: 0.2 | AF25: 0.2 | AG25: 0.25 | AH25: 0.2 | AI25: disposti orizzontalmente ogni circa tre / quattro ricorsi di malta
A26: Pietrame | B26: 30x30 cm | C26: per il rinforzo diffuso | D26: 3 | E26: FBRT-03-I49 | F26: 7.8 | G26: 1.8 | H26: 30 | I26: FBRC-200-08-IN | J26: 3 | K26: 4.8 | L26: FBRC-200-08-INFR | M26: 2 | N26: 3.9 | O26: 0.2 | P26: FBR-ANG-190X9 | Q26: 1 | R26: 1.95 | S26: FBR-MOR-3I | T26: 2 | U26: 0.65 | V26: CNHL110 | W26: 0.166 | X26: =W26*O26*(J26+M26) -> 0.166 | Y26: 33.25 | Z26: EPOCA CALCE NHL 110 | AA26: malta a base calce nhl per interventi di restauro e rinforzo strutturale di elementi in muratura | AB26: ≥ 10 | AC26: 17 | AD26: 0.572 | AE26: 0.2 | AF26: 0.2 | AG26: 0.25 | AH26: 0.2 | AI26: a formare una maglia di
A27: Pietrame | B27: 30x30 cm | C27: per il rinforzo diffuso | D27: 3 | E27: FBRT-03-I49 | F27: 7.8 | G27: 1.8 | H27: 60 | I27: FBRC-400-08-IN | J27: 3 | K27: 7.75 | L27: FBRC-400-08-INFR | M27: 2 | N27: 5.6 | O27: 0.4 | P27: FBR-ANG-190X9 | Q27: 1 | R27: 1.95 | S27: FBR-MOR-3I | T27: 2 | U27: 0.65 | V27: CNHL110 | W27: 0.166 | X27: =W27*O27*(J27+M27) -> 0.332 | Y27: 33.25 | Z27: EPOCA CALCE NHL 110 | AA27: malta a base calce nhl per interventi di restauro e rinforzo strutturale di elementi in muratura | AB27: ≥ 10 | AC27: 17 | AD27: 0.572 | AE27: 0.2 | AF27: 0.2 | AG27: 0.25 | AH27: 0.2 | AI27: a formare una maglia di
A28: Pietrame | B28: 30x30 cm | C28: per il rinforzo diffuso | D28: 3 | E28: FBRT-03-I49 | F28: 7.8 | G28: 1.8 | H28: 90 | I28: FBRC-600-08-IN | J28: 3 | K28: 10.5 | L28: FBRC-600-08-INFR | M28: 2 | N28: 7.35 | O28: 0.6 | P28: FBR-ANG-190X9 | Q28: 1 | R28: 1.95 | S28: FBR-MOR-3I | T28: 2 | U28: 0.65 | V28: CNHL110 | W28: 0.166 | X28: =W28*O28*(J28+M28) -> 0.498 | Y28: 33.25 | Z28: EPOCA CALCE NHL 110 | AA28: malta a base calce nhl per interventi di restauro e rinforzo strutturale di elementi in muratura | AB28: ≥ 10 | AC28: 17 | AD28: 0.572 | AE28: 0.2 | AF28: 0.2 | AG28: 0.25 | AH28: 0.2 | AI28: a formare una maglia di
A29: Pietrame | B29: 30x30 cm | C29: per il rinforzo diffuso | D29: 3 | E29: FBRT-03-I49 | F29: 7.8 | G29: 1.8 | H29: 30 | I29: FBRC-200-08-IN | J29: 3 | K29: 4.8 | L29: FBRC-200-08-INFR | M29: 2 | N29: 3.9 | O29: 0.2 | P29: FBR-ANG-190X9 | Q29: 1 | R29: 1.95 | S29: FBR-MOR-3I | T29: 2 | U29: 0.65 | V29: CNHL115 | W29: 0.166 | X29: =W29*O29*(J29+M29) -> 0.166 | Y29: 33.25 | Z29: EPOCA CALCE NHL 115 | AA29: malta a base calce nhl per interventi di restauro e rinforzo strutturale di elementi in muratura | AB29: ≥ 15 | AC29: 17 | AD29: 0.604 | AE29: 0.2 | AF29: 0.2 | AG29: 0.25 | AH29: 0.2 | AI29: a formare una maglia di
A30: Pietrame | B30: 30x30 cm | C30: per il rinforzo diffuso | D30: 3 | E30: FBRT-03-I49 | F30: 7.8 | G30: 1.8 | H30: 60 | I30: FBRC-400-08-IN | J30: 3 | K30: 7.75 | L30: FBRC-400-08-INFR | M30: 2 | N30: 5.6 | O30: 0.4 | P30: FBR-ANG-190X9 | Q30: 1 | R30: 1.95 | S30: FBR-MOR-3I | T30: 2 | U30: 0.65 | V30: CNHL115 | W30: 0.166 | X30: =W30*O30*(J30+M30) -> 0.332 | Y30: 33.25 | Z30: EPOCA CALCE NHL 115 | AA30: malta a base calce nhl per interventi di restauro e rinforzo strutturale di elementi in muratura | AB30: ≥ 15 | AC30: 17 | AD30: 0.604 | AE30: 0.2 | AF30: 0.2 | AG30: 0.25 | AH30: 0.2 | AI30: a formare una maglia di
A31: Pietrame | B31: 30x30 cm | C31: per il rinforzo diffuso | D31: 3 | E31: FBRT-03-I49 | F31: 7.8 | G31: 1.8 | H31: 90 | I31: FBRC-600-08-IN | J31: 3 | K31: 10.5 | L31: FBRC-600-08-INFR | M31: 2 | N31: 7.35 | O31: 0.6 | P31: FBR-ANG-190X9 | Q31: 1 | R31: 1.95 | S31: FBR-MOR-3I | T31: 2 | U31: 0.65 | V31: CNHL115 | W31: 0.166 | X31: =W31*O31*(J31+M31) -> 0.498 | Y31: 33.25 | Z31: EPOCA CALCE NHL 115 | AA31: malta a base calce nhl per interventi di restauro e rinforzo strutturale di elementi in muratura | AB31: ≥ 15 | AC31: 17 | AD31: 0.604 | AE31: 0.2 | AF31: 0.2 | AG31: 0.25 | AH31: 0.2 | AI31: a formare una maglia di
A32: Pietrame | B32: 30x30 cm | C32: per il rinforzo diffuso | D32: 3 | E32: FBRT-03-I49 | F32: 7.8 | G32: 1.8 | H32: 30 | I32: FBRC-200-08-IN | J32: 3 | K32: 4.8 | L32: FBRC-200-08-INFR | M32: 2 | N32: 3.9 | O32: 0.2 | P32: FBR-ANG-190X9 | Q32: 1 | R32: 1.95 | S32: FBR-MOR-3I | T32: 2 | U32: 0.65 | V32: SNHL110 | W32: 0.166 | X32: =W32*O32*(J32+M32) -> 0.166 | Y32: 33.25 | Z32: EPOCA STORICA NHL 110 - | AA32: malta di purissima calce idraulica naturale per interventi di restauro e rinforzo strutturale di elementi in muratura | AB32: ≥ 12 | AC32: 18 | AD32: 0.848 | AE32: 0.2 | AF32: 0.2 | AG32: 0.25 | AH32: 0.2 | AI32: a formare una maglia di
A33: Pietrame | B33: 30x30 cm | C33: per il rinforzo diffuso | D33: 3 | E33: FBRT-03-I49 | F33: 7.8 | G33: 1.8 | H33: 60 | I33: FBRC-400-08-IN | J33: 3 | K33: 7.75 | L33: FBRC-400-08-INFR | M33: 2 | N33: 5.6 | O33: 0.4 | P33: FBR-ANG-190X9 | Q33: 1 | R33: 1.95 | S33: FBR-MOR-3I | T33: 2 | U33: 0.65 | V33: SNHL110 | W33: 0.166 | X33: =W33*O33*(J33+M33) -> 0.332 | Y33: 33.25 | Z33: EPOCA STORICA NHL 110 - | AA33: malta di purissima calce idraulica naturale per interventi di restauro e rinforzo strutturale di elementi in muratura | AB33: ≥ 12 | AC33: 18 | AD33: 0.848 | AE33: 0.2 | AF33: 0.2 | AG33: 0.25 | AH33: 0.2 | AI33: a formare una maglia di
A34: Pietrame | B34: 30x30 cm | C34: per il rinforzo diffuso | D34: 3 | E34: FBRT-03-I49 | F34: 7.8 | G34: 1.8 | H34: 90 | I34: FBRC-600-08-IN | J34: 3 | K34: 10.5 | L34: FBRC-600-08-INFR | M34: 2 | N34: 7.35 | O34: 0.6 | P34: FBR-ANG-190X9 | Q34: 1 | R34: 1.95 | S34: FBR-MOR-3I | T34: 2 | U34: 0.65 | V34: SNHL110 | W34: 0.166 | X34: =W34*O34*(J34+M34) -> 0.498 | Y34: 33.25 | Z34: EPOCA STORICA NHL 110 - | AA34: malta di purissima calce idraulica naturale per interventi di restauro e rinforzo strutturale di elementi in muratura | AB34: ≥ 12 | AC34: 18 | AD34: 0.848 | AE34: 0.2 | AF34: 0.2 | AG34: 0.25 | AH34: 0.2 | AI34: a formare una maglia di
A35: Pietrame | B35: 30x30 cm | C35: per il rinforzo diffuso | D35: 3 | E35: FBRT-03-I49 | F35: 7.8 | G35: 1.8 | H35: 30 | I35: FBRC-200-08-IN | J35: 3 | K35: 4.8 | L35: FBRC-200-08-INFR | M35: 2 | N35: 3.9 | O35: 0.2 | P35: FBR-ANG-190X9 | Q35: 1 | R35: 1.95 | S35: FBR-MOR-3I | T35: 2 | U35: 0.65 | V35: SNHL115 | W35: 0.166 | X35: =W35*O35*(J35+M35) -> 0.166 | Y35: 33.25 | Z35: EPOCA STORICA NHL 115 | AA35: malta di purissima calce idraulica naturale per interventi di restauro e rinforzo strutturale di elementi in muratura | AB35: ≥ 16 | AC35: 18 | AD35: 0.853 | AE35: 0.2 | AF35: 0.2 | AG35: 0.25 | AH35: 0.2 | AI35: a formare una maglia di
A36: Pietrame | B36: 30x30 cm | C36: per il rinforzo diffuso | D36: 3 | E36: FBRT-03-I49 | F36: 7.8 | G36: 1.8 | H36: 60 | I36: FBRC-400-08-IN | J36: 3 | K36: 7.75 | L36: FBRC-400-08-INFR | M36: 2 | N36: 5.6 | O36: 0.4 | P36: FBR-ANG-190X9 | Q36: 1 | R36: 1.95 | S36: FBR-MOR-3I | T36: 2 | U36: 0.65 | V36: SNHL115 | W36: 0.166 | X36: =W36*O36*(J36+M36) -> 0.332 | Y36: 33.25 | Z36: EPOCA STORICA NHL 115 | AA36: malta di purissima calce idraulica naturale per interventi di restauro e rinforzo strutturale di elementi in muratura | AB36: ≥ 16 | AC36: 18 | AD36: 0.853 | AE36: 0.2 | AF36: 0.2 | AG36: 0.25 | AH36: 0.2 | AI36: a formare una maglia di
A37: Pietrame | B37: 30x30 cm | C37: per il rinforzo diffuso | D37: 3 | E37: FBRT-03-I49 | F37: 7.8 | G37: 1.8 | H37: 90 | I37: FBRC-600-08-IN | J37: 3 | K37: 10.5 | L37: FBRC-600-08-INFR | M37: 2 | N37: 7.35 | O37: 0.6 | P37: FBR-ANG-190X9 | Q37: 1 | R37: 1.95 | S37: FBR-MOR-3I | T37: 2 | U37: 0.65 | V37: SNHL115 | W37: 0.166 | X37: =W37*O37*(J37+M37) -> 0.498 | Y37: 33.25 | Z37: EPOCA STORICA NHL 115 | AA37: malta di purissima calce idraulica naturale per interventi di restauro e rinforzo strutturale di elementi in muratura | AB37: ≥ 16 | AC37: 18 | AD37: 0.853 | AE37: 0.2 | AF37: 0.2 | AG37: 0.25 | AH37: 0.2 | AI37: a formare una maglia di
... A73: Pietrame | B73: 40x40 cm | C73: per il rinforzo diffuso | D73: 5 | E73: FBRT-05-I49 | F73: 6.5 | G73: 1.8 | H73: 90 | I73: FBRC-600-08-IN | J73: 3 | K73: 10.5 | L73: FBRC-600-08-INFR | M73: 2 | N73: 7.35 | O73: 0.6 | P73: FBR-ANG-190X9 | Q73: 1 | R73: 1.95 | S73: FBR-MOR-3I | T73: 2 | U73: 0.65 | V73: SNHL115 | W73: 0.166 | X73: =W73*O73*(J73+M73) -> 0.498 | Y73: 33.25 | Z73: EPOCA STORICA NHL 115 | AA73: malta di purissima calce idraulica naturale per interventi di restauro e rinforzo strutturale di elementi in muratura | AB73: ≥ 16 | AC73: 18 | AD73: 0.853 | AE73: 0.2 | AF73: 0.2 | AG73: 0.25 | AH73: 0.2 | AI73: a formare una maglia di
A74: Mattoni | B74: orizzontale | D74: 3 | E74: FBRT-03-I49 | F74: 5.2 | G74: 1.8 | H74: 50 | I74: FBRC-400-08-IN | J74: 3 | K74: 7.75 | L74: FBRC-400-08-INFR | M74: 2 | N74: 5.6 | O74: 0.4 | P74: FBR-ANG-190X9 | Q74: 1 | R74: 1.95 | S74: FBR-MOR-3I | T74: 2 | U74: 0.65 | V74: CNHL110 | W74: 0.166 | X74: =W74*O74*(J74+M74) -> 0.332 | Y74: 33.25 | Z74: EPOCA CALCE NHL 110 | AA74: malta a base calce nhl per interventi di restauro e rinforzo strutturale di elementi in muratura | AB74: ≥ 10 | AC74: 17 | AD74: 0.572 | AE74: 0.2 | AF74: 0.2 | AG74: 0.25 | AH74: 0.2 | AI74: disposti orizzontalmente ogni circa tre / quattro ricorsi di malta
A75: Mattoni | B75: orizzontale | D75: 3 | E75: FBRT-03-I49 | F75: 5.2 | G75: 1.8 | H75: 50 | I75: FBRC-400-08-IN | J75: 3 | K75: 7.75 | L75: FBRC-400-08-INFR | M75: 2 | N75: 5.6 | O75: 0.4 | P75: FBR-ANG-190X9 | Q75: 1 | R75: 1.95 | S75: FBR-MOR-3I | T75: 2 | U75: 0.65 | V75: CNHL115 | W75: 0.166 | X75: =W75*O75*(J75+M75) -> 0.332 | Y75: 33.25 | Z75: EPOCA CALCE NHL 115 | AA75: malta a base calce nhl per interventi di restauro e rinforzo strutturale di elementi in muratura | AB75: ≥ 15 | AC75: 17 | AD75: 0.604 | AE75: 0.2 | AF75: 0.2 | AG75: 0.25 | AH75: 0.2 | AI75: disposti orizzontalmente ogni circa tre / quattro ricorsi di malta
A76: Mattoni | B76: orizzontale | D76: 3 | E76: FBRT-03-I49 | F76: 5.2 | G76: 1.8 | H76: 50 | I76: FBRC-400-08-IN | J76: 3 | K76: 7.75 | L76: FBRC-400-08-INFR | M76: 2 | N76: 5.6 | O76: 0.4 | P76: FBR-ANG-190X9 | Q76: 1 | R76: 1.95 | S76: FBR-MOR-3I | T76: 2 | U76: 0.65 | V76: SNHL110 | W76: 0.166 | X76: =W76*O76*(J76+M76) -> 0.332 | Y76: 33.25 | Z76: EPOCA STORICA NHL 110 - | AA76: malta di purissima calce idraulica naturale per interventi di restauro e rinforzo strutturale di elementi in muratura | AB76: ≥ 12 | AC76: 18 | AD76: 0.848 | AE76: 0.2 | AF76: 0.2 | AG76: 0.25 | AH76: 0.2 | AI76: disposti orizzontalmente ogni circa tre / quattro ricorsi di malta
A77: Mattoni | B77: orizzontale | D77: 3 | E77: FBRT-03-I49 | F77: 5.2 | G77: 1.8 | H77: 50 | I77: FBRC-400-08-IN | J77: 3 | K77: 7.75 | L77: FBRC-400-08-INFR | M77: 2 | N77: 5.6 | O77: 0.4 | P77: FBR-ANG-190X9 | Q77: 1 | R77: 1.95 | S77: FBR-MOR-3I | T77: 2 | U77: 0.65 | V77: SNHL115 | W77: 0.166 | X77: =W77*O77*(J77+M77) -> 0.332 | Y77: 33.25 | Z77: EPOCA STORICA NHL 115 | AA77: malta di purissima calce idraulica naturale per interventi di restauro e rinforzo strutturale di elementi in muratura | AB77: ≥ 16 | AC77: 18 | AD77: 0.853 | AE77: 0.2 | AF77: 0.2 | AG77: 0.25 | AH77: 0.2 | AI77: disposti orizzontalmente ogni circa tre / quattro ricorsi di malta
A78: Mattoni | B78: orizzontale | D78: 5 | E78: FBRT-05-I49 | F78: 5.2 | G78: 3.5 | H78: 50 | I78: FBRC-400-08-IN | J78: 3 | K78: 7.75 | L78: FBRC-400-08-INFR | M78: 2 | N78: 5.6 | O78: 0.4 | P78: FBR-ANG-190X9 | Q78: 1 | R78: 1.95 | S78: FBR-MOR-3I | T78: 2 | U78: 0.65 | V78: CNHL110 | W78: 0.166 | X78: =W78*O78*(J78+M78) -> 0.332 | Y78: 33.25 | Z78: EPOCA CALCE NHL 110 | AA78: malta a base calce nhl per interventi di restauro e rinforzo strutturale di elementi in muratura | AB78: ≥ 10 | AC78: 17 | AD78: 0.572 | AE78: 0.2 | AF78: 0.2 | AG78: 0.25 | AH78: 0.2 | AI78: disposti orizzontalmente ogni circa tre / quattro ricorsi di malta
A79: Mattoni | B79: orizzontale | D79: 5 | E79: FBRT-05-I49 | F79: 5.2 | G79: 3.5 | H79: 50 | I79: FBRC-400-08-IN | J79: 3 | K79: 7.75 | L79: FBRC-400-08-INFR | M79: 2 | N79: 5.6 | O79: 0.4 | P79: FBR-ANG-190X9 | Q79: 1 | R79: 1.95 | S79: FBR-MOR-3I | T79: 2 | U79: 0.65 | V79: CNHL115 | W79: 0.166 | X79: =W79*O79*(J79+M79) -> 0.332 | Y79: 33.25 | Z79: EPOCA CALCE NHL 115 | AA79: malta a base calce nhl per interventi di restauro e rinforzo strutturale di elementi in muratura | AB79: ≥ 15 | AC79: 17 | AD79: 0.604 | AE79: 0.2 | AF79: 0.2 | AG79: 0.25 | AH79: 0.2 | AI79: disposti orizzontalmente ogni circa tre / quattro ricorsi di malta
A80: Mattoni | B80: orizzontale | D80: 5 | E80: FBRT-05-I49 | F80: 5.2 | G80: 3.5 | H80: 50 | I80: FBRC-400-08-IN | J80: 3 | K80: 7.75 | L80: FBRC-400-08-INFR | M80: 2 | N80: 5.6 | O80: 0.4 | P80: FBR-ANG-190X9 | Q80: 1 | R80: 1.95 | S80: FBR-MOR-3I | T80: 2 | U80: 0.65 | V80: SNHL110 | W80: 0.166 | X80: =W80*O80*(J80+M80) -> 0.332 | Y80: 33.25 | Z80: EPOCA STORICA NHL 110 - | AA80: malta di purissima calce idraulica naturale per interventi di restauro e rinforzo strutturale di elementi in muratura | AB80: ≥ 12 | AC80: 18 | AD80: 0.848 | AE80: 0.2 | AF80: 0.2 | AG80: 0.25 | AH80: 0.2 | AI80: disposti orizzontalmente ogni circa tre / quattro ricorsi di malta
A81: Mattoni | B81: orizzontale | D81: 5 | E81: FBRT-05-I49 | F81: 5.2 | G81: 3.5 | H81: 50 | I81: FBRC-400-08-IN | J81: 3 | K81: 7.75 | L81: FBRC-400-08-INFR | M81: 2 | N81: 5.6 | O81: 0.4 | P81: FBR-ANG-190X9 | Q81: 1 | R81: 1.95 | S81: FBR-MOR-3I | T81: 2 | U81: 0.65 | V81: SNHL115 | W81: 0.166 | X81: =W81*O81*(J81+M81) -> 0.332 | Y81: 33.25 | Z81: EPOCA STORICA NHL 115 | AA81: malta di purissima calce idraulica naturale per interventi di restauro e rinforzo strutturale di elementi in muratura | AB81: ≥ 16 | AC81: 18 | AD81: 0.853 | AE81: 0.2 | AF81: 0.2 | AG81: 0.25 | AH81: 0.2 | AI81: disposti orizzontalmente ogni circa tre / quattro ricorsi di malta
A82: Pietrame | B82: 30x30 cm | C82: per il rinforzo diffuso | D82: 3 | E82: FBRT-03-I49 | F82: 7.8 | G82: 1.8 | H82: 50 | I82: FBRC-400-08-IN | J82: 3 | K82: 7.75 | L82: FBRC-400-08-INFR | M82: 2 | N82: 5.6 | O82: 0.4 | P82: FBR-ANG-190X9 | Q82: 1 | R82: 1.95 | S82: FBR-MOR-3I | T82: 2 | U82: 0.65 | V82: CNHL110 | W82: 0.166 | X82: =W82*O82*(J82+M82) -> 0.332 | Y82: 33.25 | Z82: EPOCA CALCE NHL 110 | AA82: malta a base calce nhl per interventi di restauro e rinforzo strutturale di elementi in muratura | AB82: ≥ 10 | AC82: 17 | AD82: 0.572 | AE82: 0.2 | AF82: 0.2 | AG82: 0.25 | AH82: 0.2 | AI82: a formare una maglia di
A83: Pietrame | B83: 30x30 cm | C83: per il rinforzo diffuso | D83: 3 | E83: FBRT-03-I49 | F83: 7.8 | G83: 1.8 | H83: 50 | I83: FBRC-400-08-IN | J83: 3 | K83: 7.75 | L83: FBRC-400-08-INFR | M83: 2 | N83: 5.6 | O83: 0.4 | P83: FBR-ANG-190X9 | Q83: 1 | R83: 1.95 | S83: FBR-MOR-3I | T83: 2 | U83: 0.65 | V83: CNHL115 | W83: 0.166 | X83: =W83*O83*(J83+M83) -> 0.332 | Y83: 33.25 | Z83: EPOCA CALCE NHL 115 | AA83: malta a base calce nhl per interventi di restauro e rinforzo strutturale di elementi in muratura | AB83: ≥ 15 | AC83: 17 | AD83: 0.604 | AE83: 0.2 | AF83: 0.2 | AG83: 0.25 | AH83: 0.2 | AI83: a formare una maglia di
A84: Pietrame | B84: 30x30 cm | C84: per il rinforzo diffuso | D84: 3 | E84: FBRT-03-I49 | F84: 7.8 | G84: 1.8 | H84: 50 | I84: FBRC-400-08-IN | J84: 3 | K84: 7.75 | L84: FBRC-400-08-INFR | M84: 2 | N84: 5.6 | O84: 0.4 | P84: FBR-ANG-190X9 | Q84: 1 | R84: 1.95 | S84: FBR-MOR-3I | T84: 2 | U84: 0.65 | V84: SNHL110 | W84: 0.166 | X84: =W84*O84*(J84+M84) -> 0.332 | Y84: 33.25 | Z84: EPOCA STORICA NHL 110 - | AA84: malta di purissima calce idraulica naturale per interventi di restauro e rinforzo strutturale di elementi in muratura | AB84: ≥ 12 | AC84: 18 | AD84: 0.848 | AE84: 0.2 | AF84: 0.2 | AG84: 0.25 | AH84: 0.2 | AI84: a formare una maglia di
A85: Pietrame | B85: 30x30 cm | C85: per il rinforzo diffuso | D85: 3 | E85: FBRT-03-I49 | F85: 7.8 | G85: 1.8 | H85: 50 | I85: FBRC-400-08-IN | J85: 3 | K85: 7.75 | L85: FBRC-400-08-INFR | M85: 2 | N85: 5.6 | O85: 0.4 | P85: FBR-ANG-190X9 | Q85: 1 | R85: 1.95 | S85: FBR-MOR-3I | T85: 2 | U85: 0.65 | V85: SNHL115 | W85: 0.166 | X85: =W85*O85*(J85+M85) -> 0.332 | Y85: 33.25 | Z85: EPOCA STORICA NHL 115 | AA85: malta di purissima calce idraulica naturale per interventi di restauro e rinforzo strutturale di elementi in muratura | AB85: ≥ 16 | AC85: 18 | AD85: 0.853 | AE85: 0.2 | AF85: 0.2 | AG85: 0.25 | AH85: 0.2 | AI85: a formare una maglia di
A86: Pietrame | B86: 30x30 cm | C86: per il rinforzo diffuso | D86: 5 | E86: FBRT-05-I49 | F86: 7.8 | G86: 1.8 | H86: 50 | I86: FBRC-400-08-IN | J86: 3 | K86: 7.75 | L86: FBRC-400-08-INFR | M86: 2 | N86: 5.6 | O86: 0.4 | P86: FBR-ANG-190X9 | Q86: 1 | R86: 1.95 | S86: FBR-MOR-3I | T86: 2 | U86: 0.65 | V86: CNHL110 | W86: 0.166 | X86: =W86*O86*(J86+M86) -> 0.332 | Y86: 33.25 | Z86: EPOCA CALCE NHL 110 | AA86: malta a base calce nhl per interventi di restauro e rinforzo strutturale di elementi in muratura | AB86: ≥ 10 | AC86: 17 | AD86: 0.572 | AE86: 0.2 | AF86: 0.2 | AG86: 0.25 | AH86: 0.2 | AI86: a formare una maglia di
A87: Pietrame | B87: 30x30 cm | C87: per il rinforzo diffuso | D87: 5 | E87: FBRT-05-I49 | F87: 7.8 | G87: 1.8 | H87: 50 | I87: FBRC-400-08-IN | J87: 3 | K87: 7.75 | L87: FBRC-400-08-INFR | M87: 2 | N87: 5.6 | O87: 0.4 | P87: FBR-ANG-190X9 | Q87: 1 | R87: 1.95 | S87: FBR-MOR-3I | T87: 2 | U87: 0.65 | V87: CNHL115 | W87: 0.166 | X87: =W87*O87*(J87+M87) -> 0.332 | Y87: 33.25 | Z87: EPOCA CALCE NHL 115 | AA87: malta a base calce nhl per interventi di restauro e rinforzo strutturale di elementi in muratura | AB87: ≥ 15 | AC87: 17 | AD87: 0.604 | AE87: 0.2 | AF87: 0.2 | AG87: 0.25 | AH87: 0.2 | AI87: a formare una maglia di
A88: Pietrame | B88: 30x30 cm | C88: per il rinforzo diffuso | D88: 5 | E88: FBRT-05-I49 | F88: 7.8 | G88: 1.8 | H88: 50 | I88: FBRC-400-08-IN | J88: 3 | K88: 7.75 | L88: FBRC-400-08-INFR | M88: 2 | N88: 5.6 | O88: 0.4 | P88: FBR-ANG-190X9 | Q88: 1 | R88: 1.95 | S88: FBR-MOR-3I | T88: 2 | U88: 0.65 | V88: SNHL110 | W88: 0.166 | X88: =W88*O88*(J88+M88) -> 0.332 | Y88: 33.25 | Z88: EPOCA STORICA NHL 110 - | AA88: malta di purissima calce idraulica naturale per interventi di restauro e rinforzo strutturale di elementi in muratura | AB88: ≥ 12 | AC88: 18 | AD88: 0.848 | AE88: 0.2 | AF88: 0.2 | AG88: 0.25 | AH88: 0.2 | AI88: a formare una maglia di
A89: Pietrame | B89: 30x30 cm | C89: per il rinforzo diffuso | D89: 5 | E89: FBRT-05-I49 | F89: 7.8 | G89: 1.8 | H89: 50 | I89: FBRC-400-08-IN | J89: 3 | K89: 7.75 | L89: FBRC-400-08-INFR | M89: 2 | N89: 5.6 | O89: 0.4 | P89: FBR-ANG-190X9 | Q89: 1 | R89: 1.95 | S89: FBR-MOR-3I | T89: 2 | U89: 0.65 | V89: SNHL115 | W89: 0.166 | X89: =W89*O89*(J89+M89) -> 0.332 | Y89: 33.25 | Z89: EPOCA STORICA NHL 115 | AA89: malta di purissima calce idraulica naturale per interventi di restauro e rinforzo strutturale di elementi in muratura | AB89: ≥ 16 | AC89: 18 | AD89: 0.853 | AE89: 0.2 | AF89: 0.2 | AG89: 0.25 | AH89: 0.2 | AI89: a formare una maglia di
A90: Pietrame | B90: 40x40 cm | C90: per il rinforzo diffuso | D90: 3 | E90: FBRT-03-I49 | F90: 6.5 | G90: 1.8 | H90: 50 | I90: FBRC-400-08-IN | J90: 3 | K90: 7.75 | L90: FBRC-400-08-INFR | M90: 2 | N90: 5.6 | O90: 0.4 | P90: FBR-ANG-190X9 | Q90: 1 | R90: 1.95 | S90: FBR-MOR-3I | T90: 2 | U90: 0.65 | V90: CNHL110 | W90: 0.166 | X90: =W90*O90*(J90+M90) -> 0.332 | Y90: 33.25 | Z90: EPOCA CALCE NHL 110 | AA90: malta a base calce nhl per interventi di restauro e rinforzo strutturale di elementi in muratura | AB90: ≥ 10 | AC90: 17 | AD90: 0.572 | AE90: 0.2 | AF90: 0.2 | AG90: 0.25 | AH90: 0.2 | AI90: a formare una maglia di
A91: Pietrame | B91: 40x40 cm | C91: per il rinforzo diffuso | D91: 3 | E91: FBRT-03-I49 | F91: 6.5 | G91: 1.8 | H91: 50 | I91: FBRC-400-08-IN | J91: 3 | K91: 7.75 | L91: FBRC-400-08-INFR | M91: 2 | N91: 5.6 | O91: 0.4 | P91: FBR-ANG-190X9 | Q91: 1 | R91: 1.95 | S91: FBR-MOR-3I | T91: 2 | U91: 0.65 | V91: CNHL115 | W91: 0.166 | X91: =W91*O91*(J91+M91) -> 0.332 | Y91: 33.25 | Z91: EPOCA CALCE NHL 115 | AA91: malta a base calce nhl per interventi di restauro e rinforzo strutturale di elementi in muratura | AB91: ≥ 15 | AC91: 17 | AD91: 0.604 | AE91: 0.2 | AF91: 0.2 | AG91: 0.25 | AH91: 0.2 | AI91: a formare una maglia di
A92: Pietrame | B92: 40x40 cm | C92: per il rinforzo diffuso | D92: 3 | E92: FBRT-03-I49 | F92: 6.5 | G92: 1.8 | H92: 50 | I92: FBRC-400-08-IN | J92: 3 | K92: 7.75 | L92: FBRC-400-08-INFR | M92: 2 | N92: 5.6 | O92: 0.4 | P92: FBR-ANG-190X9 | Q92: 1 | R92: 1.95 | S92: FBR-MOR-3I | T92: 2 | U92: 0.65 | V92: SNHL110 | W92: 0.166 | X92: =W92*O92*(J92+M92) -> 0.332 | Y92: 33.25 | Z92: EPOCA STORICA NHL 110 - | AA92: malta di purissima calce idraulica naturale per interventi di restauro e rinforzo strutturale di elementi in muratura | AB92: ≥ 12 | AC92: 18 | AD92: 0.848 | AE92: 0.2 | AF92: 0.2 | AG92: 0.25 | AH92: 0.2 | AI92: a formare una maglia di
A93: Pietrame | B93: 40x40 cm | C93: per il rinforzo diffuso | D93: 3 | E93: FBRT-03-I49 | F93: 6.5 | G93: 1.8 | H93: 50 | I93: FBRC-400-08-IN | J93: 3 | K93: 7.75 | L93: FBRC-400-08-INFR | M93: 2 | N93: 5.6 | O93: 0.4 | P93: FBR-ANG-190X9 | Q93: 1 | R93: 1.95 | S93: FBR-MOR-3I | T93: 2 | U93: 0.65 | V93: SNHL115 | W93: 0.166 | X93: =W93*O93*(J93+M93) -> 0.332 | Y93: 33.25 | Z93: EPOCA STORICA NHL 115 | AA93: malta di purissima calce idraulica naturale per interventi di restauro e rinforzo strutturale di elementi in muratura | AB93: ≥ 16 | AC93: 18 | AD93: 0.853 | AE93: 0.2 | AF93: 0.2 | AG93: 0.25 | AH93: 0.2 | AI93: a formare una maglia di
... A97: Pietrame | B97: 40x40 cm | C97: per il rinforzo diffuso | D97: 5 | E97: FBRT-05-I49 | F97: 6.5 | G97: 1.8 | H97: 30 | I97: FBRC-400-08-IN | J97: 3 | K97: 7.75 | L97: FBRC-400-08-INFR | M97: 2 | N97: 5.6 | O97: 0.4 | P97: FBR-ANG-190X9 | Q97: 1 | R97: 1.95 | S97: FBR-MOR-3I | T97: 2 | U97: 0.65 | V97: SNHL115 | W97: 0.166 | X97: =W97*O97*(J97+M97) -> 0.332 | Y97: 33.25 | Z97: EPOCA STORICA NHL 115 | AA97: malta di purissima calce idraulica naturale per interventi di restauro e rinforzo strutturale di elementi in muratura | AB97: ≥ 16 | AC97: 18 | AD97: 0.853 | AE97: 0.2 | AF97: 0.2 | AG97: 0.25 | AH97: 0.2 | AI97: a formare una maglia di
