Workbook

Sheet RI-STRUTTURA ANGOLARI
D1: TAVOLA CRM 00-19 | E1: =_xlfn.CONCAT("ELEMENTO ANGOLARE RINFORZO DI ARCHI E PILASTRI Angolare ",A4,) -> ELEMENTO ANGOLARE RINFORZO DI ARCHI E PILASTRI Angolare FBANG99X99T192AR | I1: ANGOLARE | J1: MAGLIA (mm) | K1: SPESSORE (mm) | L1: DIMENSIONE LATO (mm) | M1: €/m | N1: Tensione a trazione (Mpa) | O1: Sez. nominale (mm²) | P1: M. elastico (N/mm²) | Q1: Resistenza caratt barra | R1: Allungamento | S1: Resistenza a strappo | T1: M.E | U1: barre/m/l | V1: Operaio Comune | W1: Applicazione Fraz. H Com
I2: =A4 -> FBANG99X99T192AR | J2: =VLOOKUP(I2,DATI!A:P,2,0) -> 99x99 | K2: =VLOOKUP(I2,DATI!A:P,3,0) -> 5 | L2: =VLOOKUP(I2,DATI!A:P,4,0) -> 330x330 | M2: =VLOOKUP(I2,DATI!A:P,5,0) -> 18.4 | N2: =VLOOKUP(I2,DATI!A:P,6,0) -> 395 | O2: =VLOOKUP(I2,DATI!A:P,7,0) -> 14.31 | P2: =VLOOKUP(I2,DATI!A:P,8,0) -> 25500 | Q2: =VLOOKUP(I2,DATI!A:P,9,0) -> 5.5 | R2: =VLOOKUP(I2,DATI!A:P,10,0) -> 1.5 | S2: =VLOOKUP(I2,DATI!A:P,11,0) -> 0.43 | T2: =VLOOKUP(I2,DATI!A:P,12,0) -> 15 | U2: =VLOOKUP(I2,DATI!A:P,13,0) -> 10 | V2: =VLOOKUP(I2,DATI!A:P,14,0) -> 26.72 | W2: =VLOOKUP(I2,DATI!A:P,15,0) -> 0.1
A3: Tipologia angolare
A4: FBANG99X99T192AR
A6: VOCE DI CAPITOLATO
A7: =_xlfn.CONCAT(" Rinforzo di murature mediante collegamento di incroci murari e/o consolidamento strutturale di pilastri e archi con tecnica dell’intonaco armato, mediante applicazione di elemento d’angolo ", A4, _xlfn._LONGTEXT(" di Fibre Net Spa, o equivalente, componente del Sistema CRM - Composite Reinforced Mortar - System for strengthening masonry wall denominato RI-STRUTTURA preformato in materiale composito fibrorinforzato G.F.R.P. (Glass Fiber Reinforced Polymer), dotato ","di marcatura CE per azioni gravitazionali, vento e sisma; in possesso di certificazione EPD ai fini della dichiarazione di contributo ai CAM (criteri ambientali minimi). Angolare alcalino resistente, preformato con piega a 90°, composto da rete realizzata"," con roving di vetro e resina termoindurente di tipo vinilestere-epossidico, diametro nominale dei trefoli >"), K2, " mm, di altezza 2,00 m e larghezza 33 cm per lato. Tensione a trazione del composito ≥ ", N2, " MPa, sezione nominale della singola barra ≥ ", O2, " mm², modulo elastico a trazione equivalente ≥ ", P2, " N/mm², resistenza a trazione caratteristica della singola barra ≥ ", Q2, " kN, allungamento medio a rottura ", R2, "%, resistenza caratteristica a strappo del nodo ≥ ", S2, " kN. Decadimento di resistenza a trazione e del modulo elastico per l’ambiente umido, alcalino e salino < ", T2, "%") -> Rinforzo di murature mediante collegamento di incroci murari e/o consolidamento strutturale di pilastri e archi con tecnica dell’intonaco armato, mediante applicazione di elemento d’angolo FBANG99X99T192AR di Fibre Net Spa, o equivalente, componente del Sistema CRM - Composite Reinforced Mortar - System for strengthening masonry wall denominato RI-STRUTTURA preformato in materiale composito fibrorinforzato G.F.R.P. (Glass Fiber Reinforced Polymer), dotato di marcatura CE per azioni gravitazionali, vento e sisma; in possesso di certificazione EPD ai fini della dichiarazione di contributo ai CAM (criteri ambientali minimi). Angolare alcalino resistente, preformato con piega a 90°, composto da rete realizzata con roving di vetro e resina termoindurente di tipo vinilestere-epossidico, diametro nominale dei trefoli >5 mm, di altezza 2,00 m e larghezza 33 cm per lato. Tensione a trazione del composito ≥ 395 MPa, sezione nominale della singola barra ≥ 14,31 mm², modulo elastico a trazione equivalente ≥ 25500 N/mm², resistenza a trazione caratteristica della singola barra ≥ 5,5 kN, allungamento medio a rottura 1,5%, resistenza caratteristica a strappo del nodo ≥ 0,43 kN. Decadimento di resistenza a trazione e del modulo elastico per l’ambiente umido, alcalino e salino < 15%
A8: INCLUSO NEL PREZZO:
A9: Quanto altro occorre per dare il lavoro finito secondo le regole dell’arte.
A10: ESCLUSO DAL PREZZO:
A11: I ponteggi, impalcature e/o attrezzature necessarie all’esecuzione dei lavori e le eventuali coperture installate a protezione degli agenti atmosferici e quant’altro non specificato.
A12: APPLICAZIONE SU METRO LINEARE DI ANGOLO | F12: €/m | G12: =G38 -> 26.65608
A14: Elementi Analisi | C14: u.m. | D14: Qtà | E14: Prezzo € | F14: Parziali €/m | G14: €/m
A16: RU - RISORSE UMANE
A17: Applicazione rinforzo d'angolo
A18: M01004a - operaio edile comune | C18: h/m | D18: =W2 -> 0.1 | E18: =V2 -> 26.72 | F18: =D18*E18 -> 2.672
F19: totale risosrse umane RU | G19: =SUM(F18:F18) -> 2.672
A21: PR - PRODOTTI DA COSTRUZIONE
A22: =_xlfn.CONCAT("Rinforzo d'angolo in G.F.R.P. ", A4, ", altezza 2 m - larghezza 33 cm per lato") -> Rinforzo d'angolo in G.F.R.P. FBANG99X99T192AR, altezza 2 m - larghezza 33 cm per lato | C22: m | D22: 1 | E22: =M2 -> 18.4 | F22: =D22*E22 -> 18.4
F24: totale prodotti da costruzione PR | G24: =SUM(F22:F22) -> 18.4
A25: NT - NOLI E TRASPORTI
A26: Intonacatrice | C26: m² | D26: 0 | E26: 1.1 | F26: =D26*E26 -> 0
A27: Trasporto | C27: m² | D27: 0 | E27: 3 | F27: =D27*E27 -> 0
F28: totale prodotti da costruzione PR | G28: =SUM(F26:F27) -> 0
A31: A) TOTALE PARZIALI | F31: sommano RU + PR + NT | G31: =G19+G24 -> 21.072
A33: B) SPESE GENERALI 13-17% | C33: % | D33: 15 | E33: =G31 -> 21.072 | F33: =E33*D33/100 -> 3.1608 | G33: =F33 -> 3.1608
F34: di cui oneri per la sicurezza afferenti all'impresa | G34: =0.02*G38 -> 0.5331216
A36: C) UTILE DELL'APPALTATORE 10% di A + B | C36: % | D36: 10 | E36: =G28+G31+G33 -> 24.2328 | F36: =E36*D36/100 -> 2.42328 | G36: =F36 -> 2.42328
A38: TOTALE LAVORAZIONI A + B + C | C38: €/m | G38: =G31+G33+G36 -> 26.65608
A40: INCIDENZA MANODOPERA (% INC. M.O.) | G40: =G24/G38 -> 0.69027404

Sheet DATI
A1: ANGOLARE | B1: MAGLIA (mm) | C1: SPESSORE (mm) | D1: DIMENSIONE LATO (mm) | E1: €/m | F1: Tensione a trazione (Mpa) | G1: Sez. nominale (mm²) | H1: M. elastico (N/mm²) | I1: Resistenza caratt barra | J1: Allungamento | K1: Resistenza a strappo | L1: M.E | M1: barre/m/l | N1: Operaio Comune | O1: Applicazione Fraz. H Com | P1: Applicazione € tot
A2: FBANG33X33T96AR | B2: 33x33 | C2: 3 | D2: 330x330 | E2: =VLOOKUP(A2,[1]Foglio1!$A:$B,2,0) -> 31 | F2: 376 | G2: 8.9 | H2: 25000 | I2: 4.14 | J2: 1.78 | K2: 0.25 | L2: 8 | M2: 30 | N2: 26.72 | O2: 0.1 | P2: =O2*N2 -> 2.672
A3: FBANG66X66T96AR | B3: 66x66 | C3: 3 | D3: 330x330 | E3: =VLOOKUP(A3,[1]Foglio1!$A:$B,2,0) -> 17.75 | F3: 376 | G3: 8.9 | H3: 25000 | I3: 4.14 | J3: 1.78 | K3: 0.25 | L3: 8 | M3: 15 | N3: 26.72 | O3: 0.1 | P3: =O3*N3 -> 2.672
A4: FBANG99X99T96AR | B4: 99x99 | C4: 3 | D4: 330x330 | E4: =VLOOKUP(A4,[1]Foglio1!$A:$B,2,0) -> 14 | F4: 376 | G4: 8.9 | H4: 25000 | I4: 4.14 | J4: 1.5 | K4: 0.25 | L4: 8 | M4: 10 | N4: 26.72 | O4: 0.1 | P4: =O4*N4 -> 2.672
A5: FBANG66X66T192AR | B5: 66x66 | C5: 5 | D5: 330x330 | E5: =VLOOKUP(A5,[1]Foglio1!$A:$B,2,0) -> 24 | F5: 395 | G5: 14.1 | H5: 25500 | I5: 5.5 | J5: 1.5 | K5: 0.43 | L5: 15 | M5: 15 | N5: 26.72 | O5: 0.1 | P5: =O5*N5 -> 2.672
A6: FBANG99X99T192AR | B6: 99x99 | C6: 5 | D6: 330x330 | E6: =VLOOKUP(A6,[1]Foglio1!$A:$B,2,0) -> 18.4 | F6: 395 | G6: 14.31 | H6: 25500 | I6: 5.5 | J6: 1.5 | K6: 0.43 | L6: 15 | M6: 10 | N6: 26.72 | O6: 0.1 | P6: =O6*N6 -> 2.672
