Workbook

Sheet RI-STRUTTURA SOLAIO
D1: TAVOLA CRM 20-21 | E1: =_xlfn.CONCAT("MASSETTO ARMATO - Consolidamento solaio in laterocemento Rete ",I2, " maglia ", J2, ", n. ",M2, " barre/metro/lato") -> MASSETTO ARMATO - Consolidamento solaio in laterocemento Rete FBMESH99X99T96AR maglia 99x99 mm, n. 10 barre/metro/lato | I1: Tipologia rete | J1: Maglia | K1: €/m² rete | L1: Diam. Trefolo | M1: N. barre m/l | N1: Tensione a trazione caratteristica minima del composito | O1: sezione nominale minima della singola barra | P1: modulo elastico a trazione equivalente minimo | Q1: resistenza a trazione caratteristica della singola barra | R1: allungamento caratteristico a rottura minimo | S1: resistenza caratteristica a strappo del nodo | T1: Decadimento di resistenza a trazione e del modulo elastico per l’ambiente umido, alcalino e salino | U1: Malta 01 | V1: Consumo Malta 01 (kg/cm) | W1: € Malta 01 | X1: Malta 02 | Y1: Spessore malta (cm) | Z1: Consumo Malta 02 (kg/cm) | AA1: € Malta 02 | AB1: Malta 03 | AC1: € Malta 03 | AD1: Operaio Spec | AE1: Operaio Com | AF1: Operaio Qualificato | AG1: Pulizia Fraz. H Spec | AH1: Pulizia Fraz. H Com | AI1: Promotore Fraz. H. Spec | AJ1: Promotore Fraz. H. Com | AK1: Rete Fraz. H. Spec | AL1: Rete Fraz. H. Spec | AM1: Malta Fraz. H. Spec | AN1: Malta Fraz. H. Com | AO1: Malta Fraz. H. Qual
I2: =A4 -> FBMESH99X99T96AR | J2: =VLOOKUP(I2,Dati!A:L,2,0) -> 99x99 mm | K2: =VLOOKUP(I2,Dati!A:L,3,0) -> 11.3 | L2: =VLOOKUP(I2,Dati!A:L,4,0) -> 3 | M2: =VLOOKUP(I2,Dati!A:L,5,0) -> 10 | N2: =VLOOKUP(I2,Dati!A:L,6,0) -> 376 | O2: =VLOOKUP(I2,Dati!A:L,7,0) -> 8.9 | P2: =VLOOKUP(I2,Dati!A:L,8,0) -> 25000 | Q2: =VLOOKUP(I2,Dati!A:L,9,0) -> 4.23 | R2: =VLOOKUP(I2,Dati!A:L,10,0) -> 1.78 | S2: =VLOOKUP(I2,Dati!A:L,11,0) -> 0.25 | T2: =VLOOKUP(I2,Dati!A:L,12,0) -> 8 | U2: INTEGRA RIPRESA RP 415 | V2: =VLOOKUP(U2,Dati!M:U,2,0) -> 14 | W2: =VLOOKUP(U2,Dati!M:U,3,0) -> 23.64 | X2: STRUTTURA STEEL FLUID SF 100 IN | Y2: =B4 -> 3 | Z2: =VLOOKUP(X2,Dati!P:U,3,0) -> 21 | AA2: =VLOOKUP(X2,Dati!P:U,4,0) -> 2.012 | AB2: INTEGRA SPECIAL SRA 513 | AC2: =VLOOKUP(AB2,Dati!T:U,2,0) -> 13.56 | AD2: 32.16 | AE2: 26.72 | AF2: 29.82 | AG2: 0.05 | AH2: 0.05 | AI2: 0.1 | AJ2: 0.1 | AK2: 0.05 | AL2: 0.05 | AM2: 0.3 | AN2: 0.3 | AO2: 0.3
A3: Tipologia rete | B3: Spessore malta (cm)
A4: FBMESH99X99T96AR | B4: 3
A6: VOCE DI CAPITOLATO
A7: =_xlfn.CONCAT(_xlfn._LONGTEXT("Consolidamento e rinforzo di solette e solai, previa asportazione totale dello strato di calcestruzzo degradato, mediante spicconatura o demolizione con idonee attrezzature, tramite l’applicazione in opera di ciclo composto da promotore a base epossidica ","INTEGRA RIPRESA – RP 415 di Fibre Net o equivalente, malta strutturale duttile e incrudente STRUTTURA STEEL FLUID – SF 100 IN di Fibre Net o equivalente, premiscelata, colabile, monocomponente, espansiva in aria, fibrorinforzata con fibre rigide in acciai","o di classe R4, con additivo antiritiro INTEGRA SPECIAL - SRA 513 di Fibre Net o equivalente, e rete preformata in GFRP - "), A4, " di Fibre Net o equivalente aventi le seguenti caratteristiche o equivalenti: ") -> Consolidamento e rinforzo di solette e solai, previa asportazione totale dello strato di calcestruzzo degradato, mediante spicconatura o demolizione con idonee attrezzature, tramite l’applicazione in opera di ciclo composto da promotore a base epossidica INTEGRA RIPRESA – RP 415 di Fibre Net o equivalente, malta strutturale duttile e incrudente STRUTTURA STEEL FLUID – SF 100 IN di Fibre Net o equivalente, premiscelata, colabile, monocomponente, espansiva in aria, fibrorinforzata con fibre rigide in acciaio di classe R4, con additivo antiritiro INTEGRA SPECIAL - SRA 513 di Fibre Net o equivalente, e rete preformata in GFRP - FBMESH99X99T96AR di Fibre Net o equivalente aventi le seguenti caratteristiche o equivalenti:
A8: - Adesivo bicomponente INTEGRA RIPRESA – RP 415, esente da solventi, a base di leganti di polimeri epossidici, e cariche minerali appositamente selezionate, per incollaggio di calcestruzzo fresco su calcestruzzo indurito; Prodotto rispondente ai requisiti prestazionali richiesti dalla norma europea EN 1504-4;
A9: - Malta strutturale STRUTTURA STEEL FLUID – SF 100 IN conforme alla UNI EN 1504-3, di classe R4, di tipo CC (a base di cemento idraulico), a comportamento incrudente, fibrorinforzata con fibre rigide in acciaio, espansione contrastata in aria ≥ 0.4 mm/m, espansione contrastata in acqua ≥ 0.6 mm/m resistenza a compressione 1,7,28 gg (EN 12190) > 45.0,80.0,90.0 MPa, resistenza a flessione 28 gg (EN 196-1) > 15.0,25.0,28.0 Mpa, adesione al calcestruzzo a 28 gg (EN 1542) ≥ 2.0 Mpa, modulo elastico >20.0 Gpa, reazione al fuoco Euroclasse A1, contenuto ioni cloruro ≤ 0.05 %, compatibilità termica – cicli gelo-disgelo con sali disgelanti dopo 50 cicli (misurata come adesione secondo EN 1542) ≥ 2.0 Mpa, compatibilità termica – cicli temporaleschi (shock termico) dopo 30 cicli (misurata come adesione secondo EN 1542) ≥ 2.0 Mpa., compatibilità termica – cicli termici a secco dopo 30 cicli (misurata come adesione secondo EN 1542) ≥ 2.0 Mpa., assorbimento capillare ≤ 0,2 kg•m-2•h-0.5, conducibilità termica 1,17 W/m°K. , resistente alle fessurazioni, resistenza di prima fessurazione 3.9 Mpa, resistenza a flessione di picco 8.4 Mpa, resistente alla carbonatazione accelerata;
A10: - Additivo stagionante INTEGRA SPECIAL - SRA 513, liquido, a bassissimo contenuto di cloruri che riduce il ritiro abbassando la tensione superficiale dell’acqua presente nei pori capillari dei materiali cementizi e facilita l’espansione all’aria di malte e betoncini e calcestruzzi contenenti agenti espansivi non metallici, nei primi giorni dopo l’applicazione;
A11: =_xlfn.CONCAT(_xlfn._LONGTEXT("- Rete preformata in materiale composito fibrorinforzato G.F.R.P. (Glass Fiber Reinforced Polymer) di Fibre Net, o equivalente, per consolidamento strutturale di pavimentazioni, solai, volte, murature in calcestruzzo, mattoni, pietra, tufo, calcare. Compo","nente del Sistema CRM, dotato di marcatura CE, per azioni gravitazionali, vento e sisma. Rete alcalino resistente, a maglia quadra monolitica dimensione "), J2, " mm, prodotta con tecnologia Textrusion, costituita da fibra di vetro e resina termoindurente di tipo vinilestere-epossidico, tessitura con ordito a torcitura multipla e trama piatta inserita fra le fibre di ordito, diametro nominale dei trefoli >", L2, " mm, avente n. ", M2, " barre/metro/lato, tensione a trazione caratteristica del composito ", N2, " MPa, sezione nominale della singola barra ≥ ", O2, " mm2, modulo elastico a trazione equivalente ≥ ", P2, " N/mm2, resistenza a trazion catteristica della singola barra ≥ ", Q2, " kN, allungamento caratteristico a rottura ", R2, " %, resistenza caratteristica a strappo del nodo ≥ ", S2, " kN. Decadimento di resistenza a trazione e del modulo elastico per l’ambiente umido, alcalino e salino < ", T2, " %.") -> - Rete preformata in materiale composito fibrorinforzato G.F.R.P. (Glass Fiber Reinforced Polymer) di Fibre Net, o equivalente, per consolidamento strutturale di pavimentazioni, solai, volte, murature in calcestruzzo, mattoni, pietra, tufo, calcare. Componente del Sistema CRM, dotato di marcatura CE, per azioni gravitazionali, vento e sisma. Rete alcalino resistente, a maglia quadra monolitica dimensione 99x99 mm mm, prodotta con tecnologia Textrusion, costituita da fibra di vetro e resina termoindurente di tipo vinilestere-epossidico, tessitura con ordito a torcitura multipla e trama piatta inserita fra le fibre di ordito, diametro nominale dei trefoli >3 mm, avente n. 10 barre/metro/lato, tensione a trazione caratteristica del composito 376 MPa, sezione nominale della singola barra ≥ 8.9 mm2, modulo elastico a trazione equivalente ≥ 25000 N/mm2, resistenza a trazion catteristica della singola barra ≥ 4.23 kN, allungamento caratteristico a rottura 1.78 %, resistenza caratteristica a strappo del nodo ≥ 0.25 kN. Decadimento di resistenza a trazione e del modulo elastico per l’ambiente umido, alcalino e salino < 8 %.
A12: Durante l’esecuzione del ripristino, la struttura andrà puntellata preventivamente all’intradosso e non dovrà essere sottoposta a vibrazioni d’intensità tale da compromettere l’aderenza malta – supporto per almeno 12 ore, né si potranno applicare forti sollecitazioni (carichi) prima di 48 ore dall’intervento. La malta STRUTTURA STEEL FLUID – SF 100 IN di Fibre Net può essere applicata manualmente mediante colatura previa miscelazione con betoniera a bicchiere da cantiere
A13: INCLUSO NEL PREZZO:
A14: La pulizia e l’umidificazione del supporto, la fornitura e la posa del promotore epossidico, della malta fluida, dell’additivo antiritiro e della rete preformata in GFRP.
A15: ESCLUSO DAL PREZZO:
A16: L’ asportazione totale dello strato di calcestruzzo degradato mediante spicconatura o demolizione con idonee attrezzature; i ponteggi, impalcature e/o attrezzature necessarie all’esecuzione dei lavori e le eventuali coperture installate a protezione degli agenti atmosferici, la preparazione del supporto, le barre di connessione perimetrale alla muratura da sfioccare sulla soletta a malta indurita e tutte le lavorazioni non previste nella voce.
A17: =_xlfn.CONCAT("PREZZO PER M² E SPESSORE MEDIO DI ",B4, " CM") -> PREZZO PER M² E SPESSORE MEDIO DI 3 CM | F17: €/m² | G17: =G58 -> 277.9041
A19: Elementi Analisi | C19: u.m. | D19: Qtà | E19: Prezzo € | F19: Parziali €/m² | G19: €/m²
A21: RU - RISORSE UMANE
A22: Pulizia del supporto
A23: M01004a - operaio edile comune | C23: h/m² | D23: 0.1 | E23: =AE2 -> 26.72 | F23: =D23*E23 -> 2.672
A24: Applicazione del promotore epossidico
A25: M01002a - operaio edile specializzato | C25: h/m² | D25: 0.1 | E25: =AD2 -> 32.16 | F25: =D25*E25 -> 3.216
A26: M01004a - operaio edile comune | C26: h/m² | D26: 0.1 | E26: =AE2 -> 26.72 | F26: =D26*E26 -> 2.672
A27: Applicazione dellla rete preformata in GFRP
A28: M01002a - operaio edile specializzato | C28: h/m² | D28: 0.05 | E28: =AD2 -> 32.16 | F28: =D28*E28 -> 1.608
A29: M01004a - operaio edile comune | C29: h/m² | D29: 0.05 | E29: =AE2 -> 26.72 | F29: =D29*E29 -> 1.336
A30: Rinforzo con malta di tipo R4 - Miscelazione e getto
A31: M01002a - operaio edile specializzato | C31: h/m² | D31: 0.3 | E31: =AD2 -> 32.16 | F31: =D31*E31 -> 9.648
A32: M01003a - operaio edile qualificato | C32: h/m² | D32: 0.3 | E32: =AF2 -> 29.82 | F32: =D32*E32 -> 8.946
A33: M01004a - operaio edile comune | C33: h/m² | D33: 0.3 | E33: =AE2 -> 26.72 | F33: =D33*E33 -> 8.016
F34: totale risosrse umane RU | G34: =SUM(F23:F33) -> 38.114
A36: PR - PRODOTTI DA COSTRUZIONE
A37: Promotore epossidico - INTEGRA RIPRESA - RP 415 | C37: kg | D37: 0.8 | E37: =W2 -> 23.64 | F37: =D37*E37 -> 18.912
A38: Malta R4 - STRUTTURA STEEL FLUID - SF 100 IN | C38: kg | D38: =1*B4*Z2 -> 63 | E38: =AA2 -> 2.012 | F38: =D38*E38 -> 126.756
A39: Sfrido malta R4 (3%)- STRUTTURA STEEL FLUID - SF 100 IN | C39: kg | D39: =0.03*D38 -> 1.89 | E39: =E38 -> 2.012 | F39: =D39*E39 -> 3.80268
A40: Additivo antiritiro - INTEGRA SPECIAL - SRA 513 | C40: l | D40: 0.65 | E40: =AC2 -> 13.56 | F40: =D40*E40 -> 8.814
A41: =_xlfn.CONCAT("Rete in GFRP - ",A4,) -> Rete in GFRP - FBMESH99X99T96AR | C41: m² | D41: 1.1 | E41: =K2 -> 11.3 | F41: =D41*E41 -> 12.43
F42: totale prodotti da costruzione PR | G42: =SUM(F37:F41) -> 170.71468
A44: NT - NOLI E TRASPORTI
A45: Macchina intonacatrice a pistone o coclea - miscelazione e pompaggio (a stima) | C45: m² | D45: 0.5 | E45: 12.5 | F45: =D45*E45 -> 6.25
A46: Compressore (a stima) | C46: m² | D46: 0.5 | E46: 6 | F46: =D46*E46 -> 3
A47: Trasporto | C47: m² | D47: 64.9 | E47: 0.05 | F47: =D47*E47 -> 3.245
F48: totale prodotti da costruzione PR | G48: =SUM(F45:F47) -> 12.495
A51: A) TOTALE PARZIALI | F51: sommano RU + PR + NT | G51: =G34+G42+G48 -> 221.32368
A53: B) SPESE GENERALI 13-17% | C53: % | D53: 15 | E53: =G51 -> 221.32368 | F53: =E53*D53/100 -> 33.198552 | G53: =F53 -> 33.198552
F54: di cui oneri per la sicurezza afferenti all'impresa | G54: =0.02*G58 -> 5.558082
A56: C) UTILE DELL'APPALTATORE 10% di A + B | C56: % | D56: 10 | E56: =G48+G51 -> 233.81868 | F56: =E56*D56/100 -> 23.381868 | G56: =F56 -> 23.381868
A58: TOTALE LAVORAZIONI A + B + C | C58: €/m² | G58: =G51+G53+G56 -> 277.9041
A60: INCIDENZA MANODOPERA (% INC. M.O.) | G60: =G42/G58 -> 0.61429349

Sheet Dati
A1: Tipologia rete | B1: Maglia | C1: €/m² rete | D1: Diam. Trefolo | E1: N. barre m/l | F1: Tensione a trazione caratteristica minima del composito | G1: sezione nominale minima della singola barra | H1: modulo elastico a trazione equivalente minimo | I1: resistenza a trazione caratteristica della singola barra | J1: allungamento caratteristico a rottura minimo | K1: resistenza caratteristica a strappo del nodo | L1: Decadimento di resistenza a trazione e del modulo elastico per l’ambiente umido, alcalino e salino | M1: Malta 01 | N1: Consumo Malta 01 (kg/cm) | O1: € Malta 01 | P1: Malta 02 | Q1: Spessore malta (cm) | R1: Consumo Malta 02 (kg/cm) | S1: € Malta 02 | T1: Malta 03 | U1: € Malta 03 | V1: Operaio Spec | W1: Operaio Com | X1: Operaio Qualificato | Y1: Pulizia Fraz. H Spec | Z1: Pulizia Fraz. H Com | AA1: Promotore Fraz. H. Spec | AB1: Promotore Fraz. H. Com | AC1: Rete Fraz. H. Spec | AD1: Rete Fraz. H. Spec | AE1: Malta Fraz. H. Spec | AF1: Malta Fraz. H. Com | AG1: Malta Fraz. H. Qual
A2: FBMESH66X66T96AR | B2: 66x66 mm | C2: 15.1 | D2: 3 | E2: 15 | F2: 376 | G2: 8.9 | H2: 25000 | I2: 4.23 | J2: 1.78 | K2: 0.25 | L2: 8 | M2: INTEGRA RIPRESA RP 415 | N2: 14 | O2: 23.64 | P2: STRUTTURA STEEL FLUID SF 100 IN | Q2: 3 | R2: 21 | S2: 2.012 | T2: INTEGRA SPECIAL SRA 513 | U2: 13.56 | V2: 32.16 | W2: 26.72 | X2: 29.82 | Y2: 0.05 | Z2: 0.05 | AA2: 0.1 | AB2: 0.1 | AC2: 0.05 | AD2: 0.05 | AE2: 0.3 | AF2: 0.3 | AG2: 0.3
A3: FBMESH99X99T96AR | B3: 99x99 mm | C3: 11.3 | D3: 3 | E3: 10 | F3: 376 | G3: 8.9 | H3: 25000 | I3: 4.23 | J3: 1.78 | K3: 0.25 | L3: 8 | M3: INTEGRA RIPRESA RP 415 | N3: 14 | O3: 23.64 | P3: STRUTTURA STEEL FLUID SF 100 IN | Q3: 3 | R3: 21 | S3: 2.012 | T3: INTEGRA SPECIAL SRA 513 | U3: 13.56 | V3: 32.16 | W3: 26.72 | X3: 29.82 | Y3: 0.05 | Z3: 0.05 | AA3: 0.1 | AB3: 0.1 | AC3: 0.05 | AD3: 0.05 | AE3: 0.3 | AF3: 0.3 | AG3: 0.3
