Workbook

Sheet RI-STRUTTURA VOLTA IN FOLIO
D1: TAVOLA CRM 15-16 | E1: =_xlfn.CONCAT("CONSOLIDAMENTO VOLTE IN FOLGIO ALL'",AX2," Rete ",B4, " maglia ",M2, ", n. ",O2, " barre/metro/lato") -> CONSOLIDAMENTO VOLTE IN FOLGIO ALL'INTRADOSSO Rete FBMESH66X66T96AR maglia 66x66, n. 15 barre/metro/lato | I1: TIPO DI VOLTA | J1: POSIZIONE | K1: (+) descrizione | L1: RETE | M1: MAGLIA | N1: Trefolo | O1: barre/m/l | P1: tensione a trazione caratteristica del composito | Q1: Sezione nominale della singola barra | R1: M.elastico | S1: Trazione caratteristica della singola barra | T1: Resistenza caratteristica a strappo del nodo | U1: €/m² | V1: MALTA | W1: Nome completo | X1: Descrizione | Y1: Consumo malta | Z1: Spessori malta | AA1: Consumo tot (malta) | AB1: €/kg malta | AC1: Nome connettore | AD1: €/conn | AE1: Qtà connettori | AF1: Ancorante | AG1: €/pz ancorante | AH1: Consumotot in kg ancorante | AI1: Consumo al pz | AJ1: Operaio Spec | AK1: Operaio Com | AL1: NOME LAVORAZIONE a | AM1: Pulizia della Volta Fraz. H Spec | AN1: Pulizia della Volta Fraz. H Com | AO1: NOME LAVORAZIONE b | AP1: Perfori Fraz. H Spec | AQ1: Perfori Fraz. H Com | AR1: NOME LAVORAZIONE c | AS1: Rete e Conn Fraz. H Spec | AT1: Rete e Conn Fraz. H Com | AU1: Angolare Associato | AV1: ESCLUSO | AW1: allungamento medio a rottura (%) | AX1: MAIUS
I2: in folio | J2: =A4 -> intradosso | K2: =VLOOKUP(J2,Dati!B:C,2,0) -> 0 | L2: =B4 -> FBMESH66X66T96AR | M2: =VLOOKUP(L2,Dati!D:M,2,0) -> 66x66 | N2: =VLOOKUP(L2,Dati!D:M,3,0) -> diametro nominale dei trefoli > 3 mm | O2: =VLOOKUP(L2,Dati!D:M,4,0) -> 15 | P2: =VLOOKUP(L2,Dati!D:M,5,0) -> 376 | Q2: =VLOOKUP(L2,Dati!D:M,6,0) -> 8.9 | R2: =VLOOKUP(L2,Dati!D:M,7,0) -> 25000 | S2: =VLOOKUP(L2,Dati!D:M,8,0) -> 4.23 | T2: =VLOOKUP(L2,Dati!D:M,9,0) -> 0.25 | U2: =VLOOKUP(L2,Dati!D:M,10,0) -> 15.1 | V2: =C4 -> NHL 115 | W2: =VLOOKUP(V2,Dati!N:T,2,0) -> EPOCA CALCE – NHL 115 | X2: =VLOOKUP(V2,Dati!N:T,3,0) -> malta a base calce NHL per interventi di restauro e rinforzo strutturale di elementi in muratura | Y2: =VLOOKUP(V2,Dati!N:T,4,0) -> 17 | Z2: =D4 -> 3 | AA2: =Y2*Z2 -> 51 | AB2: =VLOOKUP(V2,Dati!N:T,7,0) -> 0.604 | AC2: FBDPP | AD2: =VLOOKUP(AC2,Dati!U:AA,2,0) -> 2.6 | AE2: =A7 -> 4 | AF2: FB-RC30-3-600 | AG2: 24.15 | AH2: =VLOOKUP(AE2,Dati!W:AA,3,0) -> 24.15 | AI2: =VLOOKUP(AE2,Dati!W:AA,4,0) -> 0.16 | AJ2: 32.16 | AK2: 26.72 | AL2: =VLOOKUP(J2,Dati!B:AF,29,0) -> 0 | AM2: =VLOOKUP(J2,Dati!B:AF,30,0) -> 0 | AN2: =VLOOKUP(J2,Dati!B:AF,31,0) -> 0 | AO2: Applicazione rete e connettori | AP2: =VLOOKUP(AE2,Dati!W:AI,12,0) -> 0.15 | AQ2: =VLOOKUP(AE2,Dati!W:AI,13,0) -> 0.15 | AR2: =VLOOKUP(J2,Dati!B:AL,35,0) -> Applicazione intonaco | AS2: =VLOOKUP(J2,Dati!B:AL,36,0) -> 0.3 | AT2: =VLOOKUP(J2,Dati!B:AL,37,0) -> 0.25 | AU2: =VLOOKUP(L2,Dati!D:AU,44,0) -> FBANG66X66T96AR | AV2: =VLOOKUP(J2,Dati!B:AV,47,0) -> L’eventuale rimozione e scrostamento dell’intonaco preesistente, i ponteggi, impalcature e/o attrezzature necessarie all’esecuzione dei lavori e le eventuali coperture installate a protezione degli agenti atmosferici e quant’altro non specificato. | AW2: =VLOOKUP(L2,Dati!D:AW,46,0) -> 1.78 | AX2: =UPPER(J2) -> INTRADOSSO
A3: Posizione rinforzo | B3: Tipologia rete | C3: Malta | D3: Spessore malta (cm)
A4: intradosso | B4: FBMESH66X66T96AR | C4: NHL 115 | D4: 3
A6: Quantità connettori
A7: 4
A9: VOCE DI CAPITOLATO
A10: =_xlfn.CONCAT("Consolidamento di ", J2, " di volte in foglio", (IF(K2=0,"",K2)), " mediante tecnica dell’intonaco armato CRM – dotato di marcatura CE, in possesso di certificazione EPD ai fini della dichiarazione di contributo ai CAM (criteri ambientali minimi) composto da rete ", L2, ", connettori in acciaio inox FBDPP e resina epossidica tixotropica FB-RC30/3-600 di Fibre Net, o equivalente aventi le seguenti caratteristiche o equivalenti:") -> Consolidamento di intradosso di volte in foglio mediante tecnica dell’intonaco armato CRM – dotato di marcatura CE, in possesso di certificazione EPD ai fini della dichiarazione di contributo ai CAM (criteri ambientali minimi) composto da rete FBMESH66X66T96AR, connettori in acciaio inox FBDPP e resina epossidica tixotropica FB-RC30/3-600 di Fibre Net, o equivalente aventi le seguenti caratteristiche o equivalenti:
A11: =_xlfn.CONCAT(_xlfn._LONGTEXT("- Rete preformata in materiale composito fibrorinforzato G.F.R.P. (Glass Fiber Reinforced Polymer) di Fibre Net, o equivalente, per consolidamento strutturale di pavimentazioni, solai, volte, murature in calcestruzzo, mattoni, pietra, tufo, calcare. Compo","nente del Sistema CRM - Composite Reinforced Mortar - System for strengthening masonry wall denominato RISTRUTTURA, dotato di marcatura CE per azioni gravitazionali, vento e sisma. Rete alcalino resistente, a maglia quadra monolitica dimensione "), M2, " mm, prodotta con tecnologia Textrusion, costituita da fibra di vetro e resina termoindurente di tipo vinilestere-epossidico, tessitura con ordito a torcitura multipla e trama piatta inserita fra le fibre di ordito, ", N2, ", avente n. ", O2, " barre/metro/lato, tensione a trazione caratteristica del composito ≥ ", P2, " MPa, sezione nominale della singola barra ≥ ", Q2, " mm2, modulo elastico a trazione equivalente ≥ ", R2, " N/mm2, resistenza a trazione caratteristica della singola barra ≥ ", S2, " kN, allungamento medio a rottura ", AW2, "%, resistenza caratteristica a strappo del nodo ≥ ", T2, " kN. Decadimento di resistenza a trazione e del modulo elastico per l’ambiente umido, alcalino e salino < 8%") -> - Rete preformata in materiale composito fibrorinforzato G.F.R.P. (Glass Fiber Reinforced Polymer) di Fibre Net, o equivalente, per consolidamento strutturale di pavimentazioni, solai, volte, murature in calcestruzzo, mattoni, pietra, tufo, calcare. Componente del Sistema CRM - Composite Reinforced Mortar - System for strengthening masonry wall denominato RISTRUTTURA, dotato di marcatura CE per azioni gravitazionali, vento e sisma. Rete alcalino resistente, a maglia quadra monolitica dimensione 66x66 mm, prodotta con tecnologia Textrusion, costituita da fibra di vetro e resina termoindurente di tipo vinilestere-epossidico, tessitura con ordito a torcitura multipla e trama piatta inserita fra le fibre di ordito, diametro nominale dei trefoli > 3 mm, avente n. 15 barre/metro/lato, tensione a trazione caratteristica del composito ≥ 376 MPa, sezione nominale della singola barra ≥ 8,9 mm2, modulo elastico a trazione equivalente ≥ 25000 N/mm2, resistenza a trazione caratteristica della singola barra ≥ 4,23 kN, allungamento medio a rottura 1.78%, resistenza caratteristica a strappo del nodo ≥ 0,25 kN. Decadimento di resistenza a trazione e del modulo elastico per l’ambiente umido, alcalino e salino < 8%
A12: - Boccola in acciaio inox AISI 316, costituita da piastrina circolare di diametro 38 mm e spessore 1.2 mm con filettatura M8, incollabile alle superfici voltate in muratura mediante annegamento in resina epossidica FB-RC30/3-600;
A13: - Resina epossidica tixotropica FB-RC30/3-600.
A14: INCLUSO NEL PREZZO:
A15: =_xlfn.CONCAT("La pulizia meccanica della superficie della volta con aspirazione di polvere e parti incoerenti, l’eventuale bagnatura della superficie e la posa in opera del successivo rinzaffo, l’applicazione dei connettori sopradescritti non inferiore a ",A4, "/m², tramite resina epossidica tixotropica FB-RC30/3-600 di Fibre Net, o equivalente alla superfice della volta e la realizzazione all’estradosso di cappa tramite malta ", W2, " di Fibre Net, o equivalente ",X2, " di spessore ", D4, " cm modellata secondo la forma della volta. Sono inoltre compresi l’onere del risvolto della rete sulle murature d’ambito, tagli, sfridi e sovrapposizioni e quanto altro occorre per dare l’opera finita.") -> La pulizia meccanica della superficie della volta con aspirazione di polvere e parti incoerenti, l’eventuale bagnatura della superficie e la posa in opera del successivo rinzaffo, l’applicazione dei connettori sopradescritti non inferiore a intradosso/m², tramite resina epossidica tixotropica FB-RC30/3-600 di Fibre Net, o equivalente alla superfice della volta e la realizzazione all’estradosso di cappa tramite malta EPOCA CALCE – NHL 115 di Fibre Net, o equivalente malta a base calce NHL per interventi di restauro e rinforzo strutturale di elementi in muratura di spessore 3 cm modellata secondo la forma della volta. Sono inoltre compresi l’onere del risvolto della rete sulle murature d’ambito, tagli, sfridi e sovrapposizioni e quanto altro occorre per dare l’opera finita.
A16: ESCLUSO DAL PREZZO:
A17: =_xlfn.CONCAT(,AV2, ", i ponteggi, impalcature e/o attrezzature necessarie all’esecuzione dei lavori e le eventuali coperture installate a protezione degli agenti atmosferici e quant’altro non specificato.") -> L’eventuale rimozione e scrostamento dell’intonaco preesistente, i ponteggi, impalcature e/o attrezzature necessarie all’esecuzione dei lavori e le eventuali coperture installate a protezione degli agenti atmosferici e quant’altro non specificato., i ponteggi, impalcature e/o attrezzature necessarie all’esecuzione dei lavori e le eventuali coperture installate a protezione degli agenti atmosferici e quant’altro non specificato.
A18: =_xlfn.CONCAT("PREZZO PER M² E SPESSORE MEDIO DI ",D4, " CM PER APPLICAZIONE ALL’", AX2, " DI VOLTA IN FOLIO" ) -> PREZZO PER M² E SPESSORE MEDIO DI 3 CM PER APPLICAZIONE ALL’INTRADOSSO DI VOLTA IN FOLIO | F18: €/m² | G18: =G55 -> 114.0825
A20: Elementi Analisi | C20: u.m. | D20: Qtà | E20: Prezzo € | F20: Parziali €/m² | G20: €/m²
A22: RU - RISORSE UMANE
A23: =AL2 -> 0
A24: M01002a - operaio edile specializzato | C24: h/m² | D24: =AM2 -> 0 | E24: =AJ2 -> 32.16 | F24: =D24*E24 -> 0
A25: M01004a - operaio edile comune | C25: h/m² | D25: =AN2 -> 0 | E25: =AK2 -> 26.72 | F25: =D25*E25 -> 0
A26: =AO2 -> Applicazione rete e connettori
A27: M01002a - operaio edile specializzato | C27: h/m² | D27: =AP2 -> 0.15 | E27: =AJ2 -> 32.16 | F27: =D27*E27 -> 4.824
A28: M01004a - operaio edile comune | C28: h/m² | D28: =AQ2 -> 0.15 | E28: =AK2 -> 26.72 | F28: =D28*E28 -> 4.008
A29: =AR2 -> Applicazione intonaco
A30: M01002a - operaio edile specializzato | C30: h/m² | D30: =AS2 -> 0.3 | E30: =AJ2 -> 32.16 | F30: =D30*E30 -> 9.648
A31: M01004a - operaio edile comune | C31: h/m² | D31: =AT2 -> 0.25 | E31: =AK2 -> 26.72 | F31: =D31*E31 -> 6.68
F32: totale risosrse umane RU | G32: =SUM(F24:F31) -> 25.16
A34: PR - PRODOTTI DA COSTRUZIONE
A35: =B4 -> FBMESH66X66T96AR | C35: m² | D35: 1.1 | E35: =U2 -> 15.1 | F35: =D35*E35 -> 16.61
A36: =AC2 -> FBDPP | C36: pz | D36: =A7 -> 4 | E36: =AD2 -> 2.6 | F36: =D36*E36 -> 10.4
A37: =AF2 -> FB-RC30-3-600 | C37: pz | D37: =AI2 -> 0.16 | E37: =AG2 -> 24.15 | F37: =D37*E37 -> 3.864
A38: =_xlfn.CONCAT("Sistema RISTRUTTURA composto da: rete in G.F.R.P. ", B4, " completa di sovrapposizioni, connettori in acciaio inox FBDPP (n° ",D4,"/m²) e resina epossidica tixotropica FB-RC30/3 ") -> Sistema RISTRUTTURA composto da: rete in G.F.R.P. FBMESH66X66T96AR completa di sovrapposizioni, connettori in acciaio inox FBDPP (n° 3/m²) e resina epossidica tixotropica FB-RC30/3 | C38: m² | D38: 1 | E38: =SUM(F35:F37) -> 30.874 | F38: =D38*E38 -> 30.874
A39: =W2 -> EPOCA CALCE – NHL 115 | C39: kg | D39: =AA2 -> 51 | E39: =AB2 -> 0.604 | F39: =D39*E39 -> 30.804
F40: totale prodotti da costruzione PR | G40: =SUM(F38:F39) -> 61.678
A42: NT - NOLI E TRASPORTI
A43: Intonacatrice | C43: m² | D43: 1 | E43: 1.1 | F43: =D43*E43 -> 1.1
A44: Trasporto | C44: kg | D44: 60 | E44: 0.05 | F44: =D44*E44 -> 3
F45: totale prodotti da costruzione PR | G45: =SUM(F43:F44) -> 4.1
A48: A) TOTALE PARZIALI | F48: sommano RU + PR + NT | G48: =G32+G40+G45 -> 90.938
...

Sheet Dati
A1: TIPO DI VOLTA | B1: POSIZIONE | C1: (+) descrizione | D1: RETE | E1: MAGLIA | F1: Trefolo | G1: barre/m/l | H1: tensione a trazione caratteristica del composito | I1: Sezione nominale della singola barra | J1: M.elastico | K1: Trazione caratteristica della singola barra | L1: Resistenza caratteristica a strappo del nodo | M1: €/m² | N1: MALTA | O1: Nome completo | P1: Descrizione | Q1: Consumo malta | R1: Spessori malta | S1: Consumo tot (malta) | T1: €/kg malta | U1: Nome connettore | V1: €/conn | W1: Qtà connettori | X1: Ancorante | Y1: €/pz ancorante | Z1: Consumo kg ancorante | AA1: Consumo al pz | AB1: Operaio Spec | AC1: Operaio Com | AD1: NOME LAVORAZIONE a | AE1: Pulizia della Volta Fraz. H Spec | AF1: Pulizia della Volta Fraz. H Com | AG1: NOME LAVORAZIONE b | AH1: Perfori Fraz. H Spec | AI1: Perfori Fraz. H Com | AJ1: NOME LAVORAZIONE c | AK1: Rete e Conn Fraz. H Spec | AL1: Rete e Conn Fraz. H Com | AM1: Angolare Associato | AN1: ESCLUSO | AO1: Malta Fraz. H Spec | AP1: Malta Fraz. H Com | AQ1: allungamento medio a rottura minimo | AR1: resistenza a trazione e del modulo elastico per l’ambiente umido, alcalino e salino | AS1: Escluso | AT1: Escluso (2) | AU1: Angolare Associato | AV1: Escluso (3) | AW1: allungamento medio a rottura (%)
A2: in folio | B2: estradosso | C2: , anche in presenza all’intradosso di affreschi o altri trattamenti decorativi, | D2: FBMESH66X66T96AR | E2: 66x66 | F2: diametro nominale dei trefoli > 3 mm | G2: 15 | H2: 376 | I2: 8.9 | J2: 25000 | K2: 4.23 | L2: 0.25 | M2: 15.1 | N2: NHL 110 | O2: EPOCA CALCE – NHL 110 | P2: malta a base calce NHL per interventi di restauro e rinforzo strutturale di elementi in muratura | Q2: 17 | R2: 3 | S2: =Q2*R2 -> 51 | T2: 0.572 | U2: FBDPP | V2: 2.6 | W2: 4 | X2: FB-RC30-3-600 | Y2: 24.15 | Z2: =0.04*W2 -> 0.16 | AA2: =Z2/0.6 -> 0.26666667 | AB2: 32.16 | AC2: 26.72 | AD2: Pulizia della volta | AE2: 0.1 | AF2: 0.1 | AG2: Applicazione rete e connettori | AH2: 0.15 | AI2: 0.15 | AJ2: Realizzazione di cappa in malta di calce e cemento | AK2: 0.28 | AL2: 0.2 | AM2: FBANG66X66T96AR | AN2: =_xlfn.CONCAT(_xlfn._LONGTEXT("La rimozione del pavimento, del sottofondo e del riempimento fino a raggiungere la quota del rinfianco dell’estradosso della volta. Il fissaggio e il rinforzo della rete sulle murature d’ambito all’imposta della volta tramite l’applicazione di elemento an","golare preformato "),AM2, " di Fibre Net, o equivalente e opportuni connettori, ") -> La rimozione del pavimento, del sottofondo e del riempimento fino a raggiungere la quota del rinfianco dell’estradosso della volta. Il fissaggio e il rinforzo della rete sulle murature d’ambito all’imposta della volta tramite l’applicazione di elemento angolare preformato FBANG66X66T96AR di Fibre Net, o equivalente e opportuni connettori, | AO2: 0.28 | AP2: 0.2 | AQ2: 1.96 | AR2: 8 | AS2: sulla superficie d’estradosso di cappa tramite malta | AU2: FBANG66X66T96AR | AV2: =_xlfn.CONCAT(_xlfn._LONGTEXT("La rimozione del pavimento, del sottofondo e del riempimento fino a raggiungere la quota del rinfianco dell’estradosso della volta. Il fissaggio e il rinforzo della rete sulle murature d’ambito all’imposta della volta tramite l’applicazione di elemento an","golare preformato "), AU2, " di Fibre Net, o equivalente e opportuni connettori") -> La rimozione del pavimento, del sottofondo e del riempimento fino a raggiungere la quota del rinfianco dell’estradosso della volta. Il fissaggio e il rinforzo della rete sulle murature d’ambito all’imposta della volta tramite l’applicazione di elemento angolare preformato FBANG66X66T96AR di Fibre Net, o equivalente e opportuni connettori | AW2: 1.78
A3: in folio | B3: estradosso | C3: , anche in presenza all’intradosso di affreschi o altri trattamenti decorativi, | D3: FBMESH66X66T96AR | E3: 66x66 | F3: diametro nominale dei trefoli > 3 mm | G3: 15 | H3: 376 | I3: 8.9 | J3: 25000 | K3: 4.23 | L3: 0.25 | M3: 15.1 | N3: RZ 210 | O3: MATERIA RINFORZA – RZ 210 | P3: malta a base di leganti idraulici per interventi di restauro e rinforzo strutturale di elementi in muratura | Q3: 17 | R3: 3 | S3: =Q3*R3 -> 51 | T3: 0.492 | U3: FBDPP | V3: 2.6 | W3: 4 | X3: FB-RC30-3-600 | Y3: 24.15 | Z3: =0.04*W3 -> 0.16 | AA3: =Z3/0.6 -> 0.26666667 | AB3: 32.16 | AC3: 26.72 | AD3: Pulizia della volta | AE3: 0.1 | AF3: 0.1 | AG3: Applicazione rete e connettori | AH3: 0.15 | AI3: 0.15 | AJ3: Realizzazione di cappa in malta di calce e cemento | AK3: 0.28 | AL3: 0.2 | AM3: FBANG66X66T96AR | AN3: =_xlfn.CONCAT(_xlfn._LONGTEXT("La rimozione del pavimento, del sottofondo e del riempimento fino a raggiungere la quota del rinfianco dell’estradosso della volta. Il fissaggio e il rinforzo della rete sulle murature d’ambito all’imposta della volta tramite l’applicazione di elemento an","golare preformato "),AM3, " di Fibre Net, o equivalente e opportuni connettori, ") -> La rimozione del pavimento, del sottofondo e del riempimento fino a raggiungere la quota del rinfianco dell’estradosso della volta. Il fissaggio e il rinforzo della rete sulle murature d’ambito all’imposta della volta tramite l’applicazione di elemento angolare preformato FBANG66X66T96AR di Fibre Net, o equivalente e opportuni connettori, | AO3: 0.28 | AP3: 0.2 | AQ3: 1.96 | AR3: 8 | AS3: sulla superficie d’estradosso di cappa tramite malta | AU3: FBANG66X66T96AR | AV3: =_xlfn.CONCAT(_xlfn._LONGTEXT("La rimozione del pavimento, del sottofondo e del riempimento fino a raggiungere la quota del rinfianco dell’estradosso della volta. Il fissaggio e il rinforzo della rete sulle murature d’ambito all’imposta della volta tramite l’applicazione di elemento an","golare preformato "), AU3, " di Fibre Net, o equivalente e opportuni connettori") -> La rimozione del pavimento, del sottofondo e del riempimento fino a raggiungere la quota del rinfianco dell’estradosso della volta. Il fissaggio e il rinforzo della rete sulle murature d’ambito all’imposta della volta tramite l’applicazione di elemento angolare preformato FBANG66X66T96AR di Fibre Net, o equivalente e opportuni connettori | AW3: 1.78
A4: in folio | B4: estradosso | C4: , anche in presenza all’intradosso di affreschi o altri trattamenti decorativi, | D4: FBMESH99X99T96AR | E4: 99x99 | F4: diametro nominale dei trefoli > 3 mm | G4: 10 | H4: 376 | I4: 8.9 | J4: 25000 | K4: 4.23 | L4: 0.25 | M4: 11.3 | N4: NHL 110 | O4: EPOCA CALCE – NHL 110 | P4: malta a base calce NHL per interventi di restauro e rinforzo strutturale di elementi in muratura | Q4: 17 | R4: 3 | S4: =Q4*R4 -> 51 | T4: 0.572 | U4: FBDPP | V4: 2.6 | W4: 4 | X4: FB-RC30-3-600 | Y4: 24.15 | Z4: =0.04*W4 -> 0.16 | AA4: =Z4/0.6 -> 0.26666667 | AB4: 32.16 | AC4: 26.72 | AD4: Pulizia della volta | AE4: 0.1 | AF4: 0.1 | AG4: Applicazione rete e connettori | AH4: 0.15 | AI4: 0.15 | AJ4: Realizzazione di cappa in malta di calce e cemento | AK4: 0.28 | AL4: 0.2 | AM4: FBANG99X99T96AR | AN4: =_xlfn.CONCAT(_xlfn._LONGTEXT("La rimozione del pavimento, del sottofondo e del riempimento fino a raggiungere la quota del rinfianco dell’estradosso della volta. Il fissaggio e il rinforzo della rete sulle murature d’ambito all’imposta della volta tramite l’applicazione di elemento an","golare preformato "),AM4, " di Fibre Net, o equivalente e opportuni connettori, ") -> La rimozione del pavimento, del sottofondo e del riempimento fino a raggiungere la quota del rinfianco dell’estradosso della volta. Il fissaggio e il rinforzo della rete sulle murature d’ambito all’imposta della volta tramite l’applicazione di elemento angolare preformato FBANG99X99T96AR di Fibre Net, o equivalente e opportuni connettori, | AO4: 0.28 | AP4: 0.2 | AQ4: 1.78 | AR4: 8 | AS4: sulla superficie d’estradosso di cappa tramite malta | AU4: FBANG99X99T96AR | AV4: =_xlfn.CONCAT(_xlfn._LONGTEXT("La rimozione del pavimento, del sottofondo e del riempimento fino a raggiungere la quota del rinfianco dell’estradosso della volta. Il fissaggio e il rinforzo della rete sulle murature d’ambito all’imposta della volta tramite l’applicazione di elemento an","golare preformato "), AU4, " di Fibre Net, o equivalente e opportuni connettori") -> La rimozione del pavimento, del sottofondo e del riempimento fino a raggiungere la quota del rinfianco dell’estradosso della volta. Il fissaggio e il rinforzo della rete sulle murature d’ambito all’imposta della volta tramite l’applicazione di elemento angolare preformato FBANG99X99T96AR di Fibre Net, o equivalente e opportuni connettori | AW4: 1.78
A5: in folio | B5: estradosso | C5: , anche in presenza all’intradosso di affreschi o altri trattamenti decorativi, | D5: FBMESH99X99T96AR | E5: 99x99 | F5: diametro nominale dei trefoli > 3 mm | G5: 10 | H5: 376 | I5: 8.9 | J5: 25000 | K5: 4.23 | L5: 0.25 | M5: 11.3 | N5: RZ 210 | O5: MATERIA RINFORZA – RZ 210 | P5: malta a base di leganti idraulici per interventi di restauro e rinforzo strutturale di elementi in muratura | Q5: 17 | R5: 3 | S5: =Q5*R5 -> 51 | T5: 0.492 | U5: FBDPP | V5: 2.6 | W5: 4 | X5: FB-RC30-3-600 | Y5: 24.15 | Z5: =0.04*W5 -> 0.16 | AA5: =Z5/0.6 -> 0.26666667 | AB5: 32.16 | AC5: 26.72 | AD5: Pulizia della volta | AE5: 0.1 | AF5: 0.1 | AG5: Applicazione rete e connettori | AH5: 0.15 | AI5: 0.15 | AJ5: Realizzazione di cappa in malta di calce e cemento | AK5: 0.28 | AL5: 0.2 | AM5: FBANG99X99T96AR | AN5: =_xlfn.CONCAT(_xlfn._LONGTEXT("La rimozione del pavimento, del sottofondo e del riempimento fino a raggiungere la quota del rinfianco dell’estradosso della volta. Il fissaggio e il rinforzo della rete sulle murature d’ambito all’imposta della volta tramite l’applicazione di elemento an","golare preformato "),AM5, " di Fibre Net, o equivalente e opportuni connettori, ") -> La rimozione del pavimento, del sottofondo e del riempimento fino a raggiungere la quota del rinfianco dell’estradosso della volta. Il fissaggio e il rinforzo della rete sulle murature d’ambito all’imposta della volta tramite l’applicazione di elemento angolare preformato FBANG99X99T96AR di Fibre Net, o equivalente e opportuni connettori, | AO5: 0.28 | AP5: 0.2 | AQ5: 1.78 | AR5: 8 | AS5: sulla superficie d’estradosso di cappa tramite malta | AU5: FBANG99X99T96AR | AV5: =_xlfn.CONCAT(_xlfn._LONGTEXT("La rimozione del pavimento, del sottofondo e del riempimento fino a raggiungere la quota del rinfianco dell’estradosso della volta. Il fissaggio e il rinforzo della rete sulle murature d’ambito all’imposta della volta tramite l’applicazione di elemento an","golare preformato "), AU5, " di Fibre Net, o equivalente e opportuni connettori") -> La rimozione del pavimento, del sottofondo e del riempimento fino a raggiungere la quota del rinfianco dell’estradosso della volta. Il fissaggio e il rinforzo della rete sulle murature d’ambito all’imposta della volta tramite l’applicazione di elemento angolare preformato FBANG99X99T96AR di Fibre Net, o equivalente e opportuni connettori | AW5: 1.78
A6: in folio | B6: estradosso | C6: , anche in presenza all’intradosso di affreschi o altri trattamenti decorativi, | D6: FBMESH66X66T96ARFORCE | E6: 66x66 | F6: 0 | G6: 15 | H6: 806 | I6: 7.05 | J6: 44600 | K6: 6.2 | L6: 0.31 | M6: 18.1 | N6: NHL 115 | O6: EPOCA CALCE – NHL 115 | P6: malta a base calce NHL per interventi di restauro e rinforzo strutturale di elementi in muratura | Q6: 17 | R6: 3 | S6: =Q6*R6 -> 51 | T6: 0.604 | U6: FBDPP | V6: 2.6 | W6: 4 | X6: FB-RC30-3-600 | Y6: 24.15 | Z6: =0.04*W6 -> 0.16 | AA6: =Z6/0.6 -> 0.26666667 | AB6: 32.16 | AC6: 26.72 | AD6: Pulizia della volta | AE6: 0.1 | AF6: 0.1 | AG6: Applicazione rete e connettori | AH6: 0.15 | AI6: 0.15 | AJ6: Realizzazione di cappa in malta di calce e cemento | AK6: 0.28 | AL6: 0.2 | AM6: FBANG66X66T96AR | AN6: =_xlfn.CONCAT(_xlfn._LONGTEXT("La rimozione del pavimento, del sottofondo e del riempimento fino a raggiungere la quota del rinfianco dell’estradosso della volta. Il fissaggio e il rinforzo della rete sulle murature d’ambito all’imposta della volta tramite l’applicazione di elemento an","golare preformato "),AM6, " di Fibre Net, o equivalente e opportuni connettori, ") -> La rimozione del pavimento, del sottofondo e del riempimento fino a raggiungere la quota del rinfianco dell’estradosso della volta. Il fissaggio e il rinforzo della rete sulle murature d’ambito all’imposta della volta tramite l’applicazione di elemento angolare preformato FBANG66X66T96AR di Fibre Net, o equivalente e opportuni connettori, | AO6: 0.28 | AP6: 0.2 | AQ6: 1.78 | AR6: 8 | AS6: sulla superficie d’estradosso di cappa tramite malta | AU6: FBANG66X66T96AR | AV6: =_xlfn.CONCAT(_xlfn._LONGTEXT("La rimozione del pavimento, del sottofondo e del riempimento fino a raggiungere la quota del rinfianco dell’estradosso della volta. Il fissaggio e il rinforzo della rete sulle murature d’ambito all’imposta della volta tramite l’applicazione di elemento an","golare preformato "), AU6, " di Fibre Net, o equivalente e opportuni connettori") -> La rimozione del pavimento, del sottofondo e del riempimento fino a raggiungere la quota del rinfianco dell’estradosso della volta. Il fissaggio e il rinforzo della rete sulle murature d’ambito all’imposta della volta tramite l’applicazione di elemento angolare preformato FBANG66X66T96AR di Fibre Net, o equivalente e opportuni connettori | AW6: 1.96
A7: in folio | B7: estradosso | C7: , anche in presenza all’intradosso di affreschi o altri trattamenti decorativi, | D7: FBMESH66X66T96ARFORCE | E7: 66x66 | F7: 0 | G7: 15 | H7: 806 | I7: 7.05 | J7: 44600 | K7: 6.2 | L7: 0.31 | M7: 18.1 | N7: RZ 215 | O7: MATERIA RINFORZA – RZ 215 | P7: malta a base di leganti idraulici per interventi di restauro e rinforzo strutturale di elementi in muratura | Q7: 17 | R7: 3 | S7: =Q7*R7 -> 51 | T7: 0.498 | U7: FBDPP | V7: 2.6 | W7: 4 | X7: FB-RC30-3-600 | Y7: 24.15 | Z7: =0.04*W7 -> 0.16 | AA7: =Z7/0.6 -> 0.26666667 | AB7: 32.16 | AC7: 26.72 | AD7: Pulizia della volta | AE7: 0.1 | AF7: 0.1 | AG7: Applicazione rete e connettori | AH7: 0.15 | AI7: 0.15 | AJ7: Realizzazione di cappa in malta di calce e cemento | AK7: 0.28 | AL7: 0.2 | AM7: FBANG66X66T96AR | AN7: =_xlfn.CONCAT(_xlfn._LONGTEXT("La rimozione del pavimento, del sottofondo e del riempimento fino a raggiungere la quota del rinfianco dell’estradosso della volta. Il fissaggio e il rinforzo della rete sulle murature d’ambito all’imposta della volta tramite l’applicazione di elemento an","golare preformato "),AM7, " di Fibre Net, o equivalente e opportuni connettori, ") -> La rimozione del pavimento, del sottofondo e del riempimento fino a raggiungere la quota del rinfianco dell’estradosso della volta. Il fissaggio e il rinforzo della rete sulle murature d’ambito all’imposta della volta tramite l’applicazione di elemento angolare preformato FBANG66X66T96AR di Fibre Net, o equivalente e opportuni connettori, | AO7: 0.28 | AP7: 0.2 | AQ7: 1.78 | AR7: 8 | AS7: sulla superficie d’estradosso di cappa tramite malta | AU7: FBANG66X66T96AR | AV7: =_xlfn.CONCAT(_xlfn._LONGTEXT("La rimozione del pavimento, del sottofondo e del riempimento fino a raggiungere la quota del rinfianco dell’estradosso della volta. Il fissaggio e il rinforzo della rete sulle murature d’ambito all’imposta della volta tramite l’applicazione di elemento an","golare preformato "), AU7, " di Fibre Net, o equivalente e opportuni connettori") -> La rimozione del pavimento, del sottofondo e del riempimento fino a raggiungere la quota del rinfianco dell’estradosso della volta. Il fissaggio e il rinforzo della rete sulle murature d’ambito all’imposta della volta tramite l’applicazione di elemento angolare preformato FBANG66X66T96AR di Fibre Net, o equivalente e opportuni connettori | AW7: 1.96
A8: in folio | B8: estradosso | C8: , anche in presenza all’intradosso di affreschi o altri trattamenti decorativi, | D8: FBMESH99X99T96ARFORCE | E8: 99x99 | F8: 0 | G8: 10 | H8: 806 | I8: 7.05 | J8: 44600 | K8: 6.2 | L8: 0.31 | M8: 13.6 | N8: NHL 115 | O8: EPOCA CALCE – NHL 115 | P8: malta a base calce NHL per interventi di restauro e rinforzo strutturale di elementi in muratura | Q8: 17 | R8: 3 | S8: =Q8*R8 -> 51 | T8: 0.604 | U8: FBDPP | V8: 2.6 | W8: 4 | X8: FB-RC30-3-600 | Y8: 24.15 | Z8: =0.04*W8 -> 0.16 | AA8: =Z8/0.6 -> 0.26666667 | AB8: 32.16 | AC8: 26.72 | AD8: Pulizia della volta | AE8: 0.1 | AF8: 0.1 | AG8: Applicazione rete e connettori | AH8: 0.15 | AI8: 0.15 | AJ8: Realizzazione di cappa in malta di calce e cemento | AK8: 0.28 | AL8: 0.2 | AM8: FBANG99X99T96AR | AN8: =_xlfn.CONCAT(_xlfn._LONGTEXT("La rimozione del pavimento, del sottofondo e del riempimento fino a raggiungere la quota del rinfianco dell’estradosso della volta. Il fissaggio e il rinforzo della rete sulle murature d’ambito all’imposta della volta tramite l’applicazione di elemento an","golare preformato "),AM8, " di Fibre Net, o equivalente e opportuni connettori, ") -> La rimozione del pavimento, del sottofondo e del riempimento fino a raggiungere la quota del rinfianco dell’estradosso della volta. Il fissaggio e il rinforzo della rete sulle murature d’ambito all’imposta della volta tramite l’applicazione di elemento angolare preformato FBANG99X99T96AR di Fibre Net, o equivalente e opportuni connettori, | AO8: 0.28 | AP8: 0.2 | AQ8: 1.96 | AR8: 8 | AS8: sulla superficie d’estradosso di cappa tramite malta | AU8: FBANG99X99T96AR | AV8: =_xlfn.CONCAT(_xlfn._LONGTEXT("La rimozione del pavimento, del sottofondo e del riempimento fino a raggiungere la quota del rinfianco dell’estradosso della volta. Il fissaggio e il rinforzo della rete sulle murature d’ambito all’imposta della volta tramite l’applicazione di elemento an","golare preformato "), AU8, " di Fibre Net, o equivalente e opportuni connettori") -> La rimozione del pavimento, del sottofondo e del riempimento fino a raggiungere la quota del rinfianco dell’estradosso della volta. Il fissaggio e il rinforzo della rete sulle murature d’ambito all’imposta della volta tramite l’applicazione di elemento angolare preformato FBANG99X99T96AR di Fibre Net, o equivalente e opportuni connettori | AW8: 1.96
A9: in folio | B9: estradosso | C9: , anche in presenza all’intradosso di affreschi o altri trattamenti decorativi, | D9: FBMESH99X99T96ARFORCE | E9: 99x99 | F9: 0 | G9: 10 | H9: 806 | I9: 7.05 | J9: 44600 | K9: 6.2 | L9: 0.31 | M9: 13.6 | N9: RZ 215 | O9: MATERIA RINFORZA – RZ 215 | P9: malta a base di leganti idraulici per interventi di restauro e rinforzo strutturale di elementi in muratura | Q9: 17 | R9: 3 | S9: =Q9*R9 -> 51 | T9: 0.498 | U9: FBDPP | V9: 2.6 | W9: 4 | X9: FB-RC30-3-600 | Y9: 24.15 | Z9: =0.04*W9 -> 0.16 | AA9: =Z9/0.6 -> 0.26666667 | AB9: 32.16 | AC9: 26.72 | AD9: Pulizia della volta | AE9: 0.1 | AF9: 0.1 | AG9: Applicazione rete e connettori | AH9: 0.15 | AI9: 0.15 | AJ9: Realizzazione di cappa in malta di calce e cemento | AK9: 0.28 | AL9: 0.2 | AM9: FBANG99X99T96AR | AN9: =_xlfn.CONCAT(_xlfn._LONGTEXT("La rimozione del pavimento, del sottofondo e del riempimento fino a raggiungere la quota del rinfianco dell’estradosso della volta. Il fissaggio e il rinforzo della rete sulle murature d’ambito all’imposta della volta tramite l’applicazione di elemento an","golare preformato "),AM9, " di Fibre Net, o equivalente e opportuni connettori, ") -> La rimozione del pavimento, del sottofondo e del riempimento fino a raggiungere la quota del rinfianco dell’estradosso della volta. Il fissaggio e il rinforzo della rete sulle murature d’ambito all’imposta della volta tramite l’applicazione di elemento angolare preformato FBANG99X99T96AR di Fibre Net, o equivalente e opportuni connettori, | AO9: 0.28 | AP9: 0.2 | AQ9: 1.96 | AR9: 8 | AS9: sulla superficie d’estradosso di cappa tramite malta | AU9: FBANG99X99T96AR | AV9: =_xlfn.CONCAT(_xlfn._LONGTEXT("La rimozione del pavimento, del sottofondo e del riempimento fino a raggiungere la quota del rinfianco dell’estradosso della volta. Il fissaggio e il rinforzo della rete sulle murature d’ambito all’imposta della volta tramite l’applicazione di elemento an","golare preformato "), AU9, " di Fibre Net, o equivalente e opportuni connettori") -> La rimozione del pavimento, del sottofondo e del riempimento fino a raggiungere la quota del rinfianco dell’estradosso della volta. Il fissaggio e il rinforzo della rete sulle murature d’ambito all’imposta della volta tramite l’applicazione di elemento angolare preformato FBANG99X99T96AR di Fibre Net, o equivalente e opportuni connettori | AW9: 1.96
A10: in folio | B10: estradosso | C10: , anche in presenza all’intradosso di affreschi o altri trattamenti decorativi, | D10: FBMESH66X66T96AR | E10: 66x66 | F10: diametro nominale dei trefoli > 3 mm | G10: 15 | H10: 376 | I10: 8.9 | J10: 25000 | K10: 4.23 | L10: 0.25 | M10: 15.1 | N10: NHL 110 | O10: EPOCA CALCE – NHL 110 | P10: malta a base calce NHL per interventi di restauro e rinforzo strutturale di elementi in muratura | Q10: 17 | R10: 4 | S10: =Q10*R10 -> 68 | T10: 0.572 | U10: FBDPP | V10: 2.6 | W10: 4 | X10: FB-RC30-3-600 | Y10: 24.15 | Z10: =0.04*W10 -> 0.16 | AA10: =Z10/0.6 -> 0.26666667 | AB10: 32.16 | AC10: 26.72 | AD10: Pulizia della volta | AE10: 0.1 | AF10: 0.1 | AG10: Applicazione rete e connettori | AH10: 0.18 | AI10: 0.18 | AJ10: Realizzazione di cappa in malta di calce e cemento | AK10: 0.37 | AL10: 0.26 | AM10: FBANG66X66T96AR | AN10: =_xlfn.CONCAT(_xlfn._LONGTEXT("La rimozione del pavimento, del sottofondo e del riempimento fino a raggiungere la quota del rinfianco dell’estradosso della volta. Il fissaggio e il rinforzo della rete sulle murature d’ambito all’imposta della volta tramite l’applicazione di elemento an","golare preformato "),AM10, " di Fibre Net, o equivalente e opportuni connettori, ") -> La rimozione del pavimento, del sottofondo e del riempimento fino a raggiungere la quota del rinfianco dell’estradosso della volta. Il fissaggio e il rinforzo della rete sulle murature d’ambito all’imposta della volta tramite l’applicazione di elemento angolare preformato FBANG66X66T96AR di Fibre Net, o equivalente e opportuni connettori, | AO10: 0.28 | AP10: 0.2 | AQ10: 1.96 | AR10: 8 | AS10: sulla superficie d’estradosso di cappa tramite malta | AU10: FBANG66X66T96AR | AV10: =_xlfn.CONCAT(_xlfn._LONGTEXT("La rimozione del pavimento, del sottofondo e del riempimento fino a raggiungere la quota del rinfianco dell’estradosso della volta. Il fissaggio e il rinforzo della rete sulle murature d’ambito all’imposta della volta tramite l’applicazione di elemento an","golare preformato "), AU10, " di Fibre Net, o equivalente e opportuni connettori") -> La rimozione del pavimento, del sottofondo e del riempimento fino a raggiungere la quota del rinfianco dell’estradosso della volta. Il fissaggio e il rinforzo della rete sulle murature d’ambito all’imposta della volta tramite l’applicazione di elemento angolare preformato FBANG66X66T96AR di Fibre Net, o equivalente e opportuni connettori | AW10: 1.78
A11: in folio | B11: estradosso | C11: , anche in presenza all’intradosso di affreschi o altri trattamenti decorativi, | D11: FBMESH66X66T96AR | E11: 66x66 | F11: diametro nominale dei trefoli > 3 mm | G11: 15 | H11: 376 | I11: 8.9 | J11: 25000 | K11: 4.23 | L11: 0.25 | M11: 15.1 | N11: RZ 210 | O11: MATERIA RINFORZA – RZ 210 | P11: malta a base di leganti idraulici per interventi di restauro e rinforzo strutturale di elementi in muratura | Q11: 17 | R11: 4 | S11: =Q11*R11 -> 68 | T11: 0.492 | U11: FBDPP | V11: 2.6 | W11: 4 | X11: FB-RC30-3-600 | Y11: 24.15 | Z11: =0.04*W11 -> 0.16 | AA11: =Z11/0.6 -> 0.26666667 | AB11: 32.16 | AC11: 26.72 | AD11: Pulizia della volta | AE11: 0.1 | AF11: 0.1 | AG11: Applicazione rete e connettori | AH11: 0.18 | AI11: 0.18 | AJ11: Realizzazione di cappa in malta di calce e cemento | AK11: 0.37 | AL11: 0.26 | AM11: FBANG66X66T96AR | AN11: =_xlfn.CONCAT(_xlfn._LONGTEXT("La rimozione del pavimento, del sottofondo e del riempimento fino a raggiungere la quota del rinfianco dell’estradosso della volta. Il fissaggio e il rinforzo della rete sulle murature d’ambito all’imposta della volta tramite l’applicazione di elemento an","golare preformato "),AM11, " di Fibre Net, o equivalente e opportuni connettori, ") -> La rimozione del pavimento, del sottofondo e del riempimento fino a raggiungere la quota del rinfianco dell’estradosso della volta. Il fissaggio e il rinforzo della rete sulle murature d’ambito all’imposta della volta tramite l’applicazione di elemento angolare preformato FBANG66X66T96AR di Fibre Net, o equivalente e opportuni connettori, | AO11: 0.28 | AP11: 0.2 | AQ11: 1.96 | AR11: 8 | AS11: sulla superficie d’estradosso di cappa tramite malta | AU11: FBANG66X66T96AR | AV11: =_xlfn.CONCAT(_xlfn._LONGTEXT("La rimozione del pavimento, del sottofondo e del riempimento fino a raggiungere la quota del rinfianco dell’estradosso della volta. Il fissaggio e il rinforzo della rete sulle murature d’ambito all’imposta della volta tramite l’applicazione di elemento an","golare preformato "), AU11, " di Fibre Net, o equivalente e opportuni connettori") -> La rimozione del pavimento, del sottofondo e del riempimento fino a raggiungere la quota del rinfianco dell’estradosso della volta. Il fissaggio e il rinforzo della rete sulle murature d’ambito all’imposta della volta tramite l’applicazione di elemento angolare preformato FBANG66X66T96AR di Fibre Net, o equivalente e opportuni connettori | AW11: 1.78
A12: in folio | B12: estradosso | C12: , anche in presenza all’intradosso di affreschi o altri trattamenti decorativi, | D12: FBMESH99X99T96AR | E12: 99x99 | F12: diametro nominale dei trefoli > 3 mm | G12: 10 | H12: 376 | I12: 8.9 | J12: 25000 | K12: 4.23 | L12: 0.25 | M12: 11.3 | N12: NHL 110 | O12: EPOCA CALCE – NHL 110 | P12: malta a base calce NHL per interventi di restauro e rinforzo strutturale di elementi in muratura | Q12: 17 | R12: 4 | S12: =Q12*R12 -> 68 | T12: 0.572 | U12: FBDPP | V12: 2.6 | W12: 4 | X12: FB-RC30-3-600 | Y12: 24.15 | Z12: =0.04*W12 -> 0.16 | AA12: =Z12/0.6 -> 0.26666667 | AB12: 32.16 | AC12: 26.72 | AD12: Pulizia della volta | AE12: 0.1 | AF12: 0.1 | AG12: Applicazione rete e connettori | AH12: 0.18 | AI12: 0.18 | AJ12: Realizzazione di cappa in malta di calce e cemento | AK12: 0.37 | AL12: 0.26 | AM12: FBANG99X99T96AR | AN12: =_xlfn.CONCAT(_xlfn._LONGTEXT("La rimozione del pavimento, del sottofondo e del riempimento fino a raggiungere la quota del rinfianco dell’estradosso della volta. Il fissaggio e il rinforzo della rete sulle murature d’ambito all’imposta della volta tramite l’applicazione di elemento an","golare preformato "),AM12, " di Fibre Net, o equivalente e opportuni connettori, ") -> La rimozione del pavimento, del sottofondo e del riempimento fino a raggiungere la quota del rinfianco dell’estradosso della volta. Il fissaggio e il rinforzo della rete sulle murature d’ambito all’imposta della volta tramite l’applicazione di elemento angolare preformato FBANG99X99T96AR di Fibre Net, o equivalente e opportuni connettori, | AO12: 0.28 | AP12: 0.2 | AQ12: 1.78 | AR12: 8 | AS12: sulla superficie d’estradosso di cappa tramite malta | AU12: FBANG99X99T96AR | AV12: =_xlfn.CONCAT(_xlfn._LONGTEXT("La rimozione del pavimento, del sottofondo e del riempimento fino a raggiungere la quota del rinfianco dell’estradosso della volta. Il fissaggio e il rinforzo della rete sulle murature d’ambito all’imposta della volta tramite l’applicazione di elemento an","golare preformato "), AU12, " di Fibre Net, o equivalente e opportuni connettori") -> La rimozione del pavimento, del sottofondo e del riempimento fino a raggiungere la quota del rinfianco dell’estradosso della volta. Il fissaggio e il rinforzo della rete sulle murature d’ambito all’imposta della volta tramite l’applicazione di elemento angolare preformato FBANG99X99T96AR di Fibre Net, o equivalente e opportuni connettori | AW12: 1.78
A13: in folio | B13: estradosso | C13: , anche in presenza all’intradosso di affreschi o altri trattamenti decorativi, | D13: FBMESH99X99T96AR | E13: 99x99 | F13: diametro nominale dei trefoli > 3 mm | G13: 10 | H13: 376 | I13: 8.9 | J13: 25000 | K13: 4.23 | L13: 0.25 | M13: 11.3 | N13: RZ 210 | O13: MATERIA RINFORZA – RZ 210 | P13: malta a base di leganti idraulici per interventi di restauro e rinforzo strutturale di elementi in muratura | Q13: 17 | R13: 4 | S13: =Q13*R13 -> 68 | T13: 0.492 | U13: FBDPP | V13: 2.6 | W13: 4 | X13: FB-RC30-3-600 | Y13: 24.15 | Z13: =0.04*W13 -> 0.16 | AA13: =Z13/0.6 -> 0.26666667 | AB13: 32.16 | AC13: 26.72 | AD13: Pulizia della volta | AE13: 0.1 | AF13: 0.1 | AG13: Applicazione rete e connettori | AH13: 0.18 | AI13: 0.18 | AJ13: Realizzazione di cappa in malta di calce e cemento | AK13: 0.37 | AL13: 0.26 | AM13: FBANG99X99T96AR | AN13: =_xlfn.CONCAT(_xlfn._LONGTEXT("La rimozione del pavimento, del sottofondo e del riempimento fino a raggiungere la quota del rinfianco dell’estradosso della volta. Il fissaggio e il rinforzo della rete sulle murature d’ambito all’imposta della volta tramite l’applicazione di elemento an","golare preformato "),AM13, " di Fibre Net, o equivalente e opportuni connettori, ") -> La rimozione del pavimento, del sottofondo e del riempimento fino a raggiungere la quota del rinfianco dell’estradosso della volta. Il fissaggio e il rinforzo della rete sulle murature d’ambito all’imposta della volta tramite l’applicazione di elemento angolare preformato FBANG99X99T96AR di Fibre Net, o equivalente e opportuni connettori, | AO13: 0.28 | AP13: 0.2 | AQ13: 1.78 | AR13: 8 | AS13: sulla superficie d’estradosso di cappa tramite malta | AU13: FBANG99X99T96AR | AV13: =_xlfn.CONCAT(_xlfn._LONGTEXT("La rimozione del pavimento, del sottofondo e del riempimento fino a raggiungere la quota del rinfianco dell’estradosso della volta. Il fissaggio e il rinforzo della rete sulle murature d’ambito all’imposta della volta tramite l’applicazione di elemento an","golare preformato "), AU13, " di Fibre Net, o equivalente e opportuni connettori") -> La rimozione del pavimento, del sottofondo e del riempimento fino a raggiungere la quota del rinfianco dell’estradosso della volta. Il fissaggio e il rinforzo della rete sulle murature d’ambito all’imposta della volta tramite l’applicazione di elemento angolare preformato FBANG99X99T96AR di Fibre Net, o equivalente e opportuni connettori | AW13: 1.78
A14: in folio | B14: estradosso | C14: , anche in presenza all’intradosso di affreschi o altri trattamenti decorativi, | D14: FBMESH66X66T96ARFORCE | E14: 66x66 | F14: 0 | G14: 15 | H14: 806 | I14: 7.05 | J14: 44600 | K14: 6.2 | L14: 0.31 | M14: 18.1 | N14: NHL 115 | O14: EPOCA CALCE – NHL 115 | P14: malta a base calce NHL per interventi di restauro e rinforzo strutturale di elementi in muratura | Q14: 17 | R14: 4 | S14: =Q14*R14 -> 68 | T14: 0.604 | U14: FBDPP | V14: 2.6 | W14: 4 | X14: FB-RC30-3-600 | Y14: 24.15 | Z14: =0.04*W14 -> 0.16 | AA14: =Z14/0.6 -> 0.26666667 | AB14: 32.16 | AC14: 26.72 | AD14: Pulizia della volta | AE14: 0.1 | AF14: 0.1 | AG14: Applicazione rete e connettori | AH14: 0.18 | AI14: 0.18 | AJ14: Realizzazione di cappa in malta di calce e cemento | AK14: 0.37 | AL14: 0.26 | AM14: FBANG66X66T96AR | AN14: =_xlfn.CONCAT(_xlfn._LONGTEXT("La rimozione del pavimento, del sottofondo e del riempimento fino a raggiungere la quota del rinfianco dell’estradosso della volta. Il fissaggio e il rinforzo della rete sulle murature d’ambito all’imposta della volta tramite l’applicazione di elemento an","golare preformato "),AM14, " di Fibre Net, o equivalente e opportuni connettori, ") -> La rimozione del pavimento, del sottofondo e del riempimento fino a raggiungere la quota del rinfianco dell’estradosso della volta. Il fissaggio e il rinforzo della rete sulle murature d’ambito all’imposta della volta tramite l’applicazione di elemento angolare preformato FBANG66X66T96AR di Fibre Net, o equivalente e opportuni connettori, | AO14: 0.28 | AP14: 0.2 | AQ14: 1.78 | AR14: 8 | AS14: sulla superficie d’estradosso di cappa tramite malta | AU14: FBANG66X66T96AR | AV14: =_xlfn.CONCAT(_xlfn._LONGTEXT("La rimozione del pavimento, del sottofondo e del riempimento fino a raggiungere la quota del rinfianco dell’estradosso della volta. Il fissaggio e il rinforzo della rete sulle murature d’ambito all’imposta della volta tramite l’applicazione di elemento an","golare preformato "), AU14, " di Fibre Net, o equivalente e opportuni connettori") -> La rimozione del pavimento, del sottofondo e del riempimento fino a raggiungere la quota del rinfianco dell’estradosso della volta. Il fissaggio e il rinforzo della rete sulle murature d’ambito all’imposta della volta tramite l’applicazione di elemento angolare preformato FBANG66X66T96AR di Fibre Net, o equivalente e opportuni connettori | AW14: 1.96
A15: in folio | B15: estradosso | C15: , anche in presenza all’intradosso di affreschi o altri trattamenti decorativi, | D15: FBMESH66X66T96ARFORCE | E15: 66x66 | F15: 0 | G15: 15 | H15: 806 | I15: 7.05 | J15: 44600 | K15: 6.2 | L15: 0.31 | M15: 18.1 | N15: RZ 215 | O15: MATERIA RINFORZA – RZ 215 | P15: malta a base di leganti idraulici per interventi di restauro e rinforzo strutturale di elementi in muratura | Q15: 17 | R15: 4 | S15: =Q15*R15 -> 68 | T15: 0.498 | U15: FBDPP | V15: 2.6 | W15: 4 | X15: FB-RC30-3-600 | Y15: 24.15 | Z15: =0.04*W15 -> 0.16 | AA15: =Z15/0.6 -> 0.26666667 | AB15: 32.16 | AC15: 26.72 | AD15: Pulizia della volta | AE15: 0.1 | AF15: 0.1 | AG15: Applicazione rete e connettori | AH15: 0.18 | AI15: 0.18 | AJ15: Realizzazione di cappa in malta di calce e cemento | AK15: 0.37 | AL15: 0.26 | AM15: FBANG66X66T96AR | AN15: =_xlfn.CONCAT(_xlfn._LONGTEXT("La rimozione del pavimento, del sottofondo e del riempimento fino a raggiungere la quota del rinfianco dell’estradosso della volta. Il fissaggio e il rinforzo della rete sulle murature d’ambito all’imposta della volta tramite l’applicazione di elemento an","golare preformato "),AM15, " di Fibre Net, o equivalente e opportuni connettori, ") -> La rimozione del pavimento, del sottofondo e del riempimento fino a raggiungere la quota del rinfianco dell’estradosso della volta. Il fissaggio e il rinforzo della rete sulle murature d’ambito all’imposta della volta tramite l’applicazione di elemento angolare preformato FBANG66X66T96AR di Fibre Net, o equivalente e opportuni connettori, | AO15: 0.28 | AP15: 0.2 | AQ15: 1.78 | AR15: 8 | AS15: sulla superficie d’estradosso di cappa tramite malta | AU15: FBANG66X66T96AR | AV15: =_xlfn.CONCAT(_xlfn._LONGTEXT("La rimozione del pavimento, del sottofondo e del riempimento fino a raggiungere la quota del rinfianco dell’estradosso della volta. Il fissaggio e il rinforzo della rete sulle murature d’ambito all’imposta della volta tramite l’applicazione di elemento an","golare preformato "), AU15, " di Fibre Net, o equivalente e opportuni connettori") -> La rimozione del pavimento, del sottofondo e del riempimento fino a raggiungere la quota del rinfianco dell’estradosso della volta. Il fissaggio e il rinforzo della rete sulle murature d’ambito all’imposta della volta tramite l’applicazione di elemento angolare preformato FBANG66X66T96AR di Fibre Net, o equivalente e opportuni connettori | AW15: 1.96
A16: in folio | B16: estradosso | C16: , anche in presenza all’intradosso di affreschi o altri trattamenti decorativi, | D16: FBMESH99X99T96ARFORCE | E16: 99x99 | F16: 0 | G16: 10 | H16: 806 | I16: 7.05 | J16: 44600 | K16: 6.2 | L16: 0.31 | M16: 13.6 | N16: NHL 115 | O16: EPOCA CALCE – NHL 115 | P16: malta a base calce NHL per interventi di restauro e rinforzo strutturale di elementi in muratura | Q16: 17 | R16: 4 | S16: =Q16*R16 -> 68 | T16: 0.604 | U16: FBDPP | V16: 2.6 | W16: 4 | X16: FB-RC30-3-600 | Y16: 24.15 | Z16: =0.04*W16 -> 0.16 | AA16: =Z16/0.6 -> 0.26666667 | AB16: 32.16 | AC16: 26.72 | AD16: Pulizia della volta | AE16: 0.1 | AF16: 0.1 | AG16: Applicazione rete e connettori | AH16: 0.18 | AI16: 0.18 | AJ16: Realizzazione di cappa in malta di calce e cemento | AK16: 0.37 | AL16: 0.26 | AM16: FBANG99X99T96AR | AN16: =_xlfn.CONCAT(_xlfn._LONGTEXT("La rimozione del pavimento, del sottofondo e del riempimento fino a raggiungere la quota del rinfianco dell’estradosso della volta. Il fissaggio e il rinforzo della rete sulle murature d’ambito all’imposta della volta tramite l’applicazione di elemento an","golare preformato "),AM16, " di Fibre Net, o equivalente e opportuni connettori, ") -> La rimozione del pavimento, del sottofondo e del riempimento fino a raggiungere la quota del rinfianco dell’estradosso della volta. Il fissaggio e il rinforzo della rete sulle murature d’ambito all’imposta della volta tramite l’applicazione di elemento angolare preformato FBANG99X99T96AR di Fibre Net, o equivalente e opportuni connettori, | AO16: 0.28 | AP16: 0.2 | AQ16: 1.96 | AR16: 8 | AS16: sulla superficie d’estradosso di cappa tramite malta | AU16: FBANG99X99T96AR | AV16: =_xlfn.CONCAT(_xlfn._LONGTEXT("La rimozione del pavimento, del sottofondo e del riempimento fino a raggiungere la quota del rinfianco dell’estradosso della volta. Il fissaggio e il rinforzo della rete sulle murature d’ambito all’imposta della volta tramite l’applicazione di elemento an","golare preformato "), AU16, " di Fibre Net, o equivalente e opportuni connettori") -> La rimozione del pavimento, del sottofondo e del riempimento fino a raggiungere la quota del rinfianco dell’estradosso della volta. Il fissaggio e il rinforzo della rete sulle murature d’ambito all’imposta della volta tramite l’applicazione di elemento angolare preformato FBANG99X99T96AR di Fibre Net, o equivalente e opportuni connettori | AW16: 1.96
A17: in folio | B17: estradosso | C17: , anche in presenza all’intradosso di affreschi o altri trattamenti decorativi, | D17: FBMESH99X99T96ARFORCE | E17: 99x99 | F17: 0 | G17: 10 | H17: 806 | I17: 7.05 | J17: 44600 | K17: 6.2 | L17: 0.31 | M17: 13.6 | N17: RZ 215 | O17: MATERIA RINFORZA – RZ 215 | P17: malta a base di leganti idraulici per interventi di restauro e rinforzo strutturale di elementi in muratura | Q17: 17 | R17: 4 | S17: =Q17*R17 -> 68 | T17: 0.498 | U17: FBDPP | V17: 2.6 | W17: 4 | X17: FB-RC30-3-600 | Y17: 24.15 | Z17: =0.04*W17 -> 0.16 | AA17: =Z17/0.6 -> 0.26666667 | AB17: 32.16 | AC17: 26.72 | AD17: Pulizia della volta | AE17: 0.1 | AF17: 0.1 | AG17: Applicazione rete e connettori | AH17: 0.18 | AI17: 0.18 | AJ17: Realizzazione di cappa in malta di calce e cemento | AK17: 0.37 | AL17: 0.26 | AM17: FBANG99X99T96AR | AN17: =_xlfn.CONCAT(_xlfn._LONGTEXT("La rimozione del pavimento, del sottofondo e del riempimento fino a raggiungere la quota del rinfianco dell’estradosso della volta. Il fissaggio e il rinforzo della rete sulle murature d’ambito all’imposta della volta tramite l’applicazione di elemento an","golare preformato "),AM17, " di Fibre Net, o equivalente e opportuni connettori, ") -> La rimozione del pavimento, del sottofondo e del riempimento fino a raggiungere la quota del rinfianco dell’estradosso della volta. Il fissaggio e il rinforzo della rete sulle murature d’ambito all’imposta della volta tramite l’applicazione di elemento angolare preformato FBANG99X99T96AR di Fibre Net, o equivalente e opportuni connettori, | AO17: 0.28 | AP17: 0.2 | AQ17: 1.96 | AR17: 8 | AS17: sulla superficie d’estradosso di cappa tramite malta | AU17: FBANG99X99T96AR | AV17: =_xlfn.CONCAT(_xlfn._LONGTEXT("La rimozione del pavimento, del sottofondo e del riempimento fino a raggiungere la quota del rinfianco dell’estradosso della volta. Il fissaggio e il rinforzo della rete sulle murature d’ambito all’imposta della volta tramite l’applicazione di elemento an","golare preformato "), AU17, " di Fibre Net, o equivalente e opportuni connettori") -> La rimozione del pavimento, del sottofondo e del riempimento fino a raggiungere la quota del rinfianco dell’estradosso della volta. Il fissaggio e il rinforzo della rete sulle murature d’ambito all’imposta della volta tramite l’applicazione di elemento angolare preformato FBANG99X99T96AR di Fibre Net, o equivalente e opportuni connettori | AW17: 1.96
A18: in folio | B18: estradosso | C18: , anche in presenza all’intradosso di affreschi o altri trattamenti decorativi, | D18: FBMESH66X66T96AR | E18: 66x66 | F18: diametro nominale dei trefoli > 3 mm | G18: 15 | H18: 376 | I18: 8.9 | J18: 25000 | K18: 4.23 | L18: 0.25 | M18: 15.1 | N18: NHL 110 | O18: EPOCA CALCE – NHL 110 | P18: malta a base calce NHL per interventi di restauro e rinforzo strutturale di elementi in muratura | Q18: 17 | R18: 3 | S18: =Q18*R18 -> 51 | T18: 0.572 | U18: FBDPP | V18: 2.6 | W18: 5 | X18: FB-RC30-3-600 | Y18: 24.15 | Z18: =0.04*W18 -> 0.2 | AA18: =Z18/0.6 -> 0.33333333 | AB18: 32.16 | AC18: 26.72 | AD18: Pulizia della volta | AE18: 0.1 | AF18: 0.1 | AG18: Applicazione rete e connettori | AH18: 0.15 | AI18: 0.15 | AJ18: Realizzazione di cappa in malta di calce e cemento | AK18: 0.28 | AL18: 0.2 | AM18: FBANG66X66T96AR | AN18: =_xlfn.CONCAT(_xlfn._LONGTEXT("La rimozione del pavimento, del sottofondo e del riempimento fino a raggiungere la quota del rinfianco dell’estradosso della volta. Il fissaggio e il rinforzo della rete sulle murature d’ambito all’imposta della volta tramite l’applicazione di elemento an","golare preformato "),AM18, " di Fibre Net, o equivalente e opportuni connettori, ") -> La rimozione del pavimento, del sottofondo e del riempimento fino a raggiungere la quota del rinfianco dell’estradosso della volta. Il fissaggio e il rinforzo della rete sulle murature d’ambito all’imposta della volta tramite l’applicazione di elemento angolare preformato FBANG66X66T96AR di Fibre Net, o equivalente e opportuni connettori, | AO18: 0.28 | AP18: 0.2 | AQ18: 1.96 | AR18: 8 | AS18: sulla superficie d’estradosso di cappa tramite malta | AU18: FBANG66X66T96AR | AV18: =_xlfn.CONCAT(_xlfn._LONGTEXT("La rimozione del pavimento, del sottofondo e del riempimento fino a raggiungere la quota del rinfianco dell’estradosso della volta. Il fissaggio e il rinforzo della rete sulle murature d’ambito all’imposta della volta tramite l’applicazione di elemento an","golare preformato "), AU18, " di Fibre Net, o equivalente e opportuni connettori") -> La rimozione del pavimento, del sottofondo e del riempimento fino a raggiungere la quota del rinfianco dell’estradosso della volta. Il fissaggio e il rinforzo della rete sulle murature d’ambito all’imposta della volta tramite l’applicazione di elemento angolare preformato FBANG66X66T96AR di Fibre Net, o equivalente e opportuni connettori | AW18: 1.78
A19: in folio | B19: estradosso | C19: , anche in presenza all’intradosso di affreschi o altri trattamenti decorativi, | D19: FBMESH66X66T96AR | E19: 66x66 | F19: diametro nominale dei trefoli > 3 mm | G19: 15 | H19: 376 | I19: 8.9 | J19: 25000 | K19: 4.23 | L19: 0.25 | M19: 15.1 | N19: RZ 210 | O19: MATERIA RINFORZA – RZ 210 | P19: malta a base di leganti idraulici per interventi di restauro e rinforzo strutturale di elementi in muratura | Q19: 17 | R19: 3 | S19: =Q19*R19 -> 51 | T19: 0.492 | U19: FBDPP | V19: 2.6 | W19: 5 | X19: FB-RC30-3-600 | Y19: 24.15 | Z19: =0.04*W19 -> 0.2 | AA19: =Z19/0.6 -> 0.33333333 | AB19: 32.16 | AC19: 26.72 | AD19: Pulizia della volta | AE19: 0.1 | AF19: 0.1 | AG19: Applicazione rete e connettori | AH19: 0.15 | AI19: 0.15 | AJ19: Realizzazione di cappa in malta di calce e cemento | AK19: 0.28 | AL19: 0.2 | AM19: FBANG66X66T96AR | AN19: =_xlfn.CONCAT(_xlfn._LONGTEXT("La rimozione del pavimento, del sottofondo e del riempimento fino a raggiungere la quota del rinfianco dell’estradosso della volta. Il fissaggio e il rinforzo della rete sulle murature d’ambito all’imposta della volta tramite l’applicazione di elemento an","golare preformato "),AM19, " di Fibre Net, o equivalente e opportuni connettori, ") -> La rimozione del pavimento, del sottofondo e del riempimento fino a raggiungere la quota del rinfianco dell’estradosso della volta. Il fissaggio e il rinforzo della rete sulle murature d’ambito all’imposta della volta tramite l’applicazione di elemento angolare preformato FBANG66X66T96AR di Fibre Net, o equivalente e opportuni connettori, | AO19: 0.28 | AP19: 0.2 | AQ19: 1.96 | AR19: 8 | AS19: sulla superficie d’estradosso di cappa tramite malta | AU19: FBANG66X66T96AR | AV19: =_xlfn.CONCAT(_xlfn._LONGTEXT("La rimozione del pavimento, del sottofondo e del riempimento fino a raggiungere la quota del rinfianco dell’estradosso della volta. Il fissaggio e il rinforzo della rete sulle murature d’ambito all’imposta della volta tramite l’applicazione di elemento an","golare preformato "), AU19, " di Fibre Net, o equivalente e opportuni connettori") -> La rimozione del pavimento, del sottofondo e del riempimento fino a raggiungere la quota del rinfianco dell’estradosso della volta. Il fissaggio e il rinforzo della rete sulle murature d’ambito all’imposta della volta tramite l’applicazione di elemento angolare preformato FBANG66X66T96AR di Fibre Net, o equivalente e opportuni connettori | AW19: 1.78
A20: in folio | B20: estradosso | C20: , anche in presenza all’intradosso di affreschi o altri trattamenti decorativi, | D20: FBMESH99X99T96AR | E20: 99x99 | F20: diametro nominale dei trefoli > 3 mm | G20: 10 | H20: 376 | I20: 8.9 | J20: 25000 | K20: 4.23 | L20: 0.25 | M20: 11.3 | N20: NHL 110 | O20: EPOCA CALCE – NHL 110 | P20: malta a base calce NHL per interventi di restauro e rinforzo strutturale di elementi in muratura | Q20: 17 | R20: 3 | S20: =Q20*R20 -> 51 | T20: 0.572 | U20: FBDPP | V20: 2.6 | W20: 5 | X20: FB-RC30-3-600 | Y20: 24.15 | Z20: =0.04*W20 -> 0.2 | AA20: =Z20/0.6 -> 0.33333333 | AB20: 32.16 | AC20: 26.72 | AD20: Pulizia della volta | AE20: 0.1 | AF20: 0.1 | AG20: Applicazione rete e connettori | AH20: 0.15 | AI20: 0.15 | AJ20: Realizzazione di cappa in malta di calce e cemento | AK20: 0.28 | AL20: 0.2 | AM20: FBANG99X99T96AR | AN20: =_xlfn.CONCAT(_xlfn._LONGTEXT("La rimozione del pavimento, del sottofondo e del riempimento fino a raggiungere la quota del rinfianco dell’estradosso della volta. Il fissaggio e il rinforzo della rete sulle murature d’ambito all’imposta della volta tramite l’applicazione di elemento an","golare preformato "),AM20, " di Fibre Net, o equivalente e opportuni connettori, ") -> La rimozione del pavimento, del sottofondo e del riempimento fino a raggiungere la quota del rinfianco dell’estradosso della volta. Il fissaggio e il rinforzo della rete sulle murature d’ambito all’imposta della volta tramite l’applicazione di elemento angolare preformato FBANG99X99T96AR di Fibre Net, o equivalente e opportuni connettori, | AO20: 0.28 | AP20: 0.2 | AQ20: 1.78 | AR20: 8 | AS20: sulla superficie d’estradosso di cappa tramite malta | AU20: FBANG99X99T96AR | AV20: =_xlfn.CONCAT(_xlfn._LONGTEXT("La rimozione del pavimento, del sottofondo e del riempimento fino a raggiungere la quota del rinfianco dell’estradosso della volta. Il fissaggio e il rinforzo della rete sulle murature d’ambito all’imposta della volta tramite l’applicazione di elemento an","golare preformato "), AU20, " di Fibre Net, o equivalente e opportuni connettori") -> La rimozione del pavimento, del sottofondo e del riempimento fino a raggiungere la quota del rinfianco dell’estradosso della volta. Il fissaggio e il rinforzo della rete sulle murature d’ambito all’imposta della volta tramite l’applicazione di elemento angolare preformato FBANG99X99T96AR di Fibre Net, o equivalente e opportuni connettori | AW20: 1.78
