Workbook

Sheet RI-STRUTTURA VOLTA IN FOLIO
D1: TAVOLA CRM 15-16 | E1: =_xlfn.CONCAT("CONSOLIDAMENTO VOLTE IN FOLGIO ALL'",AX2," Rete ",B4, " maglia ",M2, ", n. ",O2, " barre/metro/lato") -> CONSOLIDAMENTO VOLTE IN FOLGIO ALL'INTRADOSSO Rete FBMESH66X66T96AR maglia 66x66, n. 15 barre/metro/lato | I1: TIPO DI VOLTA | J1: POSIZIONE | K1: (+) descrizione | L1: RETE | M1: MAGLIA | N1: Trefolo | O1: barre/m/l | P1: tensione a trazione caratteristica del composito | Q1: Sezione nominale della singola barra | R1: M.elastico | S1: Trazione caratteristica della singola barra | T1: Resistenza caratteristica a strappo del nodo | U1: €/m² | V1: MALTA | W1: Nome completo | X1: Descrizione | Y1: Consumo malta | Z1: Spessori malta | AA1: Consumo tot (malta) | AB1: €/kg malta | AC1: Nome connettore | AD1: €/conn | AE1: Qtà connettori | AF1: Ancorante | AG1: €/pz ancorante | AH1: Consumotot in kg ancorante | AI1: Consumo al pz | AJ1: Operaio Spec | AK1: Operaio Com | AL1: NOME LAVORAZIONE a | AM1: Pulizia della Volta Fraz. H Spec | AN1: Pulizia della Volta Fraz. H Com | AO1: NOME LAVORAZIONE b | AP1: Perfori Fraz. H Spec | AQ1: Perfori Fraz. H Com | AR1: NOME LAVORAZIONE c | AS1: Rete e Conn Fraz. H Spec | AT1: Rete e Conn Fraz. H Com | AU1: Angolare Associato | AV1: ESCLUSO | AW1: allungamento medio a rottura (%) | AX1: MAIUS
I2: in folio | J2: =A4 -> intradosso | K2: =VLOOKUP(J2,Dati!B:C,2,0) -> 0 | L2: =B4 -> FBMESH66X66T96AR | M2: =VLOOKUP(L2,Dati!D:M,2,0) -> 66x66 | N2: =VLOOKUP(L2,Dati!D:M,3,0) -> diametro nominale dei trefoli > 3 mm | O2: =VLOOKUP(L2,Dati!D:M,4,0) -> 15 | P2: =VLOOKUP(L2,Dati!D:M,5,0) -> 376 | Q2: =VLOOKUP(L2,Dati!D:M,6,0) -> 8.9 | R2: =VLOOKUP(L2,Dati!D:M,7,0) -> 25000 | S2: =VLOOKUP(L2,Dati!D:M,8,0) -> 4.23 | T2: =VLOOKUP(L2,Dati!D:M,9,0) -> 0.25 | U2: =VLOOKUP(L2,Dati!D:M,10,0) -> 15.1 | V2: =C4 -> NHL 115 | W2: =VLOOKUP(V2,Dati!N:T,2,0) -> EPOCA CALCE – NHL 115 | X2: =VLOOKUP(V2,Dati!N:T,3,0) -> malta a base calce NHL per interventi di restauro e rinforzo strutturale di elementi in muratura | Y2: =VLOOKUP(V2,Dati!N:T,4,0) -> 17 | Z2: =D4 -> 3 | AA2: =Y2*Z2 -> 51 | AB2: =VLOOKUP(V2,Dati!N:T,7,0) -> 0.604 | AC2: FBDPP | AD2: =VLOOKUP(AC2,Dati!U:AA,2,0) -> 2.6 | AE2: =A7 -> 4 | AF2: FB-RC30-3-600 | AG2: 24.15 | AH2: =VLOOKUP(AE2,Dati!W:AA,3,0) -> 24.15 | AI2: =VLOOKUP(AE2,Dati!W:AA,4,0) -> 0.16 | AJ2: 32.16 | AK2: 26.72 | AL2: =VLOOKUP(J2,Dati!B:AF,29,0) -> 0 | AM2: =VLOOKUP(J2,Dati!B:AF,30,0) -> 0 | AN2: =VLOOKUP(J2,Dati!B:AF,31,0) -> 0 | AO2: Applicazione rete e connettori | AP2: =VLOOKUP(AE2,Dati!W:AI,12,0) -> 0.15 | AQ2: =VLOOKUP(AE2,Dati!W:AI,13,0) -> 0.15 | AR2: =VLOOKUP(J2,Dati!B:AL,35,0) -> Applicazione intonaco | AS2: =VLOOKUP(J2,Dati!B:AL,36,0) -> 0.3 | AT2: =VLOOKUP(J2,Dati!B:AL,37,0) -> 0.25 | AU2: =VLOOKUP(L2,Dati!D:AU,44,0) -> FBANG66X66T96AR | AV2: =VLOOKUP(J2,Dati!B:AV,47,0) -> L’eventuale rimozione e scrostamento dell’intonaco preesistente, i ponteggi, impalcature e/o attrezzature necessarie all’esecuzione dei lavori e le eventuali coperture installate a protezione degli agenti atmosferici e quant’altro non specificato. | AW2: =VLOOKUP(L2,Dati!D:AW,46,0) -> 1.78 | AX2: =UPPER(J2) -> INTRADOSSO
A3: Posizione rinforzo | B3: Tipologia rete | C3: Malta | D3: Spessore malta (cm)
A4: intradosso | B4: FBMESH66X66T96AR | C4: NHL 115 | D4: 3
A6: Quantità connettori
A7: 4
A9: VOCE DI CAPITOLATO
A10: =_xlfn.CONCAT("Consolidamento di ", J2, " di volte in foglio", (IF(K2=0,"",K2)), " mediante tecnica dell’intonaco armato CRM – dotato di marcatura CE, in possesso di certificazione EPD ai fini della dichiarazione di contributo ai CAM (criteri ambientali minimi) composto da rete ", L2, ", connettori in acciaio inox FBDPP e resina epossidica tixotropica FB-RC30/3-600 di Fibre Net, o equivalente aventi le seguenti caratteristiche o equivalenti:") -> Consolidamento di intradosso di volte in foglio mediante tecnica dell’intonaco armato CRM – dotato di marcatura CE, in possesso di certificazione EPD ai fini della dichiarazione di contributo ai CAM (criteri ambientali minimi) composto da rete FBMESH66X66T96AR, connettori in acciaio inox FBDPP e resina epossidica tixotropica FB-RC30/3-600 di Fibre Net, o equivalente aventi le seguenti caratteristiche o equivalenti:
A11: =_xlfn.CONCAT(_xlfn._LONGTEXT("- Rete preformata in materiale composito fibrorinforzato G.F.R.P. (Glass Fiber Reinforced Polymer) di Fibre Net, o equivalente, per consolidamento strutturale di pavimentazioni, solai, volte, murature in calcestruzzo, mattoni, pietra, tufo, calcare. Compo","nente del Sistema CRM - Composite Reinforced Mortar - System for strengthening masonry wall denominato RISTRUTTURA, dotato di marcatura CE per azioni gravitazionali, vento e sisma. Rete alcalino resistente, a maglia quadra monolitica dimensione "), M2, " mm, prodotta con tecnologia Textrusion, costituita da fibra di vetro e resina termoindurente di tipo vinilestere-epossidico, tessitura con ordito a torcitura multipla e trama piatta inserita fra le fibre di ordito, ", N2, ", avente n. ", O2, " barre/metro/lato, tensione a trazione caratteristica del composito ≥ ", P2, " MPa, sezione nominale della singola barra ≥ ", Q2, " mm2, modulo elastico a trazione equivalente ≥ ", R2, " N/mm2, resistenza a trazione caratteristica della singola barra ≥ ", S2, " kN, allungamento medio a rottura ", AW2, "%, resistenza caratteristica a strappo del nodo ≥ ", T2, " kN. Decadimento di resistenza a trazione e del modulo elastico per l’ambiente umido, alcalino e salino < 8%") -> - Rete preformata in materiale composito fibrorinforzato G.F.R.P. (Glass Fiber Reinforced Polymer) di Fibre Net, o equivalente, per consolidamento strutturale di pavimentazioni, solai, volte, murature in calcestruzzo, mattoni, pietra, tufo, calcare. Componente del Sistema CRM - Composite Reinforced Mortar - System for strengthening masonry wall denominato RISTRUTTURA, dotato di marcatura CE per azioni gravitazionali, vento e sisma. Rete alcalino resistente, a maglia quadra monolitica dimensione 66x66 mm, prodotta con tecnologia Textrusion, costituita da fibra di vetro e resina termoindurente di tipo vinilestere-epossidico, tessitura con ordito a torcitura multipla e trama piatta inserita fra le fibre di ordito, diametro nominale dei trefoli > 3 mm, avente n. 15 barre/metro/lato, tensione a trazione caratteristica del composito ≥ 376 MPa, sezione nominale della singola barra ≥ 8,9 mm2, modulo elastico a trazione equivalente ≥ 25000 N/mm2, resistenza a trazione caratteristica della singola barra ≥ 4,23 kN, allungamento medio a rottura 1.78%, resistenza caratteristica a strappo del nodo ≥ 0,25 kN. Decadimento di resistenza a trazione e del modulo elastico per l’ambiente umido, alcalino e salino < 8%
A12: - Boccola in acciaio inox AISI 316, costituita da piastrina circolare di diametro 38 mm e spessore 1.2 mm con filettatura M8, incollabile alle superfici voltate in muratura mediante annegamento in resina epossidica FB-RC30/3-600;
A13: - Resina epossidica tixotropica FB-RC30/3-600.
A14: INCLUSO NEL PREZZO:
A15: =_xlfn.CONCAT("La pulizia meccanica della superficie della volta con aspirazione di polvere e parti incoerenti, l’eventuale bagnatura della superficie e la posa in opera del successivo rinzaffo, l’applicazione dei connettori sopradescritti non inferiore a ",A4, "/m², tramite resina epossidica tixotropica FB-RC30/3-600 di Fibre Net, o equivalente alla superfice della volta e la realizzazione all’estradosso di cappa tramite malta ", W2, " di Fibre Net, o equivalente ",X2, " di spessore ", D4, " cm modellata secondo la forma della volta. Sono inoltre compresi l’onere del risvolto della rete sulle murature d’ambito, tagli, sfridi e sovrapposizioni e quanto altro occorre per dare l’opera finita.") -> La pulizia meccanica della superficie della volta con aspirazione di polvere e parti incoerenti, l’eventuale bagnatura della superficie e la posa in opera del successivo rinzaffo, l’applicazione dei connettori sopradescritti non inferiore a intradosso/m², tramite resina epossidica tixotropica FB-RC30/3-600 di Fibre Net, o equivalente alla superfice della volta e la realizzazione all’estradosso di cappa tramite malta EPOCA CALCE – NHL 115 di Fibre Net, o equivalente malta a base calce NHL per interventi di restauro e rinforzo strutturale di elementi in muratura di spessore 3 cm modellata secondo la forma della volta. Sono inoltre compresi l’onere del risvolto della rete sulle murature d’ambito, tagli, sfridi e sovrapposizioni e quanto altro occorre per dare l’opera finita.
A16: ESCLUSO DAL PREZZO:
A17: =_xlfn.CONCAT(,AV2, ", i ponteggi, impalcature e/o attrezzature necessarie all’esecuzione dei lavori e le eventuali coperture installate a protezione degli agenti atmosferici e quant’altro non specificato.") -> L’eventuale rimozione e scrostamento dell’intonaco preesistente, i ponteggi, impalcature e/o attrezzature necessarie all’esecuzione dei lavori e le eventuali coperture installate a protezione degli agenti atmosferici e quant’altro non specificato., i ponteggi, impalcature e/o attrezzature necessarie all’esecuzione dei lavori e le eventuali coperture installate a protezione degli agenti atmosferici e quant’altro non specificato.
A18: =_xlfn.CONCAT("PREZZO PER M² E SPESSORE MEDIO DI ",D4, " CM PER APPLICAZIONE ALL’", AX2, " DI VOLTA IN FOLIO" ) -> PREZZO PER M² E SPESSORE MEDIO DI 3 CM PER APPLICAZIONE ALL’INTRADOSSO DI VOLTA IN FOLIO | F18: €/m² | G18: =G55 -> 114.0825
A20: Elementi Analisi | C20: u.m. | D20: Qtà | E20: Prezzo € | F20: Parziali €/m² | G20: €/m²
A22: RU - RISORSE UMANE
A23: =AL2 -> 0
A24: M01002a - operaio edile specializzato | C24: h/m² | D24: =AM2 -> 0 | E24: =AJ2 -> 32.16 | F24: =D24*E24 -> 0
A25: M01004a - operaio edile comune | C25: h/m² | D25: =AN2 -> 0 | E25: =AK2 -> 26.72 | F25: =D25*E25 -> 0
A26: =AO2 -> Applicazione rete e connettori
A27: M01002a - operaio edile specializzato | C27: h/m² | D27: =AP2 -> 0.15 | E27: =AJ2 -> 32.16 | F27: =D27*E27 -> 4.824
A28: M01004a - operaio edile comune | C28: h/m² | D28: =AQ2 -> 0.15 | E28: =AK2 -> 26.72 | F28: =D28*E28 -> 4.008
A29: =AR2 -> Applicazione intonaco
A30: M01002a - operaio edile specializzato | C30: h/m² | D30: =AS2 -> 0.3 | E30: =AJ2 -> 32.16 | F30: =D30*E30 -> 9.648
A31: M01004a - operaio edile comune | C31: h/m² | D31: =AT2 -> 0.25 | E31: =AK2 -> 26.72 | F31: =D31*E31 -> 6.68
F32: totale risosrse umane RU | G32: =SUM(F24:F31) -> 25.16
A34: PR - PRODOTTI DA COSTRUZIONE
A35: =B4 -> FBMESH66X66T96AR | C35: m² | D35: 1.1 | E35: =U2 -> 15.1 | F35: =D35*E35 -> 16.61
A36: =AC2 -> FBDPP | C36: pz | D36: =A7 -> 4 | E36: =AD2 -> 2.6 | F36: =D36*E36 -> 10.4
A37: =AF2 -> FB-RC30-3-600 | C37: pz | D37: =AI2 -> 0.16 | E37: =AG2 -> 24.15 | F37: =D37*E37 -> 3.864
A38: =_xlfn.CONCAT("Sistema RISTRUTTURA composto da: rete in G.F.R.P. ", B4, " completa di sovrapposizioni, connettori in acciaio inox FBDPP (n° ",D4,"/m²) e resina epossidica tixotropica FB-RC30/3 ") -> Sistema RISTRUTTURA composto da: rete in G.F.R.P. FBMESH66X66T96AR completa di sovrapposizioni, connettori in acciaio inox FBDPP (n° 3/m²) e resina epossidica tixotropica FB-RC30/3 | C38: m² | D38: 1 | E38: =SUM(F35:F37) -> 30.874 | F38: =D38*E38 -> 30.874
A39: =W2 -> EPOCA CALCE – NHL 115 | C39: kg | D39: =AA2 -> 51 | E39: =AB2 -> 0.604 | F39: =D39*E39 -> 30.804
F40: totale prodotti da costruzione PR | G40: =SUM(F38:F39) -> 61.678
A42: NT - NOLI E TRASPORTI
A43: Intonacatrice | C43: m² | D43: 1 | E43: 1.1 | F43: =D43*E43 -> 1.1
A44: Trasporto | C44: kg | D44: 60 | E44: 0.05 | F44: =D44*E44 -> 3
F45: totale prodotti da costruzione PR | G45: =SUM(F43:F44) -> 4.1
A48: A) TOTALE PARZIALI | F48: sommano RU + PR + NT | G48: =G32+G40+G45 -> 90.938
A50: B) SPESE GENERALI 13-17% | C50: % | D50: 15 | E50: =G48 -> 90.938 | F50: =E50*D50/100 -> 13.6407 | G50: =F50 -> 13.6407
F51: di cui oneri per la sicurezza afferenti all'impresa | G51: =0.02*G55 -> 2.28165
A53: C) UTILE DELL'APPALTATORE 10% di A + B | C53: % | D53: 10 | E53: =G45+G48 -> 95.038 | F53: =E53*D53/100 -> 9.5038 | G53: =F53 -> 9.5038
A55: TOTALE LAVORAZIONI A + B + C | C55: €/m² | G55: =G48+G50+G53 -> 114.0825
A57: INCIDENZA MANODOPERA (% INC. M.O.) | G57: =G40/G55 -> 0.54064383

Sheet Dati
A1: TIPO DI VOLTA | B1: POSIZIONE | C1: (+) descrizione | D1: RETE | E1: MAGLIA | F1: Trefolo | G1: barre/m/l | H1: tensione a trazione caratteristica del composito | I1: Sezione nominale della singola barra | J1: M.elastico | K1: Trazione caratteristica della singola barra | L1: Resistenza caratteristica a strappo del nodo | M1: €/m² | N1: MALTA | O1: Nome completo | P1: Descrizione | Q1: Consumo malta | R1: Spessori malta | S1: Consumo tot (malta) | T1: €/kg malta | U1: Nome connettore | V1: €/conn | W1: Qtà connettori | X1: Ancorante | Y1: €/pz ancorante | Z1: Consumo kg ancorante | AA1: Consumo al pz | AB1: Operaio Spec | AC1: Operaio Com | AD1: NOME LAVORAZIONE a | AE1: Pulizia della Volta Fraz. H Spec | AF1: Pulizia della Volta Fraz. H Com | AG1: NOME LAVORAZIONE b | AH1: Perfori Fraz. H Spec | AI1: Perfori Fraz. H Com | AJ1: NOME LAVORAZIONE c | AK1: Rete e Conn Fraz. H Spec | AL1: Rete e Conn Fraz. H Com | AM1: Angolare Associato | AN1: ESCLUSO | AO1: Malta Fraz. H Spec | AP1: Malta Fraz. H Com | AQ1: allungamento medio a rottura minimo | AR1: resistenza a trazione e del modulo elastico per l’ambiente umido, alcalino e salino | AS1: Escluso | AT1: Escluso (2) | AU1: Angolare Associato | AV1: Escluso (3) | AW1: allungamento medio a rottura (%)
A2: in folio | B2: estradosso | C2: , anche in presenza all’intradosso di affreschi o altri trattamenti decorativi, | D2: FBMESH66X66T96AR | E2: 66x66 | F2: diametro nominale dei trefoli > 3 mm | G2: 15 | H2: 376 | I2: 8.9 | J2: 25000 | K2: 4.23 | L2: 0.25 | M2: 15.1 | N2: NHL 110 | O2: EPOCA CALCE – NHL 110 | P2: malta a base calce NHL per interventi di restauro e rinforzo strutturale di elementi in muratura | Q2: 17 | R2: 3 | S2: =Q2*R2 -> 51 | T2: 0.572 | U2: FBDPP | V2: 2.6 | W2: 4 | X2: FB-RC30-3-600 | Y2: 24.15 | Z2: =0.04*W2 -> 0.16 | AA2: =Z2/0.6 -> 0.26666667 | AB2: 32.16 | AC2: 26.72 | AD2: Pulizia della volta | AE2: 0.1 | AF2: 0.1 | AG2: Applicazione rete e connettori | AH2: 0.15 | AI2: 0.15 | AJ2: Realizzazione di cappa in malta di calce e cemento | AK2: 0.28 | AL2: 0.2 | AM2: FBANG66X66T96AR | AN2: =_xlfn.CONCAT(_xlfn._LONGTEXT("La rimozione del pavimento, del sottofondo e del riempimento fino a raggiungere la quota del rinfianco dell’estradosso della volta. Il fissaggio e il rinforzo della rete sulle murature d’ambito all’imposta della volta tramite l’applicazione di elemento an","golare preformato "),AM2, " di Fibre Net, o equivalente e opportuni connettori, ") -> La rimozione del pavimento, del sottofondo e del riempimento fino a raggiungere la quota del rinfianco dell’estradosso della volta. Il fissaggio e il rinforzo della rete sulle murature d’ambito all’imposta della volta tramite l’applicazione di elemento angolare preformato FBANG66X66T96AR di Fibre Net, o equivalente e opportuni connettori, | AO2: 0.28 | AP2: 0.2 | AQ2: 1.96 | AR2: 8 | AS2: sulla superficie d’estradosso di cappa tramite malta | AU2: FBANG66X66T96AR | AV2: =_xlfn.CONCAT(_xlfn._LONGTEXT("La rimozione del pavimento, del sottofondo e del riempimento fino a raggiungere la quota del rinfianco dell’estradosso della volta. Il fissaggio e il rinforzo della rete sulle murature d’ambito all’imposta della volta tramite l’applicazione di elemento an","golare preformato "), AU2, " di Fibre Net, o equivalente e opportuni connettori") -> La rimozione del pavimento, del sottofondo e del riempimento fino a raggiungere la quota del rinfianco dell’estradosso della volta. Il fissaggio e il rinforzo della rete sulle murature d’ambito all’imposta della volta tramite l’applicazione di elemento angolare preformato FBANG66X66T96AR di Fibre Net, o equivalente e opportuni connettori | AW2: 1.78
A3: in folio | B3: estradosso | C3: , anche in presenza all’intradosso di affreschi o altri trattamenti decorativi, | D3: FBMESH66X66T96AR | E3: 66x66 | F3: diametro nominale dei trefoli > 3 mm | G3: 15 | H3: 376 | I3: 8.9 | J3: 25000 | K3: 4.23 | L3: 0.25 | M3: 15.1 | N3: RZ 210 | O3: MATERIA RINFORZA – RZ 210 | P3: malta a base di leganti idraulici per interventi di restauro e rinforzo strutturale di elementi in muratura | Q3: 17 | R3: 3 | S3: =Q3*R3 -> 51 | T3: 0.492 | U3: FBDPP | V3: 2.6 | W3: 4 | X3: FB-RC30-3-600 | Y3: 24.15 | Z3: =0.04*W3 -> 0.16 | AA3: =Z3/0.6 -> 0.26666667 | AB3: 32.16 | AC3: 26.72 | AD3: Pulizia della volta | AE3: 0.1 | AF3: 0.1 | AG3: Applicazione rete e connettori | AH3: 0.15 | AI3: 0.15 | AJ3: Realizzazione di cappa in malta di calce e cemento | AK3: 0.28 | AL3: 0.2 | AM3: FBANG66X66T96AR | AN3: =_xlfn.CONCAT(_xlfn._LONGTEXT("La rimozione del pavimento, del sottofondo e del riempimento fino a raggiungere la quota del rinfianco dell’estradosso della volta. Il fissaggio e il rinforzo della rete sulle murature d’ambito all’imposta della volta tramite l’applicazione di elemento an","golare preformato "),AM3, " di Fibre Net, o equivalente e opportuni connettori, ") -> La rimozione del pavimento, del sottofondo e del riempimento fino a raggiungere la quota del rinfianco dell’estradosso della volta. Il fissaggio e il rinforzo della rete sulle murature d’ambito all’imposta della volta tramite l’applicazione di elemento angolare preformato FBANG66X66T96AR di Fibre Net, o equivalente e opportuni connettori, | AO3: 0.28 | AP3: 0.2 | AQ3: 1.96 | AR3: 8 | AS3: sulla superficie d’estradosso di cappa tramite malta | AU3: FBANG66X66T96AR | AV3: =_xlfn.CONCAT(_xlfn._LONGTEXT("La rimozione del pavimento, del sottofondo e del riempimento fino a raggiungere la quota del rinfianco dell’estradosso della volta. Il fissaggio e il rinforzo della rete sulle murature d’ambito all’imposta della volta tramite l’applicazione di elemento an","golare preformato "), AU3, " di Fibre Net, o equivalente e opportuni connettori") -> La rimozione del pavimento, del sottofondo e del riempimento fino a raggiungere la quota del rinfianco dell’estradosso della volta. Il fissaggio e il rinforzo della rete sulle murature d’ambito all’imposta della volta tramite l’applicazione di elemento angolare preformato FBANG66X66T96AR di Fibre Net, o equivalente e opportuni connettori | AW3: 1.78
A4: in folio | B4: estradosso | C4: , anche in presenza all’intradosso di affreschi o altri trattamenti decorativi, | D4: FBMESH99X99T96AR | E4: 99x99 | F4: diametro nominale dei trefoli > 3 mm | G4: 10 | H4: 376 | I4: 8.9 | J4: 25000 | K4: 4.23 | L4: 0.25 | M4: 11.3 | N4: NHL 110 | O4: EPOCA CALCE – NHL 110 | P4: malta a base calce NHL per interventi di restauro e rinforzo strutturale di elementi in muratura | Q4: 17 | R4: 3 | S4: =Q4*R4 -> 51 | T4: 0.572 | U4: FBDPP | V4: 2.6 | W4: 4 | X4: FB-RC30-3-600 | Y4: 24.15 | Z4: =0.04*W4 -> 0.16 | AA4: =Z4/0.6 -> 0.26666667 | AB4: 32.16 | AC4: 26.72 | AD4: Pulizia della volta | AE4: 0.1 | AF4: 0.1 | AG4: Applicazione rete e connettori | AH4: 0.15 | AI4: 0.15 | AJ4: Realizzazione di cappa in malta di calce e cemento | AK4: 0.28 | AL4: 0.2 | AM4: FBANG99X99T96AR | AN4: =_xlfn.CONCAT(_xlfn._LONGTEXT("La rimozione del pavimento, del sottofondo e del riempimento fino a raggiungere la quota del rinfianco dell’estradosso della volta. Il fissaggio e il rinforzo della rete sulle murature d’ambito all’imposta della volta tramite l’applicazione di elemento an","golare preformato "),AM4, " di Fibre Net, o equivalente e opportuni connettori, ") -> La rimozione del pavimento, del sottofondo e del riempimento fino a raggiungere la quota del rinfianco dell’estradosso della volta. Il fissaggio e il rinforzo della rete sulle murature d’ambito all’imposta della volta tramite l’applicazione di elemento angolare preformato FBANG99X99T96AR di Fibre Net, o equivalente e opportuni connettori, | AO4: 0.28 | AP4: 0.2 | AQ4: 1.78 | AR4: 8 | AS4: sulla superficie d’estradosso di cappa tramite malta | AU4: FBANG99X99T96AR | AV4: =_xlfn.CONCAT(_xlfn._LONGTEXT("La rimozione del pavimento, del sottofondo e del riempimento fino a raggiungere la quota del rinfianco dell’estradosso della volta. Il fissaggio e il rinforzo della rete sulle murature d’ambito all’imposta della volta tramite l’applicazione di elemento an","golare preformato "), AU4, " di Fibre Net, o equivalente e opportuni connettori") -> La rimozione del pavimento, del sottofondo e del riempimento fino a raggiungere la quota del rinfianco dell’estradosso della volta. Il fissaggio e il rinforzo della rete sulle murature d’ambito all’imposta della volta tramite l’applicazione di elemento angolare preformato FBANG99X99T96AR di Fibre Net, o equivalente e opportuni connettori | AW4: 1.78
A5: in folio | B5: estradosso | C5: , anche in presenza all’intradosso di affreschi o altri trattamenti decorativi, | D5: FBMESH99X99T96AR | E5: 99x99 | F5: diametro nominale dei trefoli > 3 mm | G5: 10 | H5: 376 | I5: 8.9 | J5: 25000 | K5: 4.23 | L5: 0.25 | M5: 11.3 | N5: RZ 210 | O5: MATERIA RINFORZA – RZ 210 | P5: malta a base di leganti idraulici per interventi di restauro e rinforzo strutturale di elementi in muratura | Q5: 17 | R5: 3 | S5: =Q5*R5 -> 51 | T5: 0.492 | U5: FBDPP | V5: 2.6 | W5: 4 | X5: FB-RC30-3-600 | Y5: 24.15 | Z5: =0.04*W5 -> 0.16 | AA5: =Z5/0.6 -> 0.26666667 | AB5: 32.16 | AC5: 26.72 | AD5: Pulizia della volta | AE5: 0.1 | AF5: 0.1 | AG5: Applicazione rete e connettori | AH5: 0.15 | AI5: 0.15 | AJ5: Realizzazione di cappa in malta di calce e cemento | AK5: 0.28 | AL5: 0.2 | AM5: FBANG99X99T96AR | AN5: =_xlfn.CONCAT(_xlfn._LONGTEXT("La rimozione del pavimento, del sottofondo e del riempimento fino a raggiungere la quota del rinfianco dell’estradosso della volta. Il fissaggio e il rinforzo della rete sulle murature d’ambito all’imposta della volta tramite l’applicazione di elemento an","golare preformato "),AM5, " di Fibre Net, o equivalente e opportuni connettori, ") -> La rimozione del pavimento, del sottofondo e del riempimento fino a raggiungere la quota del rinfianco dell’estradosso della volta. Il fissaggio e il rinforzo della rete sulle murature d’ambito all’imposta della volta tramite l’applicazione di elemento angolare preformato FBANG99X99T96AR di Fibre Net, o equivalente e opportuni connettori, | AO5: 0.28 | AP5: 0.2 | AQ5: 1.78 | AR5: 8 | AS5: sulla superficie d’estradosso di cappa tramite malta | AU5: FBANG99X99T96AR | AV5: =_xlfn.CONCAT(_xlfn._LONGTEXT("La rimozione del pavimento, del sottofondo e del riempimento fino a raggiungere la quota del rinfianco dell’estradosso della volta. Il fissaggio e il rinforzo della rete sulle murature d’ambito all’imposta della volta tramite l’applicazione di elemento an","golare preformato "), AU5, " di Fibre Net, o equivalente e opportuni connettori") -> La rimozione del pavimento, del sottofondo e del riempimento fino a raggiungere la quota del rinfianco dell’estradosso della volta. Il fissaggio e il rinforzo della rete sulle murature d’ambito all’imposta della volta tramite l’applicazione di elemento angolare preformato FBANG99X99T96AR di Fibre Net, o equivalente e opportuni connettori | AW5: 1.78
A6: in folio | B6: estradosso | C6: , anche in presenza all’intradosso di affreschi o altri trattamenti decorativi, | D6: FBMESH66X66T96ARFORCE | E6: 66x66 | F6: 0 | G6: 15 | H6: 806 | I6: 7.05 | J6: 44600 | K6: 6.2 | L6: 0.31 | M6: 18.1 | N6: NHL 115 | O6: EPOCA CALCE – NHL 115 | P6: malta a base calce NHL per interventi di restauro e rinforzo strutturale di elementi in muratura | Q6: 17 | R6: 3 | S6: =Q6*R6 -> 51 | T6: 0.604 | U6: FBDPP | V6: 2.6 | W6: 4 | X6: FB-RC30-3-600 | Y6: 24.15 | Z6: =0.04*W6 -> 0.16 | AA6: =Z6/0.6 -> 0.26666667 | AB6: 32.16 | AC6: 26.72 | AD6: Pulizia della volta | AE6: 0.1 | AF6: 0.1 | AG6: Applicazione rete e connettori | AH6: 0.15 | AI6: 0.15 | AJ6: Realizzazione di cappa in malta di calce e cemento | AK6: 0.28 | AL6: 0.2 | AM6: FBANG66X66T96AR | AN6: =_xlfn.CONCAT(_xlfn._LONGTEXT("La rimozione del pavimento, del sottofondo e del riempimento fino a raggiungere la quota del rinfianco dell’estradosso della volta. Il fissaggio e il rinforzo della rete sulle murature d’ambito all’imposta della volta tramite l’applicazione di elemento an","golare preformato "),AM6, " di Fibre Net, o equivalente e opportuni connettori, ") -> La rimozione del pavimento, del sottofondo e del riempimento fino a raggiungere la quota del rinfianco dell’estradosso della volta. Il fissaggio e il rinforzo della rete sulle murature d’ambito all’imposta della volta tramite l’applicazione di elemento angolare preformato FBANG66X66T96AR di Fibre Net, o equivalente e opportuni connettori, | AO6: 0.28 | AP6: 0.2 | AQ6: 1.78 | AR6: 8 | AS6: sulla superficie d’estradosso di cappa tramite malta | AU6: FBANG66X66T96AR | AV6: =_xlfn.CONCAT(_xlfn._LONGTEXT("La rimozione del pavimento, del sottofondo e del riempimento fino a raggiungere la quota del rinfianco dell’estradosso della volta. Il fissaggio e il rinforzo della rete sulle murature d’ambito all’imposta della volta tramite l’applicazione di elemento an","golare preformato "), AU6, " di Fibre Net, o equivalente e opportuni connettori") -> La rimozione del pavimento, del sottofondo e del riempimento fino a raggiungere la quota del rinfianco dell’estradosso della volta. Il fissaggio e il rinforzo della rete sulle murature d’ambito all’imposta della volta tramite l’applicazione di elemento angolare preformato FBANG66X66T96AR di Fibre Net, o equivalente e opportuni connettori | AW6: 1.96
A7: in folio | B7: estradosso | C7: , anche in presenza all’intradosso di affreschi o altri trattamenti decorativi, | D7: FBMESH66X66T96ARFORCE | E7: 66x66 | F7: 0 | G7: 15 | H7: 806 | I7: 7.05 | J7: 44600 | K7: 6.2 | L7: 0.31 | M7: 18.1 | N7: RZ 215 | O7: MATERIA RINFORZA – RZ 215 | P7: malta a base di leganti idraulici per interventi di restauro e rinforzo strutturale di elementi in muratura | Q7: 17 | R7: 3 | S7: =Q7*R7 -> 51 | T7: 0.498 | U7: FBDPP | V7: 2.6 | W7: 4 | X7: FB-RC30-3-600 | Y7: 24.15 | Z7: =0.04*W7 -> 0.16 | AA7: =Z7/0.6 -> 0.26666667 | AB7: 32.16 | AC7: 26.72 | AD7: Pulizia della volta | AE7: 0.1 | AF7: 0.1 | AG7: Applicazione rete e connettori | AH7: 0.15 | AI7: 0.15 | AJ7: Realizzazione di cappa in malta di calce e cemento | AK7: 0.28 | AL7: 0.2 | AM7: FBANG66X66T96AR | AN7: =_xlfn.CONCAT(_xlfn._LONGTEXT("La rimozione del pavimento, del sottofondo e del riempimento fino a raggiungere la quota del rinfianco dell’estradosso della volta. Il fissaggio e il rinforzo della rete sulle murature d’ambito all’imposta della volta tramite l’applicazione di elemento an","golare preformato "),AM7, " di Fibre Net, o equivalente e opportuni connettori, ") -> La rimozione del pavimento, del sottofondo e del riempimento fino a raggiungere la quota del rinfianco dell’estradosso della volta. Il fissaggio e il rinforzo della rete sulle murature d’ambito all’imposta della volta tramite l’applicazione di elemento angolare preformato FBANG66X66T96AR di Fibre Net, o equivalente e opportuni connettori, | AO7: 0.28 | AP7: 0.2 | AQ7: 1.78 | AR7: 8 | AS7: sulla superficie d’estradosso di cappa tramite malta | AU7: FBANG66X66T96AR | AV7: =_xlfn.CONCAT(_xlfn._LONGTEXT("La rimozione del pavimento, del sottofondo e del riempimento fino a raggiungere la quota del rinfianco dell’estradosso della volta. Il fissaggio e il rinforzo della rete sulle murature d’ambito all’imposta della volta tramite l’applicazione di elemento an","golare preformato "), AU7, " di Fibre Net, o equivalente e opportuni connettori") -> La rimozione del pavimento, del sottofondo e del riempimento fino a raggiungere la quota del rinfianco dell’estradosso della volta. Il fissaggio e il rinforzo della rete sulle murature d’ambito all’imposta della volta tramite l’applicazione di elemento angolare preformato FBANG66X66T96AR di Fibre Net, o equivalente e opportuni connettori | AW7: 1.96
A8: in folio | B8: estradosso | C8: , anche in presenza all’intradosso di affreschi o altri trattamenti decorativi, | D8: FBMESH99X99T96ARFORCE | E8: 99x99 | F8: 0 | G8: 10 | H8: 806 | I8: 7.05 | J8: 44600 | K8: 6.2 | L8: 0.31 | M8: 13.6 | N8: NHL 115 | O8: EPOCA CALCE – NHL 115 | P8: malta a base calce NHL per interventi di restauro e rinforzo strutturale di elementi in muratura | Q8: 17 | R8: 3 | S8: =Q8*R8 -> 51 | T8: 0.604 | U8: FBDPP | V8: 2.6 | W8: 4 | X8: FB-RC30-3-600 | Y8: 24.15 | Z8: =0.04*W8 -> 0.16 | AA8: =Z8/0.6 -> 0.26666667 | AB8: 32.16 | AC8: 26.72 | AD8: Pulizia della volta | AE8: 0.1 | AF8: 0.1 | AG8: Applicazione rete e connettori | AH8: 0.15 | AI8: 0.15 | AJ8: Realizzazione di cappa in malta di calce e cemento | AK8: 0.28 | AL8: 0.2 | AM8: FBANG99X99T96AR | AN8: =_xlfn.CONCAT(_xlfn._LONGTEXT("La rimozione del pavimento, del sottofondo e del riempimento fino a raggiungere la quota del rinfianco dell’estradosso della volta. Il fissaggio e il rinforzo della rete sulle murature d’ambito all’imposta della volta tramite l’applicazione di elemento an","golare preformato "),AM8, " di Fibre Net, o equivalente e opportuni connettori, ") -> La rimozione del pavimento, del sottofondo e del riempimento fino a raggiungere la quota del rinfianco dell’estradosso della volta. Il fissaggio e il rinforzo della rete sulle murature d’ambito all’imposta della volta tramite l’applicazione di elemento angolare preformato FBANG99X99T96AR di Fibre Net, o equivalente e opportuni connettori, | AO8: 0.28 | AP8: 0.2 | AQ8: 1.96 | AR8: 8 | AS8: sulla superficie d’estradosso di cappa tramite malta | AU8: FBANG99X99T96AR | AV8: =_xlfn.CONCAT(_xlfn._LONGTEXT("La rimozione del pavimento, del sottofondo e del riempimento fino a raggiungere la quota del rinfianco dell’estradosso della volta. Il fissaggio e il rinforzo della rete sulle murature d’ambito all’imposta della volta tramite l’applicazione di elemento an","golare preformato "), AU8, " di Fibre Net, o equivalente e opportuni connettori") -> La rimozione del pavimento, del sottofondo e del riempimento fino a raggiungere la quota del rinfianco dell’estradosso della volta. Il fissaggio e il rinforzo della rete sulle murature d’ambito all’imposta della volta tramite l’applicazione di elemento angolare preformato FBANG99X99T96AR di Fibre Net, o equivalente e opportuni connettori | AW8: 1.96
A9: in folio | B9: estradosso | C9: , anche in presenza all’intradosso di affreschi o altri trattamenti decorativi, | D9: FBMESH99X99T96ARFORCE | E9: 99x99 | F9: 0 | G9: 10 | H9: 806 | I9: 7.05 | J9: 44600 | K9: 6.2 | L9: 0.31 | M9: 13.6 | N9: RZ 215 | O9: MATERIA RINFORZA – RZ 215 | P9: malta a base di leganti idraulici per interventi di restauro e rinforzo strutturale di elementi in muratura | Q9: 17 | R9: 3 | S9: =Q9*R9 -> 51 | T9: 0.498 | U9: FBDPP | V9: 2.6 | W9: 4 | X9: FB-RC30-3-600 | Y9: 24.15 | Z9: =0.04*W9 -> 0.16 | AA9: =Z9/0.6 -> 0.26666667 | AB9: 32.16 | AC9: 26.72 | AD9: Pulizia della volta | AE9: 0.1 | AF9: 0.1 | AG9: Applicazione rete e connettori | AH9: 0.15 | AI9: 0.15 | AJ9: Realizzazione di cappa in malta di calce e cemento | AK9: 0.28 | AL9: 0.2 | AM9: FBANG99X99T96AR | AN9: =_xlfn.CONCAT(_xlfn._LONGTEXT("La rimozione del pavimento, del sottofondo e del riempimento fino a raggiungere la quota del rinfianco dell’estradosso della volta. Il fissaggio e il rinforzo della rete sulle murature d’ambito all’imposta della volta tramite l’applicazione di elemento an","golare preformato "),AM9, " di Fibre Net, o equivalente e opportuni connettori, ") -> La rimozione del pavimento, del sottofondo e del riempimento fino a raggiungere la quota del rinfianco dell’estradosso della volta. Il fissaggio e il rinforzo della rete sulle murature d’ambito all’imposta della volta tramite l’applicazione di elemento angolare preformato FBANG99X99T96AR di Fibre Net, o equivalente e opportuni connettori, | AO9: 0.28 | AP9: 0.2 | AQ9: 1.96 | AR9: 8 | AS9: sulla superficie d’estradosso di cappa tramite malta | AU9: FBANG99X99T96AR | AV9: =_xlfn.CONCAT(_xlfn._LONGTEXT("La rimozione del pavimento, del sottofondo e del riempimento fino a raggiungere la quota del rinfianco dell’estradosso della volta. Il fissaggio e il rinforzo della rete sulle murature d’ambito all’imposta della volta tramite l’applicazione di elemento an","golare preformato "), AU9, " di Fibre Net, o equivalente e opportuni connettori") -> La rimozione del pavimento, del sottofondo e del riempimento fino a raggiungere la quota del rinfianco dell’estradosso della volta. Il fissaggio e il rinforzo della rete sulle murature d’ambito all’imposta della volta tramite l’applicazione di elemento angolare preformato FBANG99X99T96AR di Fibre Net, o equivalente e opportuni connettori | AW9: 1.96
A10: in folio | B10: estradosso | C10: , anche in presenza all’intradosso di affreschi o altri trattamenti decorativi, | D10: FBMESH66X66T96AR | E10: 66x66 | F10: diametro nominale dei trefoli > 3 mm | G10: 15 | H10: 376 | I10: 8.9 | J10: 25000 | K10: 4.23 | L10: 0.25 | M10: 15.1 | N10: NHL 110 | O10: EPOCA CALCE – NHL 110 | P10: malta a base calce NHL per interventi di restauro e rinforzo strutturale di elementi in muratura | Q10: 17 | R10: 4 | S10: =Q10*R10 -> 68 | T10: 0.572 | U10: FBDPP | V10: 2.6 | W10: 4 | X10: FB-RC30-3-600 | Y10: 24.15 | Z10: =0.04*W10 -> 0.16 | AA10: =Z10/0.6 -> 0.26666667 | AB10: 32.16 | AC10: 26.72 | AD10: Pulizia della volta | AE10: 0.1 | AF10: 0.1 | AG10: Applicazione rete e connettori | AH10: 0.18 | AI10: 0.18 | AJ10: Realizzazione di cappa in malta di calce e cemento | AK10: 0.37 | AL10: 0.26 | AM10: FBANG66X66T96AR | AN10: =_xlfn.CONCAT(_xlfn._LONGTEXT("La rimozione del pavimento, del sottofondo e del riempimento fino a raggiungere la quota del rinfianco dell’estradosso della volta. Il fissaggio e il rinforzo della rete sulle murature d’ambito all’imposta della volta tramite l’applicazione di elemento an","golare preformato "),AM10, " di Fibre Net, o equivalente e opportuni connettori, ") -> La rimozione del pavimento, del sottofondo e del riempimento fino a raggiungere la quota del rinfianco dell’estradosso della volta. Il fissaggio e il rinforzo della rete sulle murature d’ambito all’imposta della volta tramite l’applicazione di elemento angolare preformato FBANG66X66T96AR di Fibre Net, o equivalente e opportuni connettori, | AO10: 0.28 | AP10: 0.2 | AQ10: 1.96 | AR10: 8 | AS10: sulla superficie d’estradosso di cappa tramite malta | AU10: FBANG66X66T96AR | AV10: =_xlfn.CONCAT(_xlfn._LONGTEXT("La rimozione del pavimento, del sottofondo e del riempimento fino a raggiungere la quota del rinfianco dell’estradosso della volta. Il fissaggio e il rinforzo della rete sulle murature d’ambito all’imposta della volta tramite l’applicazione di elemento an","golare preformato "), AU10, " di Fibre Net, o equivalente e opportuni connettori") -> La rimozione del pavimento, del sottofondo e del riempimento fino a raggiungere la quota del rinfianco dell’estradosso della volta. Il fissaggio e il rinforzo della rete sulle murature d’ambito all’imposta della volta tramite l’applicazione di elemento angolare preformato FBANG66X66T96AR di Fibre Net, o equivalente e opportuni connettori | AW10: 1.78
A11: in folio | B11: estradosso | C11: , anche in presenza all’intradosso di affreschi o altri trattamenti decorativi, | D11: FBMESH66X66T96AR | E11: 66x66 | F11: diametro nominale dei trefoli > 3 mm | G11: 15 | H11: 376 | I11: 8.9 | J11: 25000 | K11: 4.23 | L11: 0.25 | M11: 15.1 | N11: RZ 210 | O11: MATERIA RINFORZA – RZ 210 | P11: malta a base di leganti idraulici per interventi di restauro e rinforzo strutturale di elementi in muratura | Q11: 17 | R11: 4 | S11: =Q11*R11 -> 68 | T11: 0.492 | U11: FBDPP | V11: 2.6 | W11: 4 | X11: FB-RC30-3-600 | Y11: 24.15 | Z11: =0.04*W11 -> 0.16 | AA11: =Z11/0.6 -> 0.26666667 | AB11: 32.16 | AC11: 26.72 | AD11: Pulizia della volta | AE11: 0.1 | AF11: 0.1 | AG11: Applicazione rete e connettori | AH11: 0.18 | AI11: 0.18 | AJ11: Realizzazione di cappa in malta di calce e cemento | AK11: 0.37 | AL11: 0.26 | AM11: FBANG66X66T96AR | AN11: =_xlfn.CONCAT(_xlfn._LONGTEXT("La rimozione del pavimento, del sottofondo e del riempimento fino a raggiungere la quota del rinfianco dell’estradosso della volta. Il fissaggio e il rinforzo della rete sulle murature d’ambito all’imposta della volta tramite l’applicazione di elemento an","golare preformato "),AM11, " di Fibre Net, o equivalente e opportuni connettori, ") -> La rimozione del pavimento, del sottofondo e del riempimento fino a raggiungere la quota del rinfianco dell’estradosso della volta. Il fissaggio e il rinforzo della rete sulle murature d’ambito all’imposta della volta tramite l’applicazione di elemento angolare preformato FBANG66X66T96AR di Fibre Net, o equivalente e opportuni connettori, | AO11: 0.28 | AP11: 0.2 | AQ11: 1.96 | AR11: 8 | AS11: sulla superficie d’estradosso di cappa tramite malta | AU11: FBANG66X66T96AR | AV11: =_xlfn.CONCAT(_xlfn._LONGTEXT("La rimozione del pavimento, del sottofondo e del riempimento fino a raggiungere la quota del rinfianco dell’estradosso della volta. Il fissaggio e il rinforzo della rete sulle murature d’ambito all’imposta della volta tramite l’applicazione di elemento an","golare preformato "), AU11, " di Fibre Net, o equivalente e opportuni connettori") -> La rimozione del pavimento, del sottofondo e del riempimento fino a raggiungere la quota del rinfianco dell’estradosso della volta. Il fissaggio e il rinforzo della rete sulle murature d’ambito all’imposta della volta tramite l’applicazione di elemento angolare preformato FBANG66X66T96AR di Fibre Net, o equivalente e opportuni connettori | AW11: 1.78
A12: in folio | B12: estradosso | C12: , anche in presenza all’intradosso di affreschi o altri trattamenti decorativi, | D12: FBMESH99X99T96AR | E12: 99x99 | F12: diametro nominale dei trefoli > 3 mm | G12: 10 | H12: 376 | I12: 8.9 | J12: 25000 | K12: 4.23 | L12: 0.25 | M12: 11.3 | N12: NHL 110 | O12: EPOCA CALCE – NHL 110 | P12: malta a base calce NHL per interventi di restauro e rinforzo strutturale di elementi in muratura | Q12: 17 | R12: 4 | S12: =Q12*R12 -> 68 | T12: 0.572 | U12: FBDPP | V12: 2.6 | W12: 4 | X12: FB-RC30-3-600 | Y12: 24.15 | Z12: =0.04*W12 -> 0.16 | AA12: =Z12/0.6 -> 0.26666667 | AB12: 32.16 | AC12: 26.72 | AD12: Pulizia della volta | AE12: 0.1 | AF12: 0.1 | AG12: Applicazione rete e connettori | AH12: 0.18 | AI12: 0.18 | AJ12: Realizzazione di cappa in malta di calce e cemento | AK12: 0.37 | AL12: 0.26 | AM12: FBANG99X99T96AR | AN12: =_xlfn.CONCAT(_xlfn._LONGTEXT("La rimozione del pavimento, del sottofondo e del riempimento fino a raggiungere la quota del rinfianco dell’estradosso della volta. Il fissaggio e il rinforzo della rete sulle murature d’ambito all’imposta della volta tramite l’applicazione di elemento an","golare preformato "),AM12, " di Fibre Net, o equivalente e opportuni connettori, ") -> La rimozione del pavimento, del sottofondo e del riempimento fino a raggiungere la quota del rinfianco dell’estradosso della volta. Il fissaggio e il rinforzo della rete sulle murature d’ambito all’imposta della volta tramite l’applicazione di elemento angolare preformato FBANG99X99T96AR di Fibre Net, o equivalente e opportuni connettori, | AO12: 0.28 | AP12: 0.2 | AQ12: 1.78 | AR12: 8 | AS12: sulla superficie d’estradosso di cappa tramite malta | AU12: FBANG99X99T96AR | AV12: =_xlfn.CONCAT(_xlfn._LONGTEXT("La rimozione del pavimento, del sottofondo e del riempimento fino a raggiungere la quota del rinfianco dell’estradosso della volta. Il fissaggio e il rinforzo della rete sulle murature d’ambito all’imposta della volta tramite l’applicazione di elemento an","golare preformato "), AU12, " di Fibre Net, o equivalente e opportuni connettori") -> La rimozione del pavimento, del sottofondo e del riempimento fino a raggiungere la quota del rinfianco dell’estradosso della volta. Il fissaggio e il rinforzo della rete sulle murature d’ambito all’imposta della volta tramite l’applicazione di elemento angolare preformato FBANG99X99T96AR di Fibre Net, o equivalente e opportuni connettori | AW12: 1.78
A13: in folio | B13: estradosso | C13: , anche in presenza all’intradosso di affreschi o altri trattamenti decorativi, | D13: FBMESH99X99T96AR | E13: 99x99 | F13: diametro nominale dei trefoli > 3 mm | G13: 10 | H13: 376 | I13: 8.9 | J13: 25000 | K13: 4.23 | L13: 0.25 | M13: 11.3 | N13: RZ 210 | O13: MATERIA RINFORZA – RZ 210 | P13: malta a base di leganti idraulici per interventi di restauro e rinforzo strutturale di elementi in muratura | Q13: 17 | R13: 4 | S13: =Q13*R13 -> 68 | T13: 0.492 | U13: FBDPP | V13: 2.6 | W13: 4 | X13: FB-RC30-3-600 | Y13: 24.15 | Z13: =0.04*W13 -> 0.16 | AA13: =Z13/0.6 -> 0.26666667 | AB13: 32.16 | AC13: 26.72 | AD13: Pulizia della volta | AE13: 0.1 | AF13: 0.1 | AG13: Applicazione rete e connettori | AH13: 0.18 | AI13: 0.18 | AJ13: Realizzazione di cappa in malta di calce e cemento | AK13: 0.37 | AL13: 0.26 | AM13: FBANG99X99T96AR | AN13: =_xlfn.CONCAT(_xlfn._LONGTEXT("La rimozione del pavimento, del sottofondo e del riempimento fino a raggiungere la quota del rinfianco dell’estradosso della volta. Il fissaggio e il rinforzo della rete sulle murature d’ambito all’imposta della volta tramite l’applicazione di elemento an","golare preformato "),AM13, " di Fibre Net, o equivalente e opportuni connettori, ") -> La rimozione del pavimento, del sottofondo e del riempimento fino a raggiungere la quota del rinfianco dell’estradosso della volta. Il fissaggio e il rinforzo della rete sulle murature d’ambito all’imposta della volta tramite l’applicazione di elemento angolare preformato FBANG99X99T96AR di Fibre Net, o equivalente e opportuni connettori, | AO13: 0.28 | AP13: 0.2 | AQ13: 1.78 | AR13: 8 | AS13: sulla superficie d’estradosso di cappa tramite malta | AU13: FBANG99X99T96AR | AV13: =_xlfn.CONCAT(_xlfn._LONGTEXT("La rimozione del pavimento, del sottofondo e del riempimento fino a raggiungere la quota del rinfianco dell’estradosso della volta. Il fissaggio e il rinforzo della rete sulle murature d’ambito all’imposta della volta tramite l’applicazione di elemento an","golare preformato "), AU13, " di Fibre Net, o equivalente e opportuni connettori") -> La rimozione del pavimento, del sottofondo e del riempimento fino a raggiungere la quota del rinfianco dell’estradosso della volta. Il fissaggio e il rinforzo della rete sulle murature d’ambito all’imposta della volta tramite l’applicazione di elemento angolare preformato FBANG99X99T96AR di Fibre Net, o equivalente e opportuni connettori | AW13: 1.78
A14: in folio | B14: estradosso | C14: , anche in presenza all’intradosso di affreschi o altri trattamenti decorativi, | D14: FBMESH66X66T96ARFORCE | E14: 66x66 | F14: 0 | G14: 15 | H14: 806 | I14: 7.05 | J14: 44600 | K14: 6.2 | L14: 0.31 | M14: 18.1 | N14: NHL 115 | O14: EPOCA CALCE – NHL 115 | P14: malta a base calce NHL per interventi di restauro e rinforzo strutturale di elementi in muratura | Q14: 17 | R14: 4 | S14: =Q14*R14 -> 68 | T14: 0.604 | U14: FBDPP | V14: 2.6 | W14: 4 | X14: FB-RC30-3-600 | Y14: 24.15 | Z14: =0.04*W14 -> 0.16 | AA14: =Z14/0.6 -> 0.26666667 | AB14: 32.16 | AC14: 26.72 | AD14: Pulizia della volta | AE14: 0.1 | AF14: 0.1 | AG14: Applicazione rete e connettori | AH14: 0.18 | AI14: 0.18 | AJ14: Realizzazione di cappa in malta di calce e cemento | AK14: 0.37 | AL14: 0.26 | AM14: FBANG66X66T96AR | AN14: =_xlfn.CONCAT(_xlfn._LONGTEXT("La rimozione del pavimento, del sottofondo e del riempimento fino a raggiungere la quota del rinfianco dell’estradosso della volta. Il fissaggio e il rinforzo della rete sulle murature d’ambito all’imposta della volta tramite l’applicazione di elemento an","golare preformato "),AM14, " di Fibre Net, o equivalente e opportuni connettori, ") -> La rimozione del pavimento, del sottofondo e del riempimento fino a raggiungere la quota del rinfianco dell’estradosso della volta. Il fissaggio e il rinforzo della rete sulle murature d’ambito all’imposta della volta tramite l’applicazione di elemento angolare preformato FBANG66X66T96AR di Fibre Net, o equivalente e opportuni connettori, | AO14: 0.28 | AP14: 0.2 | AQ14: 1.78 | AR14: 8 | AS14: sulla superficie d’estradosso di cappa tramite malta | AU14: FBANG66X66T96AR | AV14: =_xlfn.CONCAT(_xlfn._LONGTEXT("La rimozione del pavimento, del sottofondo e del riempimento fino a raggiungere la quota del rinfianco dell’estradosso della volta. Il fissaggio e il rinforzo della rete sulle murature d’ambito all’imposta della volta tramite l’applicazione di elemento an","golare preformato "), AU14, " di Fibre Net, o equivalente e opportuni connettori") -> La rimozione del pavimento, del sottofondo e del riempimento fino a raggiungere la quota del rinfianco dell’estradosso della volta. Il fissaggio e il rinforzo della rete sulle murature d’ambito all’imposta della volta tramite l’applicazione di elemento angolare preformato FBANG66X66T96AR di Fibre Net, o equivalente e opportuni connettori | AW14: 1.96
A15: in folio | B15: estradosso | C15: , anche in presenza all’intradosso di affreschi o altri trattamenti decorativi, | D15: FBMESH66X66T96ARFORCE | E15: 66x66 | F15: 0 | G15: 15 | H15: 806 | I15: 7.05 | J15: 44600 | K15: 6.2 | L15: 0.31 | M15: 18.1 | N15: RZ 215 | O15: MATERIA RINFORZA – RZ 215 | P15: malta a base di leganti idraulici per interventi di restauro e rinforzo strutturale di elementi in muratura | Q15: 17 | R15: 4 | S15: =Q15*R15 -> 68 | T15: 0.498 | U15: FBDPP | V15: 2.6 | W15: 4 | X15: FB-RC30-3-600 | Y15: 24.15 | Z15: =0.04*W15 -> 0.16 | AA15: =Z15/0.6 -> 0.26666667 | AB15: 32.16 | AC15: 26.72 | AD15: Pulizia della volta | AE15: 0.1 | AF15: 0.1 | AG15: Applicazione rete e connettori | AH15: 0.18 | AI15: 0.18 | AJ15: Realizzazione di cappa in malta di calce e cemento | AK15: 0.37 | AL15: 0.26 | AM15: FBANG66X66T96AR | AN15: =_xlfn.CONCAT(_xlfn._LONGTEXT("La rimozione del pavimento, del sottofondo e del riempimento fino a raggiungere la quota del rinfianco dell’estradosso della volta. Il fissaggio e il rinforzo della rete sulle murature d’ambito all’imposta della volta tramite l’applicazione di elemento an","golare preformato "),AM15, " di Fibre Net, o equivalente e opportuni connettori, ") -> La rimozione del pavimento, del sottofondo e del riempimento fino a raggiungere la quota del rinfianco dell’estradosso della volta. Il fissaggio e il rinforzo della rete sulle murature d’ambito all’imposta della volta tramite l’applicazione di elemento angolare preformato FBANG66X66T96AR di Fibre Net, o equivalente e opportuni connettori, | AO15: 0.28 | AP15: 0.2 | AQ15: 1.78 | AR15: 8 | AS15: sulla superficie d’estradosso di cappa tramite malta | AU15: FBANG66X66T96AR | AV15: =_xlfn.CONCAT(_xlfn._LONGTEXT("La rimozione del pavimento, del sottofondo e del riempimento fino a raggiungere la quota del rinfianco dell’estradosso della volta. Il fissaggio e il rinforzo della rete sulle murature d’ambito all’imposta della volta tramite l’applicazione di elemento an","golare preformato "), AU15, " di Fibre Net, o equivalente e opportuni connettori") -> La rimozione del pavimento, del sottofondo e del riempimento fino a raggiungere la quota del rinfianco dell’estradosso della volta. Il fissaggio e il rinforzo della rete sulle murature d’ambito all’imposta della volta tramite l’applicazione di elemento angolare preformato FBANG66X66T96AR di Fibre Net, o equivalente e opportuni connettori | AW15: 1.96
A16: in folio | B16: estradosso | C16: , anche in presenza all’intradosso di affreschi o altri trattamenti decorativi, | D16: FBMESH99X99T96ARFORCE | E16: 99x99 | F16: 0 | G16: 10 | H16: 806 | I16: 7.05 | J16: 44600 | K16: 6.2 | L16: 0.31 | M16: 13.6 | N16: NHL 115 | O16: EPOCA CALCE – NHL 115 | P16: malta a base calce NHL per interventi di restauro e rinforzo strutturale di elementi in muratura | Q16: 17 | R16: 4 | S16: =Q16*R16 -> 68 | T16: 0.604 | U16: FBDPP | V16: 2.6 | W16: 4 | X16: FB-RC30-3-600 | Y16: 24.15 | Z16: =0.04*W16 -> 0.16 | AA16: =Z16/0.6 -> 0.26666667 | AB16: 32.16 | AC16: 26.72 | AD16: Pulizia della volta | AE16: 0.1 | AF16: 0.1 | AG16: Applicazione rete e connettori | AH16: 0.18 | AI16: 0.18 | AJ16: Realizzazione di cappa in malta di calce e cemento | AK16: 0.37 | AL16: 0.26 | AM16: FBANG99X99T96AR | AN16: =_xlfn.CONCAT(_xlfn._LONGTEXT("La rimozione del pavimento, del sottofondo e del riempimento fino a raggiungere la quota del rinfianco dell’estradosso della volta. Il fissaggio e il rinforzo della rete sulle murature d’ambito all’imposta della volta tramite l’applicazione di elemento an","golare preformato "),AM16, " di Fibre Net, o equivalente e opportuni connettori, ") -> La rimozione del pavimento, del sottofondo e del riempimento fino a raggiungere la quota del rinfianco dell’estradosso della volta. Il fissaggio e il rinforzo della rete sulle murature d’ambito all’imposta della volta tramite l’applicazione di elemento angolare preformato FBANG99X99T96AR di Fibre Net, o equivalente e opportuni connettori, | AO16: 0.28 | AP16: 0.2 | AQ16: 1.96 | AR16: 8 | AS16: sulla superficie d’estradosso di cappa tramite malta | AU16: FBANG99X99T96AR | AV16: =_xlfn.CONCAT(_xlfn._LONGTEXT("La rimozione del pavimento, del sottofondo e del riempimento fino a raggiungere la quota del rinfianco dell’estradosso della volta. Il fissaggio e il rinforzo della rete sulle murature d’ambito all’imposta della volta tramite l’applicazione di elemento an","golare preformato "), AU16, " di Fibre Net, o equivalente e opportuni connettori") -> La rimozione del pavimento, del sottofondo e del riempimento fino a raggiungere la quota del rinfianco dell’estradosso della volta. Il fissaggio e il rinforzo della rete sulle murature d’ambito all’imposta della volta tramite l’applicazione di elemento angolare preformato FBANG99X99T96AR di Fibre Net, o equivalente e opportuni connettori | AW16: 1.96
A17: in folio | B17: estradosso | C17: , anche in presenza all’intradosso di affreschi o altri trattamenti decorativi, | D17: FBMESH99X99T96ARFORCE | E17: 99x99 | F17: 0 | G17: 10 | H17: 806 | I17: 7.05 | J17: 44600 | K17: 6.2 | L17: 0.31 | M17: 13.6 | N17: RZ 215 | O17: MATERIA RINFORZA – RZ 215 | P17: malta a base di leganti idraulici per interventi di restauro e rinforzo strutturale di elementi in muratura | Q17: 17 | R17: 4 | S17: =Q17*R17 -> 68 | T17: 0.498 | U17: FBDPP | V17: 2.6 | W17: 4 | X17: FB-RC30-3-600 | Y17: 24.15 | Z17: =0.04*W17 -> 0.16 | AA17: =Z17/0.6 -> 0.26666667 | AB17: 32.16 | AC17: 26.72 | AD17: Pulizia della volta | AE17: 0.1 | AF17: 0.1 | AG17: Applicazione rete e connettori | AH17: 0.18 | AI17: 0.18 | AJ17: Realizzazione di cappa in malta di calce e cemento | AK17: 0.37 | AL17: 0.26 | AM17: FBANG99X99T96AR | AN17: =_xlfn.CONCAT(_xlfn._LONGTEXT("La rimozione del pavimento, del sottofondo e del riempimento fino a raggiungere la quota del rinfianco dell’estradosso della volta. Il fissaggio e il rinforzo della rete sulle murature d’ambito all’imposta della volta tramite l’applicazione di elemento an","golare preformato "),AM17, " di Fibre Net, o equivalente e opportuni connettori, ") -> La rimozione del pavimento, del sottofondo e del riempimento fino a raggiungere la quota del rinfianco dell’estradosso della volta. Il fissaggio e il rinforzo della rete sulle murature d’ambito all’imposta della volta tramite l’applicazione di elemento angolare preformato FBANG99X99T96AR di Fibre Net, o equivalente e opportuni connettori, | AO17: 0.28 | AP17: 0.2 | AQ17: 1.96 | AR17: 8 | AS17: sulla superficie d’estradosso di cappa tramite malta | AU17: FBANG99X99T96AR | AV17: =_xlfn.CONCAT(_xlfn._LONGTEXT("La rimozione del pavimento, del sottofondo e del riempimento fino a raggiungere la quota del rinfianco dell’estradosso della volta. Il fissaggio e il rinforzo della rete sulle murature d’ambito all’imposta della volta tramite l’applicazione di elemento an","golare preformato "), AU17, " di Fibre Net, o equivalente e opportuni connettori") -> La rimozione del pavimento, del sottofondo e del riempimento fino a raggiungere la quota del rinfianco dell’estradosso della volta. Il fissaggio e il rinforzo della rete sulle murature d’ambito all’imposta della volta tramite l’applicazione di elemento angolare preformato FBANG99X99T96AR di Fibre Net, o equivalente e opportuni connettori | AW17: 1.96
A18: in folio | B18: estradosso | C18: , anche in presenza all’intradosso di affreschi o altri trattamenti decorativi, | D18: FBMESH66X66T96AR | E18: 66x66 | F18: diametro nominale dei trefoli > 3 mm | G18: 15 | H18: 376 | I18: 8.9 | J18: 25000 | K18: 4.23 | L18: 0.25 | M18: 15.1 | N18: NHL 110 | O18: EPOCA CALCE – NHL 110 | P18: malta a base calce NHL per interventi di restauro e rinforzo strutturale di elementi in muratura | Q18: 17 | R18: 3 | S18: =Q18*R18 -> 51 | T18: 0.572 | U18: FBDPP | V18: 2.6 | W18: 5 | X18: FB-RC30-3-600 | Y18: 24.15 | Z18: =0.04*W18 -> 0.2 | AA18: =Z18/0.6 -> 0.33333333 | AB18: 32.16 | AC18: 26.72 | AD18: Pulizia della volta | AE18: 0.1 | AF18: 0.1 | AG18: Applicazione rete e connettori | AH18: 0.15 | AI18: 0.15 | AJ18: Realizzazione di cappa in malta di calce e cemento | AK18: 0.28 | AL18: 0.2 | AM18: FBANG66X66T96AR | AN18: =_xlfn.CONCAT(_xlfn._LONGTEXT("La rimozione del pavimento, del sottofondo e del riempimento fino a raggiungere la quota del rinfianco dell’estradosso della volta. Il fissaggio e il rinforzo della rete sulle murature d’ambito all’imposta della volta tramite l’applicazione di elemento an","golare preformato "),AM18, " di Fibre Net, o equivalente e opportuni connettori, ") -> La rimozione del pavimento, del sottofondo e del riempimento fino a raggiungere la quota del rinfianco dell’estradosso della volta. Il fissaggio e il rinforzo della rete sulle murature d’ambito all’imposta della volta tramite l’applicazione di elemento angolare preformato FBANG66X66T96AR di Fibre Net, o equivalente e opportuni connettori, | AO18: 0.28 | AP18: 0.2 | AQ18: 1.96 | AR18: 8 | AS18: sulla superficie d’estradosso di cappa tramite malta | AU18: FBANG66X66T96AR | AV18: =_xlfn.CONCAT(_xlfn._LONGTEXT("La rimozione del pavimento, del sottofondo e del riempimento fino a raggiungere la quota del rinfianco dell’estradosso della volta. Il fissaggio e il rinforzo della rete sulle murature d’ambito all’imposta della volta tramite l’applicazione di elemento an","golare preformato "), AU18, " di Fibre Net, o equivalente e opportuni connettori") -> La rimozione del pavimento, del sottofondo e del riempimento fino a raggiungere la quota del rinfianco dell’estradosso della volta. Il fissaggio e il rinforzo della rete sulle murature d’ambito all’imposta della volta tramite l’applicazione di elemento angolare preformato FBANG66X66T96AR di Fibre Net, o equivalente e opportuni connettori | AW18: 1.78
A19: in folio | B19: estradosso | C19: , anche in presenza all’intradosso di affreschi o altri trattamenti decorativi, | D19: FBMESH66X66T96AR | E19: 66x66 | F19: diametro nominale dei trefoli > 3 mm | G19: 15 | H19: 376 | I19: 8.9 | J19: 25000 | K19: 4.23 | L19: 0.25 | M19: 15.1 | N19: RZ 210 | O19: MATERIA RINFORZA – RZ 210 | P19: malta a base di leganti idraulici per interventi di restauro e rinforzo strutturale di elementi in muratura | Q19: 17 | R19: 3 | S19: =Q19*R19 -> 51 | T19: 0.492 | U19: FBDPP | V19: 2.6 | W19: 5 | X19: FB-RC30-3-600 | Y19: 24.15 | Z19: =0.04*W19 -> 0.2 | AA19: =Z19/0.6 -> 0.33333333 | AB19: 32.16 | AC19: 26.72 | AD19: Pulizia della volta | AE19: 0.1 | AF19: 0.1 | AG19: Applicazione rete e connettori | AH19: 0.15 | AI19: 0.15 | AJ19: Realizzazione di cappa in malta di calce e cemento | AK19: 0.28 | AL19: 0.2 | AM19: FBANG66X66T96AR | AN19: =_xlfn.CONCAT(_xlfn._LONGTEXT("La rimozione del pavimento, del sottofondo e del riempimento fino a raggiungere la quota del rinfianco dell’estradosso della volta. Il fissaggio e il rinforzo della rete sulle murature d’ambito all’imposta della volta tramite l’applicazione di elemento an","golare preformato "),AM19, " di Fibre Net, o equivalente e opportuni connettori, ") -> La rimozione del pavimento, del sottofondo e del riempimento fino a raggiungere la quota del rinfianco dell’estradosso della volta. Il fissaggio e il rinforzo della rete sulle murature d’ambito all’imposta della volta tramite l’applicazione di elemento angolare preformato FBANG66X66T96AR di Fibre Net, o equivalente e opportuni connettori, | AO19: 0.28 | AP19: 0.2 | AQ19: 1.96 | AR19: 8 | AS19: sulla superficie d’estradosso di cappa tramite malta | AU19: FBANG66X66T96AR | AV19: =_xlfn.CONCAT(_xlfn._LONGTEXT("La rimozione del pavimento, del sottofondo e del riempimento fino a raggiungere la quota del rinfianco dell’estradosso della volta. Il fissaggio e il rinforzo della rete sulle murature d’ambito all’imposta della volta tramite l’applicazione di elemento an","golare preformato "), AU19, " di Fibre Net, o equivalente e opportuni connettori") -> La rimozione del pavimento, del sottofondo e del riempimento fino a raggiungere la quota del rinfianco dell’estradosso della volta. Il fissaggio e il rinforzo della rete sulle murature d’ambito all’imposta della volta tramite l’applicazione di elemento angolare preformato FBANG66X66T96AR di Fibre Net, o equivalente e opportuni connettori | AW19: 1.78
A20: in folio | B20: estradosso | C20: , anche in presenza all’intradosso di affreschi o altri trattamenti decorativi, | D20: FBMESH99X99T96AR | E20: 99x99 | F20: diametro nominale dei trefoli > 3 mm | G20: 10 | H20: 376 | I20: 8.9 | J20: 25000 | K20: 4.23 | L20: 0.25 | M20: 11.3 | N20: NHL 110 | O20: EPOCA CALCE – NHL 110 | P20: malta a base calce NHL per interventi di restauro e rinforzo strutturale di elementi in muratura | Q20: 17 | R20: 3 | S20: =Q20*R20 -> 51 | T20: 0.572 | U20: FBDPP | V20: 2.6 | W20: 5 | X20: FB-RC30-3-600 | Y20: 24.15 | Z20: =0.04*W20 -> 0.2 | AA20: =Z20/0.6 -> 0.33333333 | AB20: 32.16 | AC20: 26.72 | AD20: Pulizia della volta | AE20: 0.1 | AF20: 0.1 | AG20: Applicazione rete e connettori | AH20: 0.15 | AI20: 0.15 | AJ20: Realizzazione di cappa in malta di calce e cemento | AK20: 0.28 | AL20: 0.2 | AM20: FBANG99X99T96AR | AN20: =_xlfn.CONCAT(_xlfn._LONGTEXT("La rimozione del pavimento, del sottofondo e del riempimento fino a raggiungere la quota del rinfianco dell’estradosso della volta. Il fissaggio e il rinforzo della rete sulle murature d’ambito all’imposta della volta tramite l’applicazione di elemento an","golare preformato "),AM20, " di Fibre Net, o equivalente e opportuni connettori, ") -> La rimozione del pavimento, del sottofondo e del riempimento fino a raggiungere la quota del rinfianco dell’estradosso della volta. Il fissaggio e il rinforzo della rete sulle murature d’ambito all’imposta della volta tramite l’applicazione di elemento angolare preformato FBANG99X99T96AR di Fibre Net, o equivalente e opportuni connettori, | AO20: 0.28 | AP20: 0.2 | AQ20: 1.78 | AR20: 8 | AS20: sulla superficie d’estradosso di cappa tramite malta | AU20: FBANG99X99T96AR | AV20: =_xlfn.CONCAT(_xlfn._LONGTEXT("La rimozione del pavimento, del sottofondo e del riempimento fino a raggiungere la quota del rinfianco dell’estradosso della volta. Il fissaggio e il rinforzo della rete sulle murature d’ambito all’imposta della volta tramite l’applicazione di elemento an","golare preformato "), AU20, " di Fibre Net, o equivalente e opportuni connettori") -> La rimozione del pavimento, del sottofondo e del riempimento fino a raggiungere la quota del rinfianco dell’estradosso della volta. Il fissaggio e il rinforzo della rete sulle murature d’ambito all’imposta della volta tramite l’applicazione di elemento angolare preformato FBANG99X99T96AR di Fibre Net, o equivalente e opportuni connettori | AW20: 1.78
A21: in folio | B21: estradosso | C21: , anche in presenza all’intradosso di affreschi o altri trattamenti decorativi, | D21: FBMESH99X99T96AR | E21: 99x99 | F21: diametro nominale dei trefoli > 3 mm | G21: 10 | H21: 376 | I21: 8.9 | J21: 25000 | K21: 4.23 | L21: 0.25 | M21: 11.3 | N21: RZ 210 | O21: MATERIA RINFORZA – RZ 210 | P21: malta a base di leganti idraulici per interventi di restauro e rinforzo strutturale di elementi in muratura | Q21: 17 | R21: 3 | S21: =Q21*R21 -> 51 | T21: 0.492 | U21: FBDPP | V21: 2.6 | W21: 5 | X21: FB-RC30-3-600 | Y21: 24.15 | Z21: =0.04*W21 -> 0.2 | AA21: =Z21/0.6 -> 0.33333333 | AB21: 32.16 | AC21: 26.72 | AD21: Pulizia della volta | AE21: 0.1 | AF21: 0.1 | AG21: Applicazione rete e connettori | AH21: 0.15 | AI21: 0.15 | AJ21: Realizzazione di cappa in malta di calce e cemento | AK21: 0.28 | AL21: 0.2 | AM21: FBANG99X99T96AR | AN21: =_xlfn.CONCAT(_xlfn._LONGTEXT("La rimozione del pavimento, del sottofondo e del riempimento fino a raggiungere la quota del rinfianco dell’estradosso della volta. Il fissaggio e il rinforzo della rete sulle murature d’ambito all’imposta della volta tramite l’applicazione di elemento an","golare preformato "),AM21, " di Fibre Net, o equivalente e opportuni connettori, ") -> La rimozione del pavimento, del sottofondo e del riempimento fino a raggiungere la quota del rinfianco dell’estradosso della volta. Il fissaggio e il rinforzo della rete sulle murature d’ambito all’imposta della volta tramite l’applicazione di elemento angolare preformato FBANG99X99T96AR di Fibre Net, o equivalente e opportuni connettori, | AO21: 0.28 | AP21: 0.2 | AQ21: 1.78 | AR21: 8 | AS21: sulla superficie d’estradosso di cappa tramite malta | AU21: FBANG99X99T96AR | AV21: =_xlfn.CONCAT(_xlfn._LONGTEXT("La rimozione del pavimento, del sottofondo e del riempimento fino a raggiungere la quota del rinfianco dell’estradosso della volta. Il fissaggio e il rinforzo della rete sulle murature d’ambito all’imposta della volta tramite l’applicazione di elemento an","golare preformato "), AU21, " di Fibre Net, o equivalente e opportuni connettori") -> La rimozione del pavimento, del sottofondo e del riempimento fino a raggiungere la quota del rinfianco dell’estradosso della volta. Il fissaggio e il rinforzo della rete sulle murature d’ambito all’imposta della volta tramite l’applicazione di elemento angolare preformato FBANG99X99T96AR di Fibre Net, o equivalente e opportuni connettori | AW21: 1.78
A22: in folio | B22: estradosso | C22: , anche in presenza all’intradosso di affreschi o altri trattamenti decorativi, | D22: FBMESH66X66T96ARFORCE | E22: 66x66 | F22: 0 | G22: 15 | H22: 806 | I22: 7.05 | J22: 44600 | K22: 6.2 | L22: 0.31 | M22: 18.1 | N22: NHL 115 | O22: EPOCA CALCE – NHL 115 | P22: malta a base calce NHL per interventi di restauro e rinforzo strutturale di elementi in muratura | Q22: 17 | R22: 3 | S22: =Q22*R22 -> 51 | T22: 0.604 | U22: FBDPP | V22: 2.6 | W22: 5 | X22: FB-RC30-3-600 | Y22: 24.15 | Z22: =0.04*W22 -> 0.2 | AA22: =Z22/0.6 -> 0.33333333 | AB22: 32.16 | AC22: 26.72 | AD22: Pulizia della volta | AE22: 0.1 | AF22: 0.1 | AG22: Applicazione rete e connettori | AH22: 0.15 | AI22: 0.15 | AJ22: Realizzazione di cappa in malta di calce e cemento | AK22: 0.28 | AL22: 0.2 | AM22: FBANG66X66T96AR | AN22: =_xlfn.CONCAT(_xlfn._LONGTEXT("La rimozione del pavimento, del sottofondo e del riempimento fino a raggiungere la quota del rinfianco dell’estradosso della volta. Il fissaggio e il rinforzo della rete sulle murature d’ambito all’imposta della volta tramite l’applicazione di elemento an","golare preformato "),AM22, " di Fibre Net, o equivalente e opportuni connettori, ") -> La rimozione del pavimento, del sottofondo e del riempimento fino a raggiungere la quota del rinfianco dell’estradosso della volta. Il fissaggio e il rinforzo della rete sulle murature d’ambito all’imposta della volta tramite l’applicazione di elemento angolare preformato FBANG66X66T96AR di Fibre Net, o equivalente e opportuni connettori, | AO22: 0.28 | AP22: 0.2 | AQ22: 1.78 | AR22: 8 | AS22: sulla superficie d’estradosso di cappa tramite malta | AU22: FBANG66X66T96AR | AV22: =_xlfn.CONCAT(_xlfn._LONGTEXT("La rimozione del pavimento, del sottofondo e del riempimento fino a raggiungere la quota del rinfianco dell’estradosso della volta. Il fissaggio e il rinforzo della rete sulle murature d’ambito all’imposta della volta tramite l’applicazione di elemento an","golare preformato "), AU22, " di Fibre Net, o equivalente e opportuni connettori") -> La rimozione del pavimento, del sottofondo e del riempimento fino a raggiungere la quota del rinfianco dell’estradosso della volta. Il fissaggio e il rinforzo della rete sulle murature d’ambito all’imposta della volta tramite l’applicazione di elemento angolare preformato FBANG66X66T96AR di Fibre Net, o equivalente e opportuni connettori | AW22: 1.96
A23: in folio | B23: estradosso | C23: , anche in presenza all’intradosso di affreschi o altri trattamenti decorativi, | D23: FBMESH66X66T96ARFORCE | E23: 66x66 | F23: 0 | G23: 15 | H23: 806 | I23: 7.05 | J23: 44600 | K23: 6.2 | L23: 0.31 | M23: 18.1 | N23: RZ 215 | O23: MATERIA RINFORZA – RZ 215 | P23: malta a base di leganti idraulici per interventi di restauro e rinforzo strutturale di elementi in muratura | Q23: 17 | R23: 3 | S23: =Q23*R23 -> 51 | T23: 0.498 | U23: FBDPP | V23: 2.6 | W23: 5 | X23: FB-RC30-3-600 | Y23: 24.15 | Z23: =0.04*W23 -> 0.2 | AA23: =Z23/0.6 -> 0.33333333 | AB23: 32.16 | AC23: 26.72 | AD23: Pulizia della volta | AE23: 0.1 | AF23: 0.1 | AG23: Applicazione rete e connettori | AH23: 0.15 | AI23: 0.15 | AJ23: Realizzazione di cappa in malta di calce e cemento | AK23: 0.28 | AL23: 0.2 | AM23: FBANG66X66T96AR | AN23: =_xlfn.CONCAT(_xlfn._LONGTEXT("La rimozione del pavimento, del sottofondo e del riempimento fino a raggiungere la quota del rinfianco dell’estradosso della volta. Il fissaggio e il rinforzo della rete sulle murature d’ambito all’imposta della volta tramite l’applicazione di elemento an","golare preformato "),AM23, " di Fibre Net, o equivalente e opportuni connettori, ") -> La rimozione del pavimento, del sottofondo e del riempimento fino a raggiungere la quota del rinfianco dell’estradosso della volta. Il fissaggio e il rinforzo della rete sulle murature d’ambito all’imposta della volta tramite l’applicazione di elemento angolare preformato FBANG66X66T96AR di Fibre Net, o equivalente e opportuni connettori, | AO23: 0.28 | AP23: 0.2 | AQ23: 1.78 | AR23: 8 | AS23: sulla superficie d’estradosso di cappa tramite malta | AU23: FBANG66X66T96AR | AV23: =_xlfn.CONCAT(_xlfn._LONGTEXT("La rimozione del pavimento, del sottofondo e del riempimento fino a raggiungere la quota del rinfianco dell’estradosso della volta. Il fissaggio e il rinforzo della rete sulle murature d’ambito all’imposta della volta tramite l’applicazione di elemento an","golare preformato "), AU23, " di Fibre Net, o equivalente e opportuni connettori") -> La rimozione del pavimento, del sottofondo e del riempimento fino a raggiungere la quota del rinfianco dell’estradosso della volta. Il fissaggio e il rinforzo della rete sulle murature d’ambito all’imposta della volta tramite l’applicazione di elemento angolare preformato FBANG66X66T96AR di Fibre Net, o equivalente e opportuni connettori | AW23: 1.96
A24: in folio | B24: estradosso | C24: , anche in presenza all’intradosso di affreschi o altri trattamenti decorativi, | D24: FBMESH99X99T96ARFORCE | E24: 99x99 | F24: 0 | G24: 10 | H24: 806 | I24: 7.05 | J24: 44600 | K24: 6.2 | L24: 0.31 | M24: 13.6 | N24: NHL 115 | O24: EPOCA CALCE – NHL 115 | P24: malta a base calce NHL per interventi di restauro e rinforzo strutturale di elementi in muratura | Q24: 17 | R24: 3 | S24: =Q24*R24 -> 51 | T24: 0.604 | U24: FBDPP | V24: 2.6 | W24: 5 | X24: FB-RC30-3-600 | Y24: 24.15 | Z24: =0.04*W24 -> 0.2 | AA24: =Z24/0.6 -> 0.33333333 | AB24: 32.16 | AC24: 26.72 | AD24: Pulizia della volta | AE24: 0.1 | AF24: 0.1 | AG24: Applicazione rete e connettori | AH24: 0.15 | AI24: 0.15 | AJ24: Realizzazione di cappa in malta di calce e cemento | AK24: 0.28 | AL24: 0.2 | AM24: FBANG99X99T96AR | AN24: =_xlfn.CONCAT(_xlfn._LONGTEXT("La rimozione del pavimento, del sottofondo e del riempimento fino a raggiungere la quota del rinfianco dell’estradosso della volta. Il fissaggio e il rinforzo della rete sulle murature d’ambito all’imposta della volta tramite l’applicazione di elemento an","golare preformato "),AM24, " di Fibre Net, o equivalente e opportuni connettori, ") -> La rimozione del pavimento, del sottofondo e del riempimento fino a raggiungere la quota del rinfianco dell’estradosso della volta. Il fissaggio e il rinforzo della rete sulle murature d’ambito all’imposta della volta tramite l’applicazione di elemento angolare preformato FBANG99X99T96AR di Fibre Net, o equivalente e opportuni connettori, | AO24: 0.28 | AP24: 0.2 | AQ24: 1.96 | AR24: 8 | AS24: sulla superficie d’estradosso di cappa tramite malta | AU24: FBANG99X99T96AR | AV24: =_xlfn.CONCAT(_xlfn._LONGTEXT("La rimozione del pavimento, del sottofondo e del riempimento fino a raggiungere la quota del rinfianco dell’estradosso della volta. Il fissaggio e il rinforzo della rete sulle murature d’ambito all’imposta della volta tramite l’applicazione di elemento an","golare preformato "), AU24, " di Fibre Net, o equivalente e opportuni connettori") -> La rimozione del pavimento, del sottofondo e del riempimento fino a raggiungere la quota del rinfianco dell’estradosso della volta. Il fissaggio e il rinforzo della rete sulle murature d’ambito all’imposta della volta tramite l’applicazione di elemento angolare preformato FBANG99X99T96AR di Fibre Net, o equivalente e opportuni connettori | AW24: 1.96
A25: in folio | B25: estradosso | C25: , anche in presenza all’intradosso di affreschi o altri trattamenti decorativi, | D25: FBMESH99X99T96ARFORCE | E25: 99x99 | F25: 0 | G25: 10 | H25: 806 | I25: 7.05 | J25: 44600 | K25: 6.2 | L25: 0.31 | M25: 13.6 | N25: RZ 215 | O25: MATERIA RINFORZA – RZ 215 | P25: malta a base di leganti idraulici per interventi di restauro e rinforzo strutturale di elementi in muratura | Q25: 17 | R25: 3 | S25: =Q25*R25 -> 51 | T25: 0.498 | U25: FBDPP | V25: 2.6 | W25: 5 | X25: FB-RC30-3-600 | Y25: 24.15 | Z25: =0.04*W25 -> 0.2 | AA25: =Z25/0.6 -> 0.33333333 | AB25: 32.16 | AC25: 26.72 | AD25: Pulizia della volta | AE25: 0.1 | AF25: 0.1 | AG25: Applicazione rete e connettori | AH25: 0.15 | AI25: 0.15 | AJ25: Realizzazione di cappa in malta di calce e cemento | AK25: 0.28 | AL25: 0.2 | AM25: FBANG99X99T96AR | AN25: =_xlfn.CONCAT(_xlfn._LONGTEXT("La rimozione del pavimento, del sottofondo e del riempimento fino a raggiungere la quota del rinfianco dell’estradosso della volta. Il fissaggio e il rinforzo della rete sulle murature d’ambito all’imposta della volta tramite l’applicazione di elemento an","golare preformato "),AM25, " di Fibre Net, o equivalente e opportuni connettori, ") -> La rimozione del pavimento, del sottofondo e del riempimento fino a raggiungere la quota del rinfianco dell’estradosso della volta. Il fissaggio e il rinforzo della rete sulle murature d’ambito all’imposta della volta tramite l’applicazione di elemento angolare preformato FBANG99X99T96AR di Fibre Net, o equivalente e opportuni connettori, | AO25: 0.28 | AP25: 0.2 | AQ25: 1.96 | AR25: 8 | AS25: sulla superficie d’estradosso di cappa tramite malta | AU25: FBANG99X99T96AR | AV25: =_xlfn.CONCAT(_xlfn._LONGTEXT("La rimozione del pavimento, del sottofondo e del riempimento fino a raggiungere la quota del rinfianco dell’estradosso della volta. Il fissaggio e il rinforzo della rete sulle murature d’ambito all’imposta della volta tramite l’applicazione di elemento an","golare preformato "), AU25, " di Fibre Net, o equivalente e opportuni connettori") -> La rimozione del pavimento, del sottofondo e del riempimento fino a raggiungere la quota del rinfianco dell’estradosso della volta. Il fissaggio e il rinforzo della rete sulle murature d’ambito all’imposta della volta tramite l’applicazione di elemento angolare preformato FBANG99X99T96AR di Fibre Net, o equivalente e opportuni connettori | AW25: 1.96
A26: in folio | B26: estradosso | C26: , anche in presenza all’intradosso di affreschi o altri trattamenti decorativi, | D26: FBMESH66X66T96AR | E26: 66x66 | F26: diametro nominale dei trefoli > 3 mm | G26: 15 | H26: 376 | I26: 8.9 | J26: 25000 | K26: 4.23 | L26: 0.25 | M26: 15.1 | N26: NHL 110 | O26: EPOCA CALCE – NHL 110 | P26: malta a base calce NHL per interventi di restauro e rinforzo strutturale di elementi in muratura | Q26: 17 | R26: 4 | S26: =Q26*R26 -> 68 | T26: 0.572 | U26: FBDPP | V26: 2.6 | W26: 5 | X26: FB-RC30-3-600 | Y26: 24.15 | Z26: =0.04*W26 -> 0.2 | AA26: =Z26/0.6 -> 0.33333333 | AB26: 32.16 | AC26: 26.72 | AD26: Pulizia della volta | AE26: 0.1 | AF26: 0.1 | AG26: Applicazione rete e connettori | AH26: 0.18 | AI26: 0.18 | AJ26: Realizzazione di cappa in malta di calce e cemento | AK26: 0.37 | AL26: 0.26 | AM26: FBANG66X66T96AR | AN26: =_xlfn.CONCAT(_xlfn._LONGTEXT("La rimozione del pavimento, del sottofondo e del riempimento fino a raggiungere la quota del rinfianco dell’estradosso della volta. Il fissaggio e il rinforzo della rete sulle murature d’ambito all’imposta della volta tramite l’applicazione di elemento an","golare preformato "),AM26, " di Fibre Net, o equivalente e opportuni connettori, ") -> La rimozione del pavimento, del sottofondo e del riempimento fino a raggiungere la quota del rinfianco dell’estradosso della volta. Il fissaggio e il rinforzo della rete sulle murature d’ambito all’imposta della volta tramite l’applicazione di elemento angolare preformato FBANG66X66T96AR di Fibre Net, o equivalente e opportuni connettori, | AO26: 0.28 | AP26: 0.2 | AQ26: 1.96 | AR26: 8 | AS26: sulla superficie d’estradosso di cappa tramite malta | AU26: FBANG66X66T96AR | AV26: =_xlfn.CONCAT(_xlfn._LONGTEXT("La rimozione del pavimento, del sottofondo e del riempimento fino a raggiungere la quota del rinfianco dell’estradosso della volta. Il fissaggio e il rinforzo della rete sulle murature d’ambito all’imposta della volta tramite l’applicazione di elemento an","golare preformato "), AU26, " di Fibre Net, o equivalente e opportuni connettori") -> La rimozione del pavimento, del sottofondo e del riempimento fino a raggiungere la quota del rinfianco dell’estradosso della volta. Il fissaggio e il rinforzo della rete sulle murature d’ambito all’imposta della volta tramite l’applicazione di elemento angolare preformato FBANG66X66T96AR di Fibre Net, o equivalente e opportuni connettori | AW26: 1.78
A27: in folio | B27: estradosso | C27: , anche in presenza all’intradosso di affreschi o altri trattamenti decorativi, | D27: FBMESH66X66T96AR | E27: 66x66 | F27: diametro nominale dei trefoli > 3 mm | G27: 15 | H27: 376 | I27: 8.9 | J27: 25000 | K27: 4.23 | L27: 0.25 | M27: 15.1 | N27: RZ 210 | O27: MATERIA RINFORZA – RZ 210 | P27: malta a base di leganti idraulici per interventi di restauro e rinforzo strutturale di elementi in muratura | Q27: 17 | R27: 4 | S27: =Q27*R27 -> 68 | T27: 0.492 | U27: FBDPP | V27: 2.6 | W27: 5 | X27: FB-RC30-3-600 | Y27: 24.15 | Z27: =0.04*W27 -> 0.2 | AA27: =Z27/0.6 -> 0.33333333 | AB27: 32.16 | AC27: 26.72 | AD27: Pulizia della volta | AE27: 0.1 | AF27: 0.1 | AG27: Applicazione rete e connettori | AH27: 0.18 | AI27: 0.18 | AJ27: Realizzazione di cappa in malta di calce e cemento | AK27: 0.37 | AL27: 0.26 | AM27: FBANG66X66T96AR | AN27: =_xlfn.CONCAT(_xlfn._LONGTEXT("La rimozione del pavimento, del sottofondo e del riempimento fino a raggiungere la quota del rinfianco dell’estradosso della volta. Il fissaggio e il rinforzo della rete sulle murature d’ambito all’imposta della volta tramite l’applicazione di elemento an","golare preformato "),AM27, " di Fibre Net, o equivalente e opportuni connettori, ") -> La rimozione del pavimento, del sottofondo e del riempimento fino a raggiungere la quota del rinfianco dell’estradosso della volta. Il fissaggio e il rinforzo della rete sulle murature d’ambito all’imposta della volta tramite l’applicazione di elemento angolare preformato FBANG66X66T96AR di Fibre Net, o equivalente e opportuni connettori, | AO27: 0.28 | AP27: 0.2 | AQ27: 1.96 | AR27: 8 | AS27: sulla superficie d’estradosso di cappa tramite malta | AU27: FBANG66X66T96AR | AV27: =_xlfn.CONCAT(_xlfn._LONGTEXT("La rimozione del pavimento, del sottofondo e del riempimento fino a raggiungere la quota del rinfianco dell’estradosso della volta. Il fissaggio e il rinforzo della rete sulle murature d’ambito all’imposta della volta tramite l’applicazione di elemento an","golare preformato "), AU27, " di Fibre Net, o equivalente e opportuni connettori") -> La rimozione del pavimento, del sottofondo e del riempimento fino a raggiungere la quota del rinfianco dell’estradosso della volta. Il fissaggio e il rinforzo della rete sulle murature d’ambito all’imposta della volta tramite l’applicazione di elemento angolare preformato FBANG66X66T96AR di Fibre Net, o equivalente e opportuni connettori | AW27: 1.78
A28: in folio | B28: estradosso | C28: , anche in presenza all’intradosso di affreschi o altri trattamenti decorativi, | D28: FBMESH99X99T96AR | E28: 99x99 | F28: diametro nominale dei trefoli > 3 mm | G28: 10 | H28: 376 | I28: 8.9 | J28: 25000 | K28: 4.23 | L28: 0.25 | M28: 11.3 | N28: NHL 110 | O28: EPOCA CALCE – NHL 110 | P28: malta a base calce NHL per interventi di restauro e rinforzo strutturale di elementi in muratura | Q28: 17 | R28: 4 | S28: =Q28*R28 -> 68 | T28: 0.572 | U28: FBDPP | V28: 2.6 | W28: 5 | X28: FB-RC30-3-600 | Y28: 24.15 | Z28: =0.04*W28 -> 0.2 | AA28: =Z28/0.6 -> 0.33333333 | AB28: 32.16 | AC28: 26.72 | AD28: Pulizia della volta | AE28: 0.1 | AF28: 0.1 | AG28: Applicazione rete e connettori | AH28: 0.18 | AI28: 0.18 | AJ28: Realizzazione di cappa in malta di calce e cemento | AK28: 0.37 | AL28: 0.26 | AM28: FBANG99X99T96AR | AN28: =_xlfn.CONCAT(_xlfn._LONGTEXT("La rimozione del pavimento, del sottofondo e del riempimento fino a raggiungere la quota del rinfianco dell’estradosso della volta. Il fissaggio e il rinforzo della rete sulle murature d’ambito all’imposta della volta tramite l’applicazione di elemento an","golare preformato "),AM28, " di Fibre Net, o equivalente e opportuni connettori, ") -> La rimozione del pavimento, del sottofondo e del riempimento fino a raggiungere la quota del rinfianco dell’estradosso della volta. Il fissaggio e il rinforzo della rete sulle murature d’ambito all’imposta della volta tramite l’applicazione di elemento angolare preformato FBANG99X99T96AR di Fibre Net, o equivalente e opportuni connettori, | AO28: 0.28 | AP28: 0.2 | AQ28: 1.78 | AR28: 8 | AS28: sulla superficie d’estradosso di cappa tramite malta | AU28: FBANG99X99T96AR | AV28: =_xlfn.CONCAT(_xlfn._LONGTEXT("La rimozione del pavimento, del sottofondo e del riempimento fino a raggiungere la quota del rinfianco dell’estradosso della volta. Il fissaggio e il rinforzo della rete sulle murature d’ambito all’imposta della volta tramite l’applicazione di elemento an","golare preformato "), AU28, " di Fibre Net, o equivalente e opportuni connettori") -> La rimozione del pavimento, del sottofondo e del riempimento fino a raggiungere la quota del rinfianco dell’estradosso della volta. Il fissaggio e il rinforzo della rete sulle murature d’ambito all’imposta della volta tramite l’applicazione di elemento angolare preformato FBANG99X99T96AR di Fibre Net, o equivalente e opportuni connettori | AW28: 1.78
A29: in folio | B29: estradosso | C29: , anche in presenza all’intradosso di affreschi o altri trattamenti decorativi, | D29: FBMESH99X99T96AR | E29: 99x99 | F29: diametro nominale dei trefoli > 3 mm | G29: 10 | H29: 376 | I29: 8.9 | J29: 25000 | K29: 4.23 | L29: 0.25 | M29: 11.3 | N29: RZ 210 | O29: MATERIA RINFORZA – RZ 210 | P29: malta a base di leganti idraulici per interventi di restauro e rinforzo strutturale di elementi in muratura | Q29: 17 | R29: 4 | S29: =Q29*R29 -> 68 | T29: 0.492 | U29: FBDPP | V29: 2.6 | W29: 5 | X29: FB-RC30-3-600 | Y29: 24.15 | Z29: =0.04*W29 -> 0.2 | AA29: =Z29/0.6 -> 0.33333333 | AB29: 32.16 | AC29: 26.72 | AD29: Pulizia della volta | AE29: 0.1 | AF29: 0.1 | AG29: Applicazione rete e connettori | AH29: 0.18 | AI29: 0.18 | AJ29: Realizzazione di cappa in malta di calce e cemento | AK29: 0.37 | AL29: 0.26 | AM29: FBANG99X99T96AR | AN29: =_xlfn.CONCAT(_xlfn._LONGTEXT("La rimozione del pavimento, del sottofondo e del riempimento fino a raggiungere la quota del rinfianco dell’estradosso della volta. Il fissaggio e il rinforzo della rete sulle murature d’ambito all’imposta della volta tramite l’applicazione di elemento an","golare preformato "),AM29, " di Fibre Net, o equivalente e opportuni connettori, ") -> La rimozione del pavimento, del sottofondo e del riempimento fino a raggiungere la quota del rinfianco dell’estradosso della volta. Il fissaggio e il rinforzo della rete sulle murature d’ambito all’imposta della volta tramite l’applicazione di elemento angolare preformato FBANG99X99T96AR di Fibre Net, o equivalente e opportuni connettori, | AO29: 0.28 | AP29: 0.2 | AQ29: 1.78 | AR29: 8 | AS29: sulla superficie d’estradosso di cappa tramite malta | AU29: FBANG99X99T96AR | AV29: =_xlfn.CONCAT(_xlfn._LONGTEXT("La rimozione del pavimento, del sottofondo e del riempimento fino a raggiungere la quota del rinfianco dell’estradosso della volta. Il fissaggio e il rinforzo della rete sulle murature d’ambito all’imposta della volta tramite l’applicazione di elemento an","golare preformato "), AU29, " di Fibre Net, o equivalente e opportuni connettori") -> La rimozione del pavimento, del sottofondo e del riempimento fino a raggiungere la quota del rinfianco dell’estradosso della volta. Il fissaggio e il rinforzo della rete sulle murature d’ambito all’imposta della volta tramite l’applicazione di elemento angolare preformato FBANG99X99T96AR di Fibre Net, o equivalente e opportuni connettori | AW29: 1.78
A30: in folio | B30: estradosso | C30: , anche in presenza all’intradosso di affreschi o altri trattamenti decorativi, | D30: FBMESH66X66T96ARFORCE | E30: 66x66 | F30: 0 | G30: 15 | H30: 806 | I30: 7.05 | J30: 44600 | K30: 6.2 | L30: 0.31 | M30: 18.1 | N30: NHL 115 | O30: EPOCA CALCE – NHL 115 | P30: malta a base calce NHL per interventi di restauro e rinforzo strutturale di elementi in muratura | Q30: 17 | R30: 4 | S30: =Q30*R30 -> 68 | T30: 0.604 | U30: FBDPP | V30: 2.6 | W30: 5 | X30: FB-RC30-3-600 | Y30: 24.15 | Z30: =0.04*W30 -> 0.2 | AA30: =Z30/0.6 -> 0.33333333 | AB30: 32.16 | AC30: 26.72 | AD30: Pulizia della volta | AE30: 0.1 | AF30: 0.1 | AG30: Applicazione rete e connettori | AH30: 0.18 | AI30: 0.18 | AJ30: Realizzazione di cappa in malta di calce e cemento | AK30: 0.37 | AL30: 0.26 | AM30: FBANG66X66T96AR | AN30: =_xlfn.CONCAT(_xlfn._LONGTEXT("La rimozione del pavimento, del sottofondo e del riempimento fino a raggiungere la quota del rinfianco dell’estradosso della volta. Il fissaggio e il rinforzo della rete sulle murature d’ambito all’imposta della volta tramite l’applicazione di elemento an","golare preformato "),AM30, " di Fibre Net, o equivalente e opportuni connettori, ") -> La rimozione del pavimento, del sottofondo e del riempimento fino a raggiungere la quota del rinfianco dell’estradosso della volta. Il fissaggio e il rinforzo della rete sulle murature d’ambito all’imposta della volta tramite l’applicazione di elemento angolare preformato FBANG66X66T96AR di Fibre Net, o equivalente e opportuni connettori, | AO30: 0.28 | AP30: 0.2 | AQ30: 1.78 | AR30: 8 | AS30: sulla superficie d’estradosso di cappa tramite malta | AU30: FBANG66X66T96AR | AV30: =_xlfn.CONCAT(_xlfn._LONGTEXT("La rimozione del pavimento, del sottofondo e del riempimento fino a raggiungere la quota del rinfianco dell’estradosso della volta. Il fissaggio e il rinforzo della rete sulle murature d’ambito all’imposta della volta tramite l’applicazione di elemento an","golare preformato "), AU30, " di Fibre Net, o equivalente e opportuni connettori") -> La rimozione del pavimento, del sottofondo e del riempimento fino a raggiungere la quota del rinfianco dell’estradosso della volta. Il fissaggio e il rinforzo della rete sulle murature d’ambito all’imposta della volta tramite l’applicazione di elemento angolare preformato FBANG66X66T96AR di Fibre Net, o equivalente e opportuni connettori | AW30: 1.96
A31: in folio | B31: estradosso | C31: , anche in presenza all’intradosso di affreschi o altri trattamenti decorativi, | D31: FBMESH66X66T96ARFORCE | E31: 66x66 | F31: 0 | G31: 15 | H31: 806 | I31: 7.05 | J31: 44600 | K31: 6.2 | L31: 0.31 | M31: 18.1 | N31: RZ 215 | O31: MATERIA RINFORZA – RZ 215 | P31: malta a base di leganti idraulici per interventi di restauro e rinforzo strutturale di elementi in muratura | Q31: 17 | R31: 4 | S31: =Q31*R31 -> 68 | T31: 0.498 | U31: FBDPP | V31: 2.6 | W31: 5 | X31: FB-RC30-3-600 | Y31: 24.15 | Z31: =0.04*W31 -> 0.2 | AA31: =Z31/0.6 -> 0.33333333 | AB31: 32.16 | AC31: 26.72 | AD31: Pulizia della volta | AE31: 0.1 | AF31: 0.1 | AG31: Applicazione rete e connettori | AH31: 0.18 | AI31: 0.18 | AJ31: Realizzazione di cappa in malta di calce e cemento | AK31: 0.37 | AL31: 0.26 | AM31: FBANG66X66T96AR | AN31: =_xlfn.CONCAT(_xlfn._LONGTEXT("La rimozione del pavimento, del sottofondo e del riempimento fino a raggiungere la quota del rinfianco dell’estradosso della volta. Il fissaggio e il rinforzo della rete sulle murature d’ambito all’imposta della volta tramite l’applicazione di elemento an","golare preformato "),AM31, " di Fibre Net, o equivalente e opportuni connettori, ") -> La rimozione del pavimento, del sottofondo e del riempimento fino a raggiungere la quota del rinfianco dell’estradosso della volta. Il fissaggio e il rinforzo della rete sulle murature d’ambito all’imposta della volta tramite l’applicazione di elemento angolare preformato FBANG66X66T96AR di Fibre Net, o equivalente e opportuni connettori, | AO31: 0.28 | AP31: 0.2 | AQ31: 1.78 | AR31: 8 | AS31: sulla superficie d’estradosso di cappa tramite malta | AU31: FBANG66X66T96AR | AV31: =_xlfn.CONCAT(_xlfn._LONGTEXT("La rimozione del pavimento, del sottofondo e del riempimento fino a raggiungere la quota del rinfianco dell’estradosso della volta. Il fissaggio e il rinforzo della rete sulle murature d’ambito all’imposta della volta tramite l’applicazione di elemento an","golare preformato "), AU31, " di Fibre Net, o equivalente e opportuni connettori") -> La rimozione del pavimento, del sottofondo e del riempimento fino a raggiungere la quota del rinfianco dell’estradosso della volta. Il fissaggio e il rinforzo della rete sulle murature d’ambito all’imposta della volta tramite l’applicazione di elemento angolare preformato FBANG66X66T96AR di Fibre Net, o equivalente e opportuni connettori | AW31: 1.96
A32: in folio | B32: estradosso | C32: , anche in presenza all’intradosso di affreschi o altri trattamenti decorativi, | D32: FBMESH99X99T96ARFORCE | E32: 99x99 | F32: 0 | G32: 10 | H32: 806 | I32: 7.05 | J32: 44600 | K32: 6.2 | L32: 0.31 | M32: 13.6 | N32: NHL 115 | O32: EPOCA CALCE – NHL 115 | P32: malta a base calce NHL per interventi di restauro e rinforzo strutturale di elementi in muratura | Q32: 17 | R32: 4 | S32: =Q32*R32 -> 68 | T32: 0.604 | U32: FBDPP | V32: 2.6 | W32: 5 | X32: FB-RC30-3-600 | Y32: 24.15 | Z32: =0.04*W32 -> 0.2 | AA32: =Z32/0.6 -> 0.33333333 | AB32: 32.16 | AC32: 26.72 | AD32: Pulizia della volta | AE32: 0.1 | AF32: 0.1 | AG32: Applicazione rete e connettori | AH32: 0.18 | AI32: 0.18 | AJ32: Realizzazione di cappa in malta di calce e cemento | AK32: 0.37 | AL32: 0.26 | AM32: FBANG99X99T96AR | AN32: =_xlfn.CONCAT(_xlfn._LONGTEXT("La rimozione del pavimento, del sottofondo e del riempimento fino a raggiungere la quota del rinfianco dell’estradosso della volta. Il fissaggio e il rinforzo della rete sulle murature d’ambito all’imposta della volta tramite l’applicazione di elemento an","golare preformato "),AM32, " di Fibre Net, o equivalente e opportuni connettori, ") -> La rimozione del pavimento, del sottofondo e del riempimento fino a raggiungere la quota del rinfianco dell’estradosso della volta. Il fissaggio e il rinforzo della rete sulle murature d’ambito all’imposta della volta tramite l’applicazione di elemento angolare preformato FBANG99X99T96AR di Fibre Net, o equivalente e opportuni connettori, | AO32: 0.28 | AP32: 0.2 | AQ32: 1.96 | AR32: 8 | AS32: sulla superficie d’estradosso di cappa tramite malta | AU32: FBANG99X99T96AR | AV32: =_xlfn.CONCAT(_xlfn._LONGTEXT("La rimozione del pavimento, del sottofondo e del riempimento fino a raggiungere la quota del rinfianco dell’estradosso della volta. Il fissaggio e il rinforzo della rete sulle murature d’ambito all’imposta della volta tramite l’applicazione di elemento an","golare preformato "), AU32, " di Fibre Net, o equivalente e opportuni connettori") -> La rimozione del pavimento, del sottofondo e del riempimento fino a raggiungere la quota del rinfianco dell’estradosso della volta. Il fissaggio e il rinforzo della rete sulle murature d’ambito all’imposta della volta tramite l’applicazione di elemento angolare preformato FBANG99X99T96AR di Fibre Net, o equivalente e opportuni connettori | AW32: 1.96
A33: in folio | B33: estradosso | C33: , anche in presenza all’intradosso di affreschi o altri trattamenti decorativi, | D33: FBMESH99X99T96ARFORCE | E33: 99x99 | F33: 0 | G33: 10 | H33: 806 | I33: 7.05 | J33: 44600 | K33: 6.2 | L33: 0.31 | M33: 13.6 | N33: RZ 215 | O33: MATERIA RINFORZA – RZ 215 | P33: malta a base di leganti idraulici per interventi di restauro e rinforzo strutturale di elementi in muratura | Q33: 17 | R33: 4 | S33: =Q33*R33 -> 68 | T33: 0.498 | U33: FBDPP | V33: 2.6 | W33: 5 | X33: FB-RC30-3-600 | Y33: 24.15 | Z33: =0.04*W33 -> 0.2 | AA33: =Z33/0.6 -> 0.33333333 | AB33: 32.16 | AC33: 26.72 | AD33: Pulizia della volta | AE33: 0.1 | AF33: 0.1 | AG33: Applicazione rete e connettori | AH33: 0.18 | AI33: 0.18 | AJ33: Realizzazione di cappa in malta di calce e cemento | AK33: 0.37 | AL33: 0.26 | AM33: FBANG99X99T96AR | AN33: =_xlfn.CONCAT(_xlfn._LONGTEXT("La rimozione del pavimento, del sottofondo e del riempimento fino a raggiungere la quota del rinfianco dell’estradosso della volta. Il fissaggio e il rinforzo della rete sulle murature d’ambito all’imposta della volta tramite l’applicazione di elemento an","golare preformato "),AM33, " di Fibre Net, o equivalente e opportuni connettori, ") -> La rimozione del pavimento, del sottofondo e del riempimento fino a raggiungere la quota del rinfianco dell’estradosso della volta. Il fissaggio e il rinforzo della rete sulle murature d’ambito all’imposta della volta tramite l’applicazione di elemento angolare preformato FBANG99X99T96AR di Fibre Net, o equivalente e opportuni connettori, | AO33: 0.28 | AP33: 0.2 | AQ33: 1.96 | AR33: 8 | AS33: sulla superficie d’estradosso di cappa tramite malta | AU33: FBANG99X99T96AR | AV33: =_xlfn.CONCAT(_xlfn._LONGTEXT("La rimozione del pavimento, del sottofondo e del riempimento fino a raggiungere la quota del rinfianco dell’estradosso della volta. Il fissaggio e il rinforzo della rete sulle murature d’ambito all’imposta della volta tramite l’applicazione di elemento an","golare preformato "), AU33, " di Fibre Net, o equivalente e opportuni connettori") -> La rimozione del pavimento, del sottofondo e del riempimento fino a raggiungere la quota del rinfianco dell’estradosso della volta. Il fissaggio e il rinforzo della rete sulle murature d’ambito all’imposta della volta tramite l’applicazione di elemento angolare preformato FBANG99X99T96AR di Fibre Net, o equivalente e opportuni connettori | AW33: 1.96
A34: in folio | B34: intradosso | D34: FBMESH66X66T96AR | E34: 66x66 | F34: diametro nominale dei trefoli > 3 mm | G34: 15 | H34: 376 | I34: 8.9 | J34: 25000 | K34: 4.23 | L34: 0.25 | M34: 15.1 | N34: NHL 110 | O34: EPOCA CALCE – NHL 110 | P34: malta a base calce NHL per interventi di restauro e rinforzo strutturale di elementi in muratura | Q34: 17 | R34: 3 | S34: =Q34*R34 -> 51 | T34: 0.572 | U34: FBDPP | V34: 2.6 | W34: 4 | X34: FB-RC30-3-600 | Y34: 24.15 | Z34: =0.04*W34 -> 0.16 | AA34: =Z34/0.6 -> 0.26666667 | AB34: 32.16 | AC34: 26.72 | AG34: Applicazione rete e connettori | AH34: 0.2 | AI34: 0.15 | AJ34: Applicazione intonaco | AK34: 0.3 | AL34: 0.25 | AM34: FBANG66X66T96AR | AN34: L’eventuale rimozione e scrostamento dell’intonaco preesistente, | AO34: 0.28 | AP34: 0.2 | AQ34: 1.96 | AR34: 8 | AS34: sulla superficie d’estradosso di cappa tramite malta | AU34: FBANG66X66T96AR | AV34: L’eventuale rimozione e scrostamento dell’intonaco preesistente, i ponteggi, impalcature e/o attrezzature necessarie all’esecuzione dei lavori e le eventuali coperture installate a protezione degli agenti atmosferici e quant’altro non specificato. | AW34: 1.78
A35: in folio | B35: intradosso | D35: FBMESH66X66T96AR | E35: 66x66 | F35: diametro nominale dei trefoli > 3 mm | G35: 15 | H35: 376 | I35: 8.9 | J35: 25000 | K35: 4.23 | L35: 0.25 | M35: 15.1 | N35: RZ 210 | O35: MATERIA RINFORZA – RZ 210 | P35: malta a base di leganti idraulici per interventi di restauro e rinforzo strutturale di elementi in muratura | Q35: 17 | R35: 3 | S35: =Q35*R35 -> 51 | T35: 0.492 | U35: FBDPP | V35: 2.6 | W35: 4 | X35: FB-RC30-3-600 | Y35: 24.15 | Z35: =0.04*W35 -> 0.16 | AA35: =Z35/0.6 -> 0.26666667 | AB35: 32.16 | AC35: 26.72 | AG35: Applicazione rete e connettori | AH35: 0.2 | AI35: 0.15 | AJ35: Applicazione intonaco | AK35: 0.3 | AL35: 0.25 | AM35: FBANG66X66T96AR | AN35: L’eventuale rimozione e scrostamento dell’intonaco preesistente, | AO35: 0.28 | AP35: 0.2 | AQ35: 1.96 | AR35: 8 | AS35: sulla superficie d’estradosso di cappa tramite malta | AU35: FBANG66X66T96AR | AV35: L’eventuale rimozione e scrostamento dell’intonaco preesistente, i ponteggi, impalcature e/o attrezzature necessarie all’esecuzione dei lavori e le eventuali coperture installate a protezione degli agenti atmosferici e quant’altro non specificato. | AW35: 1.78
A36: in folio | B36: intradosso | D36: FBMESH99X99T96AR | E36: 99x99 | F36: diametro nominale dei trefoli > 3 mm | G36: 10 | H36: 376 | I36: 8.9 | J36: 25000 | K36: 4.23 | L36: 0.25 | M36: 11.3 | N36: NHL 110 | O36: EPOCA CALCE – NHL 110 | P36: malta a base calce NHL per interventi di restauro e rinforzo strutturale di elementi in muratura | Q36: 17 | R36: 3 | S36: =Q36*R36 -> 51 | T36: 0.572 | U36: FBDPP | V36: 2.6 | W36: 4 | X36: FB-RC30-3-600 | Y36: 24.15 | Z36: =0.04*W36 -> 0.16 | AA36: =Z36/0.6 -> 0.26666667 | AB36: 32.16 | AC36: 26.72 | AG36: Applicazione rete e connettori | AH36: 0.2 | AI36: 0.15 | AJ36: Applicazione intonaco | AK36: 0.3 | AL36: 0.25 | AM36: FBANG99X99T96AR | AN36: L’eventuale rimozione e scrostamento dell’intonaco preesistente, | AO36: 0.28 | AP36: 0.2 | AQ36: 1.78 | AR36: 8 | AS36: sulla superficie d’estradosso di cappa tramite malta | AU36: FBANG99X99T96AR | AV36: L’eventuale rimozione e scrostamento dell’intonaco preesistente, i ponteggi, impalcature e/o attrezzature necessarie all’esecuzione dei lavori e le eventuali coperture installate a protezione degli agenti atmosferici e quant’altro non specificato. | AW36: 1.78
A37: in folio | B37: intradosso | D37: FBMESH99X99T96AR | E37: 99x99 | F37: diametro nominale dei trefoli > 3 mm | G37: 10 | H37: 376 | I37: 8.9 | J37: 25000 | K37: 4.23 | L37: 0.25 | M37: 11.3 | N37: RZ 210 | O37: MATERIA RINFORZA – RZ 210 | P37: malta a base di leganti idraulici per interventi di restauro e rinforzo strutturale di elementi in muratura | Q37: 17 | R37: 3 | S37: =Q37*R37 -> 51 | T37: 0.492 | U37: FBDPP | V37: 2.6 | W37: 4 | X37: FB-RC30-3-600 | Y37: 24.15 | Z37: =0.04*W37 -> 0.16 | AA37: =Z37/0.6 -> 0.26666667 | AB37: 32.16 | AC37: 26.72 | AG37: Applicazione rete e connettori | AH37: 0.2 | AI37: 0.15 | AJ37: Applicazione intonaco | AK37: 0.3 | AL37: 0.25 | AM37: FBANG99X99T96AR | AN37: L’eventuale rimozione e scrostamento dell’intonaco preesistente, | AO37: 0.28 | AP37: 0.2 | AQ37: 1.78 | AR37: 8 | AS37: sulla superficie d’estradosso di cappa tramite malta | AU37: FBANG99X99T96AR | AV37: L’eventuale rimozione e scrostamento dell’intonaco preesistente, i ponteggi, impalcature e/o attrezzature necessarie all’esecuzione dei lavori e le eventuali coperture installate a protezione degli agenti atmosferici e quant’altro non specificato. | AW37: 1.78
A38: in folio | B38: intradosso | D38: FBMESH66X66T96ARFORCE | E38: 66x66 | F38: 0 | G38: 15 | H38: 806 | I38: 7.05 | J38: 44600 | K38: 6.2 | L38: 0.31 | M38: 18.1 | N38: NHL 115 | O38: EPOCA CALCE – NHL 115 | P38: malta a base calce NHL per interventi di restauro e rinforzo strutturale di elementi in muratura | Q38: 17 | R38: 3 | S38: =Q38*R38 -> 51 | T38: 0.604 | U38: FBDPP | V38: 2.6 | W38: 4 | X38: FB-RC30-3-600 | Y38: 24.15 | Z38: =0.04*W38 -> 0.16 | AA38: =Z38/0.6 -> 0.26666667 | AB38: 32.16 | AC38: 26.72 | AG38: Applicazione rete e connettori | AH38: 0.2 | AI38: 0.15 | AJ38: Applicazione intonaco | AK38: 0.3 | AL38: 0.25 | AM38: FBANG66X66T96AR | AN38: L’eventuale rimozione e scrostamento dell’intonaco preesistente, | AO38: 0.28 | AP38: 0.2 | AQ38: 1.78 | AR38: 8 | AS38: sulla superficie d’estradosso di cappa tramite malta | AU38: FBANG66X66T96AR | AV38: L’eventuale rimozione e scrostamento dell’intonaco preesistente, i ponteggi, impalcature e/o attrezzature necessarie all’esecuzione dei lavori e le eventuali coperture installate a protezione degli agenti atmosferici e quant’altro non specificato. | AW38: 1.96
A39: in folio | B39: intradosso | D39: FBMESH66X66T96ARFORCE | E39: 66x66 | F39: 0 | G39: 15 | H39: 806 | I39: 7.05 | J39: 44600 | K39: 6.2 | L39: 0.31 | M39: 18.1 | N39: RZ 215 | O39: MATERIA RINFORZA – RZ 215 | P39: malta a base di leganti idraulici per interventi di restauro e rinforzo strutturale di elementi in muratura | Q39: 17 | R39: 3 | S39: =Q39*R39 -> 51 | T39: 0.498 | U39: FBDPP | V39: 2.6 | W39: 4 | X39: FB-RC30-3-600 | Y39: 24.15 | Z39: =0.04*W39 -> 0.16 | AA39: =Z39/0.6 -> 0.26666667 | AB39: 32.16 | AC39: 26.72 | AG39: Applicazione rete e connettori | AH39: 0.2 | AI39: 0.15 | AJ39: Applicazione intonaco | AK39: 0.3 | AL39: 0.25 | AM39: FBANG66X66T96AR | AN39: L’eventuale rimozione e scrostamento dell’intonaco preesistente, | AO39: 0.28 | AP39: 0.2 | AQ39: 1.78 | AR39: 8 | AS39: sulla superficie d’estradosso di cappa tramite malta | AU39: FBANG66X66T96AR | AV39: L’eventuale rimozione e scrostamento dell’intonaco preesistente, i ponteggi, impalcature e/o attrezzature necessarie all’esecuzione dei lavori e le eventuali coperture installate a protezione degli agenti atmosferici e quant’altro non specificato. | AW39: 1.96
A40: in folio | B40: intradosso | D40: FBMESH99X99T96ARFORCE | E40: 99x99 | F40: 0 | G40: 10 | H40: 806 | I40: 7.05 | J40: 44600 | K40: 6.2 | L40: 0.31 | M40: 13.6 | N40: NHL 115 | O40: EPOCA CALCE – NHL 115 | P40: malta a base calce NHL per interventi di restauro e rinforzo strutturale di elementi in muratura | Q40: 17 | R40: 3 | S40: =Q40*R40 -> 51 | T40: 0.604 | U40: FBDPP | V40: 2.6 | W40: 4 | X40: FB-RC30-3-600 | Y40: 24.15 | Z40: =0.04*W40 -> 0.16 | AA40: =Z40/0.6 -> 0.26666667 | AB40: 32.16 | AC40: 26.72 | AG40: Applicazione rete e connettori | AH40: 0.2 | AI40: 0.15 | AJ40: Applicazione intonaco | AK40: 0.3 | AL40: 0.25 | AM40: FBANG99X99T96AR | AN40: L’eventuale rimozione e scrostamento dell’intonaco preesistente, | AO40: 0.28 | AP40: 0.2 | AQ40: 1.96 | AR40: 8 | AS40: sulla superficie d’estradosso di cappa tramite malta | AU40: FBANG99X99T96AR | AV40: L’eventuale rimozione e scrostamento dell’intonaco preesistente, i ponteggi, impalcature e/o attrezzature necessarie all’esecuzione dei lavori e le eventuali coperture installate a protezione degli agenti atmosferici e quant’altro non specificato. | AW40: 1.96
A41: in folio | B41: intradosso | D41: FBMESH99X99T96ARFORCE | E41: 99x99 | F41: 0 | G41: 10 | H41: 806 | I41: 7.05 | J41: 44600 | K41: 6.2 | L41: 0.31 | M41: 13.6 | N41: RZ 215 | O41: MATERIA RINFORZA – RZ 215 | P41: malta a base di leganti idraulici per interventi di restauro e rinforzo strutturale di elementi in muratura | Q41: 17 | R41: 3 | S41: =Q41*R41 -> 51 | T41: 0.498 | U41: FBDPP | V41: 2.6 | W41: 4 | X41: FB-RC30-3-600 | Y41: 24.15 | Z41: =0.04*W41 -> 0.16 | AA41: =Z41/0.6 -> 0.26666667 | AB41: 32.16 | AC41: 26.72 | AG41: Applicazione rete e connettori | AH41: 0.2 | AI41: 0.15 | AJ41: Applicazione intonaco | AK41: 0.3 | AL41: 0.25 | AM41: FBANG99X99T96AR | AN41: L’eventuale rimozione e scrostamento dell’intonaco preesistente, | AO41: 0.28 | AP41: 0.2 | AQ41: 1.96 | AR41: 8 | AS41: sulla superficie d’estradosso di cappa tramite malta | AU41: FBANG99X99T96AR | AV41: L’eventuale rimozione e scrostamento dell’intonaco preesistente, i ponteggi, impalcature e/o attrezzature necessarie all’esecuzione dei lavori e le eventuali coperture installate a protezione degli agenti atmosferici e quant’altro non specificato. | AW41: 1.96
A42: in folio | B42: intradosso | D42: FBMESH66X66T96AR | E42: 66x66 | F42: diametro nominale dei trefoli > 3 mm | G42: 15 | H42: 376 | I42: 8.9 | J42: 25000 | K42: 4.23 | L42: 0.25 | M42: 15.1 | N42: NHL 110 | O42: EPOCA CALCE – NHL 110 | P42: malta a base calce NHL per interventi di restauro e rinforzo strutturale di elementi in muratura | Q42: 17 | R42: 4 | S42: =Q42*R42 -> 68 | T42: 0.572 | U42: FBDPP | V42: 2.6 | W42: 4 | X42: FB-RC30-3-600 | Y42: 24.15 | Z42: =0.04*W42 -> 0.16 | AA42: =Z42/0.6 -> 0.26666667 | AB42: 32.16 | AC42: 26.72 | AG42: Applicazione rete e connettori | AH42: 0.2 | AI42: 0.15 | AJ42: Applicazione intonaco | AK42: 0.4 | AL42: 0.33 | AM42: FBANG66X66T96AR | AN42: L’eventuale rimozione e scrostamento dell’intonaco preesistente, | AO42: 0.28 | AP42: 0.2 | AQ42: 1.96 | AR42: 8 | AS42: sulla superficie d’estradosso di cappa tramite malta | AU42: FBANG66X66T96AR | AV42: L’eventuale rimozione e scrostamento dell’intonaco preesistente, i ponteggi, impalcature e/o attrezzature necessarie all’esecuzione dei lavori e le eventuali coperture installate a protezione degli agenti atmosferici e quant’altro non specificato. | AW42: 1.78
A43: in folio | B43: intradosso | D43: FBMESH66X66T96AR | E43: 66x66 | F43: diametro nominale dei trefoli > 3 mm | G43: 15 | H43: 376 | I43: 8.9 | J43: 25000 | K43: 4.23 | L43: 0.25 | M43: 15.1 | N43: RZ 210 | O43: MATERIA RINFORZA – RZ 210 | P43: malta a base di leganti idraulici per interventi di restauro e rinforzo strutturale di elementi in muratura | Q43: 17 | R43: 4 | S43: =Q43*R43 -> 68 | T43: 0.492 | U43: FBDPP | V43: 2.6 | W43: 4 | X43: FB-RC30-3-600 | Y43: 24.15 | Z43: =0.04*W43 -> 0.16 | AA43: =Z43/0.6 -> 0.26666667 | AB43: 32.16 | AC43: 26.72 | AG43: Applicazione rete e connettori | AH43: 0.2 | AI43: 0.15 | AJ43: Applicazione intonaco | AK43: 0.4 | AL43: 0.33 | AM43: FBANG66X66T96AR | AN43: L’eventuale rimozione e scrostamento dell’intonaco preesistente, | AO43: 0.28 | AP43: 0.2 | AQ43: 1.96 | AR43: 8 | AS43: sulla superficie d’estradosso di cappa tramite malta | AU43: FBANG66X66T96AR | AV43: L’eventuale rimozione e scrostamento dell’intonaco preesistente, i ponteggi, impalcature e/o attrezzature necessarie all’esecuzione dei lavori e le eventuali coperture installate a protezione degli agenti atmosferici e quant’altro non specificato. | AW43: 1.78
A44: in folio | B44: intradosso | D44: FBMESH99X99T96AR | E44: 99x99 | F44: diametro nominale dei trefoli > 3 mm | G44: 10 | H44: 376 | I44: 8.9 | J44: 25000 | K44: 4.23 | L44: 0.25 | M44: 11.3 | N44: NHL 110 | O44: EPOCA CALCE – NHL 110 | P44: malta a base calce NHL per interventi di restauro e rinforzo strutturale di elementi in muratura | Q44: 17 | R44: 4 | S44: =Q44*R44 -> 68 | T44: 0.572 | U44: FBDPP | V44: 2.6 | W44: 4 | X44: FB-RC30-3-600 | Y44: 24.15 | Z44: =0.04*W44 -> 0.16 | AA44: =Z44/0.6 -> 0.26666667 | AB44: 32.16 | AC44: 26.72 | AG44: Applicazione rete e connettori | AH44: 0.2 | AI44: 0.15 | AJ44: Applicazione intonaco | AK44: 0.4 | AL44: 0.33 | AM44: FBANG99X99T96AR | AN44: L’eventuale rimozione e scrostamento dell’intonaco preesistente, | AO44: 0.28 | AP44: 0.2 | AQ44: 1.78 | AR44: 8 | AS44: sulla superficie d’estradosso di cappa tramite malta | AU44: FBANG99X99T96AR | AV44: L’eventuale rimozione e scrostamento dell’intonaco preesistente, i ponteggi, impalcature e/o attrezzature necessarie all’esecuzione dei lavori e le eventuali coperture installate a protezione degli agenti atmosferici e quant’altro non specificato. | AW44: 1.78
A45: in folio | B45: intradosso | D45: FBMESH99X99T96AR | E45: 99x99 | F45: diametro nominale dei trefoli > 3 mm | G45: 10 | H45: 376 | I45: 8.9 | J45: 25000 | K45: 4.23 | L45: 0.25 | M45: 11.3 | N45: RZ 210 | O45: MATERIA RINFORZA – RZ 210 | P45: malta a base di leganti idraulici per interventi di restauro e rinforzo strutturale di elementi in muratura | Q45: 17 | R45: 4 | S45: =Q45*R45 -> 68 | T45: 0.492 | U45: FBDPP | V45: 2.6 | W45: 4 | X45: FB-RC30-3-600 | Y45: 24.15 | Z45: =0.04*W45 -> 0.16 | AA45: =Z45/0.6 -> 0.26666667 | AB45: 32.16 | AC45: 26.72 | AG45: Applicazione rete e connettori | AH45: 0.2 | AI45: 0.15 | AJ45: Applicazione intonaco | AK45: 0.4 | AL45: 0.33 | AM45: FBANG99X99T96AR | AN45: L’eventuale rimozione e scrostamento dell’intonaco preesistente, | AO45: 0.28 | AP45: 0.2 | AQ45: 1.78 | AR45: 8 | AS45: sulla superficie d’estradosso di cappa tramite malta | AU45: FBANG99X99T96AR | AV45: L’eventuale rimozione e scrostamento dell’intonaco preesistente, i ponteggi, impalcature e/o attrezzature necessarie all’esecuzione dei lavori e le eventuali coperture installate a protezione degli agenti atmosferici e quant’altro non specificato. | AW45: 1.78
A46: in folio | B46: intradosso | D46: FBMESH66X66T96ARFORCE | E46: 66x66 | F46: 0 | G46: 15 | H46: 806 | I46: 7.05 | J46: 44600 | K46: 6.2 | L46: 0.31 | M46: 18.1 | N46: NHL 115 | O46: EPOCA CALCE – NHL 115 | P46: malta a base calce NHL per interventi di restauro e rinforzo strutturale di elementi in muratura | Q46: 17 | R46: 4 | S46: =Q46*R46 -> 68 | T46: 0.604 | U46: FBDPP | V46: 2.6 | W46: 4 | X46: FB-RC30-3-600 | Y46: 24.15 | Z46: =0.04*W46 -> 0.16 | AA46: =Z46/0.6 -> 0.26666667 | AB46: 32.16 | AC46: 26.72 | AG46: Applicazione rete e connettori | AH46: 0.2 | AI46: 0.15 | AJ46: Applicazione intonaco | AK46: 0.4 | AL46: 0.33 | AM46: FBANG66X66T96AR | AN46: L’eventuale rimozione e scrostamento dell’intonaco preesistente, | AO46: 0.28 | AP46: 0.2 | AQ46: 1.78 | AR46: 8 | AS46: sulla superficie d’estradosso di cappa tramite malta | AU46: FBANG66X66T96AR | AV46: L’eventuale rimozione e scrostamento dell’intonaco preesistente, i ponteggi, impalcature e/o attrezzature necessarie all’esecuzione dei lavori e le eventuali coperture installate a protezione degli agenti atmosferici e quant’altro non specificato. | AW46: 1.96
A47: in folio | B47: intradosso | D47: FBMESH66X66T96ARFORCE | E47: 66x66 | F47: 0 | G47: 15 | H47: 806 | I47: 7.05 | J47: 44600 | K47: 6.2 | L47: 0.31 | M47: 18.1 | N47: RZ 215 | O47: MATERIA RINFORZA – RZ 215 | P47: malta a base di leganti idraulici per interventi di restauro e rinforzo strutturale di elementi in muratura | Q47: 17 | R47: 4 | S47: =Q47*R47 -> 68 | T47: 0.498 | U47: FBDPP | V47: 2.6 | W47: 4 | X47: FB-RC30-3-600 | Y47: 24.15 | Z47: =0.04*W47 -> 0.16 | AA47: =Z47/0.6 -> 0.26666667 | AB47: 32.16 | AC47: 26.72 | AG47: Applicazione rete e connettori | AH47: 0.2 | AI47: 0.15 | AJ47: Applicazione intonaco | AK47: 0.4 | AL47: 0.33 | AM47: FBANG66X66T96AR | AN47: L’eventuale rimozione e scrostamento dell’intonaco preesistente, | AO47: 0.28 | AP47: 0.2 | AQ47: 1.78 | AR47: 8 | AS47: sulla superficie d’estradosso di cappa tramite malta | AU47: FBANG66X66T96AR | AV47: L’eventuale rimozione e scrostamento dell’intonaco preesistente, i ponteggi, impalcature e/o attrezzature necessarie all’esecuzione dei lavori e le eventuali coperture installate a protezione degli agenti atmosferici e quant’altro non specificato. | AW47: 1.96
A48: in folio | B48: intradosso | D48: FBMESH99X99T96ARFORCE | E48: 99x99 | F48: 0 | G48: 10 | H48: 806 | I48: 7.05 | J48: 44600 | K48: 6.2 | L48: 0.31 | M48: 13.6 | N48: NHL 115 | O48: EPOCA CALCE – NHL 115 | P48: malta a base calce NHL per interventi di restauro e rinforzo strutturale di elementi in muratura | Q48: 17 | R48: 4 | S48: =Q48*R48 -> 68 | T48: 0.604 | U48: FBDPP | V48: 2.6 | W48: 4 | X48: FB-RC30-3-600 | Y48: 24.15 | Z48: =0.04*W48 -> 0.16 | AA48: =Z48/0.6 -> 0.26666667 | AB48: 32.16 | AC48: 26.72 | AG48: Applicazione rete e connettori | AH48: 0.2 | AI48: 0.15 | AJ48: Applicazione intonaco | AK48: 0.4 | AL48: 0.33 | AM48: FBANG99X99T96AR | AN48: L’eventuale rimozione e scrostamento dell’intonaco preesistente, | AO48: 0.28 | AP48: 0.2 | AQ48: 1.96 | AR48: 8 | AS48: sulla superficie d’estradosso di cappa tramite malta | AU48: FBANG99X99T96AR | AV48: L’eventuale rimozione e scrostamento dell’intonaco preesistente, i ponteggi, impalcature e/o attrezzature necessarie all’esecuzione dei lavori e le eventuali coperture installate a protezione degli agenti atmosferici e quant’altro non specificato. | AW48: 1.96
A49: in folio | B49: intradosso | D49: FBMESH99X99T96ARFORCE | E49: 99x99 | F49: 0 | G49: 10 | H49: 806 | I49: 7.05 | J49: 44600 | K49: 6.2 | L49: 0.31 | M49: 13.6 | N49: RZ 215 | O49: MATERIA RINFORZA – RZ 215 | P49: malta a base di leganti idraulici per interventi di restauro e rinforzo strutturale di elementi in muratura | Q49: 17 | R49: 4 | S49: =Q49*R49 -> 68 | T49: 0.498 | U49: FBDPP | V49: 2.6 | W49: 4 | X49: FB-RC30-3-600 | Y49: 24.15 | Z49: =0.04*W49 -> 0.16 | AA49: =Z49/0.6 -> 0.26666667 | AB49: 32.16 | AC49: 26.72 | AG49: Applicazione rete e connettori | AH49: 0.2 | AI49: 0.15 | AJ49: Applicazione intonaco | AK49: 0.4 | AL49: 0.33 | AM49: FBANG99X99T96AR | AN49: L’eventuale rimozione e scrostamento dell’intonaco preesistente, | AO49: 0.28 | AP49: 0.2 | AQ49: 1.96 | AR49: 8 | AS49: sulla superficie d’estradosso di cappa tramite malta | AU49: FBANG99X99T96AR | AV49: L’eventuale rimozione e scrostamento dell’intonaco preesistente, i ponteggi, impalcature e/o attrezzature necessarie all’esecuzione dei lavori e le eventuali coperture installate a protezione degli agenti atmosferici e quant’altro non specificato. | AW49: 1.96
A50: in folio | B50: intradosso | D50: FBMESH66X66T96AR | E50: 66x66 | F50: diametro nominale dei trefoli > 3 mm | G50: 15 | H50: 376 | I50: 8.9 | J50: 25000 | K50: 4.23 | L50: 0.25 | M50: 15.1 | N50: NHL 110 | O50: EPOCA CALCE – NHL 110 | P50: malta a base calce NHL per interventi di restauro e rinforzo strutturale di elementi in muratura | Q50: 17 | R50: 3 | S50: =Q50*R50 -> 51 | T50: 0.572 | U50: FBDPP | V50: 2.6 | W50: 5 | X50: FB-RC30-3-600 | Y50: 24.15 | Z50: =0.04*W50 -> 0.2 | AA50: =Z50/0.6 -> 0.33333333 | AB50: 32.16 | AC50: 26.72 | AG50: Applicazione rete e connettori | AH50: 0.25 | AI50: 0.18 | AJ50: Applicazione intonaco | AK50: 0.3 | AL50: 0.25 | AM50: FBANG66X66T96AR | AN50: L’eventuale rimozione e scrostamento dell’intonaco preesistente, | AO50: 0.28 | AP50: 0.2 | AQ50: 1.96 | AR50: 8 | AS50: sulla superficie d’estradosso di cappa tramite malta | AU50: FBANG66X66T96AR | AV50: L’eventuale rimozione e scrostamento dell’intonaco preesistente, i ponteggi, impalcature e/o attrezzature necessarie all’esecuzione dei lavori e le eventuali coperture installate a protezione degli agenti atmosferici e quant’altro non specificato. | AW50: 1.78
A51: in folio | B51: intradosso | D51: FBMESH66X66T96AR | E51: 66x66 | F51: diametro nominale dei trefoli > 3 mm | G51: 15 | H51: 376 | I51: 8.9 | J51: 25000 | K51: 4.23 | L51: 0.25 | M51: 15.1 | N51: RZ 210 | O51: MATERIA RINFORZA – RZ 210 | P51: malta a base di leganti idraulici per interventi di restauro e rinforzo strutturale di elementi in muratura | Q51: 17 | R51: 3 | S51: =Q51*R51 -> 51 | T51: 0.492 | U51: FBDPP | V51: 2.6 | W51: 5 | X51: FB-RC30-3-600 | Y51: 24.15 | Z51: =0.04*W51 -> 0.2 | AA51: =Z51/0.6 -> 0.33333333 | AB51: 32.16 | AC51: 26.72 | AG51: Applicazione rete e connettori | AH51: 0.25 | AI51: 0.18 | AJ51: Applicazione intonaco | AK51: 0.3 | AL51: 0.25 | AM51: FBANG66X66T96AR | AN51: L’eventuale rimozione e scrostamento dell’intonaco preesistente, | AO51: 0.28 | AP51: 0.2 | AQ51: 1.96 | AR51: 8 | AS51: sulla superficie d’estradosso di cappa tramite malta | AU51: FBANG66X66T96AR | AV51: L’eventuale rimozione e scrostamento dell’intonaco preesistente, i ponteggi, impalcature e/o attrezzature necessarie all’esecuzione dei lavori e le eventuali coperture installate a protezione degli agenti atmosferici e quant’altro non specificato. | AW51: 1.78
A52: in folio | B52: intradosso | D52: FBMESH99X99T96AR | E52: 99x99 | F52: diametro nominale dei trefoli > 3 mm | G52: 10 | H52: 376 | I52: 8.9 | J52: 25000 | K52: 4.23 | L52: 0.25 | M52: 11.3 | N52: NHL 110 | O52: EPOCA CALCE – NHL 110 | P52: malta a base calce NHL per interventi di restauro e rinforzo strutturale di elementi in muratura | Q52: 17 | R52: 3 | S52: =Q52*R52 -> 51 | T52: 0.572 | U52: FBDPP | V52: 2.6 | W52: 5 | X52: FB-RC30-3-600 | Y52: 24.15 | Z52: =0.04*W52 -> 0.2 | AA52: =Z52/0.6 -> 0.33333333 | AB52: 32.16 | AC52: 26.72 | AG52: Applicazione rete e connettori | AH52: 0.25 | AI52: 0.18 | AJ52: Applicazione intonaco | AK52: 0.3 | AL52: 0.25 | AM52: FBANG99X99T96AR | AN52: L’eventuale rimozione e scrostamento dell’intonaco preesistente, | AO52: 0.28 | AP52: 0.2 | AQ52: 1.78 | AR52: 8 | AS52: sulla superficie d’estradosso di cappa tramite malta | AU52: FBANG99X99T96AR | AV52: L’eventuale rimozione e scrostamento dell’intonaco preesistente, i ponteggi, impalcature e/o attrezzature necessarie all’esecuzione dei lavori e le eventuali coperture installate a protezione degli agenti atmosferici e quant’altro non specificato. | AW52: 1.78
A53: in folio | B53: intradosso | D53: FBMESH99X99T96AR | E53: 99x99 | F53: diametro nominale dei trefoli > 3 mm | G53: 10 | H53: 376 | I53: 8.9 | J53: 25000 | K53: 4.23 | L53: 0.25 | M53: 11.3 | N53: RZ 210 | O53: MATERIA RINFORZA – RZ 210 | P53: malta a base di leganti idraulici per interventi di restauro e rinforzo strutturale di elementi in muratura | Q53: 17 | R53: 3 | S53: =Q53*R53 -> 51 | T53: 0.492 | U53: FBDPP | V53: 2.6 | W53: 5 | X53: FB-RC30-3-600 | Y53: 24.15 | Z53: =0.04*W53 -> 0.2 | AA53: =Z53/0.6 -> 0.33333333 | AB53: 32.16 | AC53: 26.72 | AG53: Applicazione rete e connettori | AH53: 0.25 | AI53: 0.18 | AJ53: Applicazione intonaco | AK53: 0.3 | AL53: 0.25 | AM53: FBANG99X99T96AR | AN53: L’eventuale rimozione e scrostamento dell’intonaco preesistente, | AO53: 0.28 | AP53: 0.2 | AQ53: 1.78 | AR53: 8 | AS53: sulla superficie d’estradosso di cappa tramite malta | AU53: FBANG99X99T96AR | AV53: L’eventuale rimozione e scrostamento dell’intonaco preesistente, i ponteggi, impalcature e/o attrezzature necessarie all’esecuzione dei lavori e le eventuali coperture installate a protezione degli agenti atmosferici e quant’altro non specificato. | AW53: 1.78
A54: in folio | B54: intradosso | D54: FBMESH66X66T96ARFORCE | E54: 66x66 | F54: 0 | G54: 15 | H54: 806 | I54: 7.05 | J54: 44600 | K54: 6.2 | L54: 0.31 | M54: 18.1 | N54: NHL 115 | O54: EPOCA CALCE – NHL 115 | P54: malta a base calce NHL per interventi di restauro e rinforzo strutturale di elementi in muratura | Q54: 17 | R54: 3 | S54: =Q54*R54 -> 51 | T54: 0.604 | U54: FBDPP | V54: 2.6 | W54: 5 | X54: FB-RC30-3-600 | Y54: 24.15 | Z54: =0.04*W54 -> 0.2 | AA54: =Z54/0.6 -> 0.33333333 | AB54: 32.16 | AC54: 26.72 | AG54: Applicazione rete e connettori | AH54: 0.25 | AI54: 0.18 | AJ54: Applicazione intonaco | AK54: 0.3 | AL54: 0.25 | AM54: FBANG66X66T96AR | AN54: L’eventuale rimozione e scrostamento dell’intonaco preesistente, | AO54: 0.28 | AP54: 0.2 | AQ54: 1.78 | AR54: 8 | AS54: sulla superficie d’estradosso di cappa tramite malta | AU54: FBANG66X66T96AR | AV54: L’eventuale rimozione e scrostamento dell’intonaco preesistente, i ponteggi, impalcature e/o attrezzature necessarie all’esecuzione dei lavori e le eventuali coperture installate a protezione degli agenti atmosferici e quant’altro non specificato. | AW54: 1.96
A55: in folio | B55: intradosso | D55: FBMESH66X66T96ARFORCE | E55: 66x66 | F55: 0 | G55: 15 | H55: 806 | I55: 7.05 | J55: 44600 | K55: 6.2 | L55: 0.31 | M55: 18.1 | N55: RZ 215 | O55: MATERIA RINFORZA – RZ 215 | P55: malta a base di leganti idraulici per interventi di restauro e rinforzo strutturale di elementi in muratura | Q55: 17 | R55: 3 | S55: =Q55*R55 -> 51 | T55: 0.498 | U55: FBDPP | V55: 2.6 | W55: 5 | X55: FB-RC30-3-600 | Y55: 24.15 | Z55: =0.04*W55 -> 0.2 | AA55: =Z55/0.6 -> 0.33333333 | AB55: 32.16 | AC55: 26.72 | AG55: Applicazione rete e connettori | AH55: 0.25 | AI55: 0.18 | AJ55: Applicazione intonaco | AK55: 0.3 | AL55: 0.25 | AM55: FBANG66X66T96AR | AN55: L’eventuale rimozione e scrostamento dell’intonaco preesistente, | AO55: 0.28 | AP55: 0.2 | AQ55: 1.78 | AR55: 8 | AS55: sulla superficie d’estradosso di cappa tramite malta | AU55: FBANG66X66T96AR | AV55: L’eventuale rimozione e scrostamento dell’intonaco preesistente, i ponteggi, impalcature e/o attrezzature necessarie all’esecuzione dei lavori e le eventuali coperture installate a protezione degli agenti atmosferici e quant’altro non specificato. | AW55: 1.96
A56: in folio | B56: intradosso | D56: FBMESH99X99T96ARFORCE | E56: 99x99 | F56: 0 | G56: 10 | H56: 806 | I56: 7.05 | J56: 44600 | K56: 6.2 | L56: 0.31 | M56: 13.6 | N56: NHL 115 | O56: EPOCA CALCE – NHL 115 | P56: malta a base calce NHL per interventi di restauro e rinforzo strutturale di elementi in muratura | Q56: 17 | R56: 3 | S56: =Q56*R56 -> 51 | T56: 0.604 | U56: FBDPP | V56: 2.6 | W56: 5 | X56: FB-RC30-3-600 | Y56: 24.15 | Z56: =0.04*W56 -> 0.2 | AA56: =Z56/0.6 -> 0.33333333 | AB56: 32.16 | AC56: 26.72 | AG56: Applicazione rete e connettori | AH56: 0.25 | AI56: 0.18 | AJ56: Applicazione intonaco | AK56: 0.3 | AL56: 0.25 | AM56: FBANG99X99T96AR | AN56: L’eventuale rimozione e scrostamento dell’intonaco preesistente, | AO56: 0.28 | AP56: 0.2 | AQ56: 1.96 | AR56: 8 | AS56: sulla superficie d’estradosso di cappa tramite malta | AU56: FBANG99X99T96AR | AV56: L’eventuale rimozione e scrostamento dell’intonaco preesistente, i ponteggi, impalcature e/o attrezzature necessarie all’esecuzione dei lavori e le eventuali coperture installate a protezione degli agenti atmosferici e quant’altro non specificato. | AW56: 1.96
A57: in folio | B57: intradosso | D57: FBMESH99X99T96ARFORCE | E57: 99x99 | F57: 0 | G57: 10 | H57: 806 | I57: 7.05 | J57: 44600 | K57: 6.2 | L57: 0.31 | M57: 13.6 | N57: RZ 215 | O57: MATERIA RINFORZA – RZ 215 | P57: malta a base di leganti idraulici per interventi di restauro e rinforzo strutturale di elementi in muratura | Q57: 17 | R57: 3 | S57: =Q57*R57 -> 51 | T57: 0.498 | U57: FBDPP | V57: 2.6 | W57: 5 | X57: FB-RC30-3-600 | Y57: 24.15 | Z57: =0.04*W57 -> 0.2 | AA57: =Z57/0.6 -> 0.33333333 | AB57: 32.16 | AC57: 26.72 | AG57: Applicazione rete e connettori | AH57: 0.25 | AI57: 0.18 | AJ57: Applicazione intonaco | AK57: 0.3 | AL57: 0.25 | AM57: FBANG99X99T96AR | AN57: L’eventuale rimozione e scrostamento dell’intonaco preesistente, | AO57: 0.28 | AP57: 0.2 | AQ57: 1.96 | AR57: 8 | AS57: sulla superficie d’estradosso di cappa tramite malta | AU57: FBANG99X99T96AR | AV57: L’eventuale rimozione e scrostamento dell’intonaco preesistente, i ponteggi, impalcature e/o attrezzature necessarie all’esecuzione dei lavori e le eventuali coperture installate a protezione degli agenti atmosferici e quant’altro non specificato. | AW57: 1.96
A58: in folio | B58: intradosso | D58: FBMESH66X66T96AR | E58: 66x66 | F58: diametro nominale dei trefoli > 3 mm | G58: 15 | H58: 376 | I58: 8.9 | J58: 25000 | K58: 4.23 | L58: 0.25 | M58: 15.1 | N58: NHL 110 | O58: EPOCA CALCE – NHL 110 | P58: malta a base calce NHL per interventi di restauro e rinforzo strutturale di elementi in muratura | Q58: 17 | R58: 4 | S58: =Q58*R58 -> 68 | T58: 0.572 | U58: FBDPP | V58: 2.6 | W58: 5 | X58: FB-RC30-3-600 | Y58: 24.15 | Z58: =0.04*W58 -> 0.2 | AA58: =Z58/0.6 -> 0.33333333 | AB58: 32.16 | AC58: 26.72 | AG58: Applicazione rete e connettori | AH58: 0.25 | AI58: 0.18 | AJ58: Applicazione intonaco | AK58: 0.4 | AL58: 0.33 | AM58: FBANG66X66T96AR | AN58: L’eventuale rimozione e scrostamento dell’intonaco preesistente, | AO58: 0.28 | AP58: 0.2 | AQ58: 1.96 | AR58: 8 | AS58: sulla superficie d’estradosso di cappa tramite malta | AU58: FBANG66X66T96AR | AV58: L’eventuale rimozione e scrostamento dell’intonaco preesistente, i ponteggi, impalcature e/o attrezzature necessarie all’esecuzione dei lavori e le eventuali coperture installate a protezione degli agenti atmosferici e quant’altro non specificato. | AW58: 1.78
A59: in folio | B59: intradosso | D59: FBMESH66X66T96AR | E59: 66x66 | F59: diametro nominale dei trefoli > 3 mm | G59: 15 | H59: 376 | I59: 8.9 | J59: 25000 | K59: 4.23 | L59: 0.25 | M59: 15.1 | N59: RZ 210 | O59: MATERIA RINFORZA – RZ 210 | P59: malta a base di leganti idraulici per interventi di restauro e rinforzo strutturale di elementi in muratura | Q59: 17 | R59: 4 | S59: =Q59*R59 -> 68 | T59: 0.492 | U59: FBDPP | V59: 2.6 | W59: 5 | X59: FB-RC30-3-600 | Y59: 24.15 | Z59: =0.04*W59 -> 0.2 | AA59: =Z59/0.6 -> 0.33333333 | AB59: 32.16 | AC59: 26.72 | AG59: Applicazione rete e connettori | AH59: 0.25 | AI59: 0.18 | AJ59: Applicazione intonaco | AK59: 0.4 | AL59: 0.33 | AM59: FBANG66X66T96AR | AN59: L’eventuale rimozione e scrostamento dell’intonaco preesistente, | AO59: 0.28 | AP59: 0.2 | AQ59: 1.96 | AR59: 8 | AS59: sulla superficie d’estradosso di cappa tramite malta | AU59: FBANG66X66T96AR | AV59: L’eventuale rimozione e scrostamento dell’intonaco preesistente, i ponteggi, impalcature e/o attrezzature necessarie all’esecuzione dei lavori e le eventuali coperture installate a protezione degli agenti atmosferici e quant’altro non specificato. | AW59: 1.78
A60: in folio | B60: intradosso | D60: FBMESH99X99T96AR | E60: 99x99 | F60: diametro nominale dei trefoli > 3 mm | G60: 10 | H60: 376 | I60: 8.9 | J60: 25000 | K60: 4.23 | L60: 0.25 | M60: 11.3 | N60: NHL 110 | O60: EPOCA CALCE – NHL 110 | P60: malta a base calce NHL per interventi di restauro e rinforzo strutturale di elementi in muratura | Q60: 17 | R60: 4 | S60: =Q60*R60 -> 68 | T60: 0.572 | U60: FBDPP | V60: 2.6 | W60: 5 | X60: FB-RC30-3-600 | Y60: 24.15 | Z60: =0.04*W60 -> 0.2 | AA60: =Z60/0.6 -> 0.33333333 | AB60: 32.16 | AC60: 26.72 | AG60: Applicazione rete e connettori | AH60: 0.25 | AI60: 0.18 | AJ60: Applicazione intonaco | AK60: 0.4 | AL60: 0.33 | AM60: FBANG99X99T96AR | AN60: L’eventuale rimozione e scrostamento dell’intonaco preesistente, | AO60: 0.28 | AP60: 0.2 | AQ60: 1.78 | AR60: 8 | AS60: sulla superficie d’estradosso di cappa tramite malta | AU60: FBANG99X99T96AR | AV60: L’eventuale rimozione e scrostamento dell’intonaco preesistente, i ponteggi, impalcature e/o attrezzature necessarie all’esecuzione dei lavori e le eventuali coperture installate a protezione degli agenti atmosferici e quant’altro non specificato. | AW60: 1.78
A61: in folio | B61: intradosso | D61: FBMESH99X99T96AR | E61: 99x99 | F61: diametro nominale dei trefoli > 3 mm | G61: 10 | H61: 376 | I61: 8.9 | J61: 25000 | K61: 4.23 | L61: 0.25 | M61: 11.3 | N61: RZ 210 | O61: MATERIA RINFORZA – RZ 210 | P61: malta a base di leganti idraulici per interventi di restauro e rinforzo strutturale di elementi in muratura | Q61: 17 | R61: 4 | S61: =Q61*R61 -> 68 | T61: 0.492 | U61: FBDPP | V61: 2.6 | W61: 5 | X61: FB-RC30-3-600 | Y61: 24.15 | Z61: =0.04*W61 -> 0.2 | AA61: =Z61/0.6 -> 0.33333333 | AB61: 32.16 | AC61: 26.72 | AG61: Applicazione rete e connettori | AH61: 0.25 | AI61: 0.18 | AJ61: Applicazione intonaco | AK61: 0.4 | AL61: 0.33 | AM61: FBANG99X99T96AR | AN61: L’eventuale rimozione e scrostamento dell’intonaco preesistente, | AO61: 0.28 | AP61: 0.2 | AQ61: 1.78 | AR61: 8 | AS61: sulla superficie d’estradosso di cappa tramite malta | AU61: FBANG99X99T96AR | AV61: L’eventuale rimozione e scrostamento dell’intonaco preesistente, i ponteggi, impalcature e/o attrezzature necessarie all’esecuzione dei lavori e le eventuali coperture installate a protezione degli agenti atmosferici e quant’altro non specificato. | AW61: 1.78
A62: in folio | B62: intradosso | D62: FBMESH66X66T96ARFORCE | E62: 66x66 | F62: 0 | G62: 15 | H62: 806 | I62: 7.05 | J62: 44600 | K62: 6.2 | L62: 0.31 | M62: 18.1 | N62: NHL 115 | O62: EPOCA CALCE – NHL 115 | P62: malta a base calce NHL per interventi di restauro e rinforzo strutturale di elementi in muratura | Q62: 17 | R62: 4 | S62: =Q62*R62 -> 68 | T62: 0.604 | U62: FBDPP | V62: 2.6 | W62: 5 | X62: FB-RC30-3-600 | Y62: 24.15 | Z62: =0.04*W62 -> 0.2 | AA62: =Z62/0.6 -> 0.33333333 | AB62: 32.16 | AC62: 26.72 | AG62: Applicazione rete e connettori | AH62: 0.25 | AI62: 0.18 | AJ62: Applicazione intonaco | AK62: 0.4 | AL62: 0.33 | AM62: FBANG66X66T96AR | AN62: L’eventuale rimozione e scrostamento dell’intonaco preesistente, | AO62: 0.28 | AP62: 0.2 | AQ62: 1.78 | AR62: 8 | AS62: sulla superficie d’estradosso di cappa tramite malta | AU62: FBANG66X66T96AR | AV62: L’eventuale rimozione e scrostamento dell’intonaco preesistente, i ponteggi, impalcature e/o attrezzature necessarie all’esecuzione dei lavori e le eventuali coperture installate a protezione degli agenti atmosferici e quant’altro non specificato. | AW62: 1.96
A63: in folio | B63: intradosso | D63: FBMESH66X66T96ARFORCE | E63: 66x66 | F63: 0 | G63: 15 | H63: 806 | I63: 7.05 | J63: 44600 | K63: 6.2 | L63: 0.31 | M63: 18.1 | N63: RZ 215 | O63: MATERIA RINFORZA – RZ 215 | P63: malta a base di leganti idraulici per interventi di restauro e rinforzo strutturale di elementi in muratura | Q63: 17 | R63: 4 | S63: =Q63*R63 -> 68 | T63: 0.498 | U63: FBDPP | V63: 2.6 | W63: 5 | X63: FB-RC30-3-600 | Y63: 24.15 | Z63: =0.04*W63 -> 0.2 | AA63: =Z63/0.6 -> 0.33333333 | AB63: 32.16 | AC63: 26.72 | AG63: Applicazione rete e connettori | AH63: 0.25 | AI63: 0.18 | AJ63: Applicazione intonaco | AK63: 0.4 | AL63: 0.33 | AM63: FBANG66X66T96AR | AN63: L’eventuale rimozione e scrostamento dell’intonaco preesistente, | AO63: 0.28 | AP63: 0.2 | AQ63: 1.78 | AR63: 8 | AS63: sulla superficie d’estradosso di cappa tramite malta | AU63: FBANG66X66T96AR | AV63: L’eventuale rimozione e scrostamento dell’intonaco preesistente, i ponteggi, impalcature e/o attrezzature necessarie all’esecuzione dei lavori e le eventuali coperture installate a protezione degli agenti atmosferici e quant’altro non specificato. | AW63: 1.96
A64: in folio | B64: intradosso | D64: FBMESH99X99T96ARFORCE | E64: 99x99 | F64: 0 | G64: 10 | H64: 806 | I64: 7.05 | J64: 44600 | K64: 6.2 | L64: 0.31 | M64: 13.6 | N64: NHL 115 | O64: EPOCA CALCE – NHL 115 | P64: malta a base calce NHL per interventi di restauro e rinforzo strutturale di elementi in muratura | Q64: 17 | R64: 4 | S64: =Q64*R64 -> 68 | T64: 0.604 | U64: FBDPP | V64: 2.6 | W64: 5 | X64: FB-RC30-3-600 | Y64: 24.15 | Z64: =0.04*W64 -> 0.2 | AA64: =Z64/0.6 -> 0.33333333 | AB64: 32.16 | AC64: 26.72 | AG64: Applicazione rete e connettori | AH64: 0.25 | AI64: 0.18 | AJ64: Applicazione intonaco | AK64: 0.4 | AL64: 0.33 | AM64: FBANG99X99T96AR | AN64: L’eventuale rimozione e scrostamento dell’intonaco preesistente, | AO64: 0.28 | AP64: 0.2 | AQ64: 1.96 | AR64: 8 | AS64: sulla superficie d’estradosso di cappa tramite malta | AU64: FBANG99X99T96AR | AV64: L’eventuale rimozione e scrostamento dell’intonaco preesistente, i ponteggi, impalcature e/o attrezzature necessarie all’esecuzione dei lavori e le eventuali coperture installate a protezione degli agenti atmosferici e quant’altro non specificato. | AW64: 1.96
A65: in folio | B65: intradosso | D65: FBMESH99X99T96ARFORCE | E65: 99x99 | F65: 0 | G65: 10 | H65: 806 | I65: 7.05 | J65: 44600 | K65: 6.2 | L65: 0.31 | M65: 13.6 | N65: RZ 215 | O65: MATERIA RINFORZA – RZ 215 | P65: malta a base di leganti idraulici per interventi di restauro e rinforzo strutturale di elementi in muratura | Q65: 17 | R65: 4 | S65: =Q65*R65 -> 68 | T65: 0.498 | U65: FBDPP | V65: 2.6 | W65: 5 | X65: FB-RC30-3-600 | Y65: 24.15 | Z65: =0.04*W65 -> 0.2 | AA65: =Z65/0.6 -> 0.33333333 | AB65: 32.16 | AC65: 26.72 | AG65: Applicazione rete e connettori | AH65: 0.25 | AI65: 0.18 | AJ65: Applicazione intonaco | AK65: 0.4 | AL65: 0.33 | AM65: FBANG99X99T96AR | AN65: L’eventuale rimozione e scrostamento dell’intonaco preesistente, | AO65: 0.28 | AP65: 0.2 | AQ65: 1.96 | AR65: 8 | AS65: sulla superficie d’estradosso di cappa tramite malta | AU65: FBANG99X99T96AR | AV65: L’eventuale rimozione e scrostamento dell’intonaco preesistente, i ponteggi, impalcature e/o attrezzature necessarie all’esecuzione dei lavori e le eventuali coperture installate a protezione degli agenti atmosferici e quant’altro non specificato. | AW65: 1.96
